BEGIN:VCALENDAR
VERSION:2.0
PRODID:-//ChamberMaster//Event Calendar 2.0//EN
METHOD:PUBLISH
X-PUBLISHED-TTL:P3D
REFRESH-INTERVAL:P3D
CALSCALE:GREGORIAN
BEGIN:VEVENT
DTSTART:20230415T170000Z
DTEND:20230415T200000Z
X-MICROSOFT-CDO-ALLDAYEVENT:FALSE
SUMMARY:First Annual Harry K Foundation Chocolate Crawl
DESCRIPTION:The Harry K Foundation is excited to announce its First Annual Harry K Foundation Chocolate Crawl. Taste your way through downtown Rehoboth on Saturday\, April 15th\, 2023\, from 1:00 pm until 4:00 pm to sample chocolate treats! Over twenty restaurants and retailers will offer bite-sized chocolate surprises. Sample their treats such as candy\, baked goods\, beer\, cocktails\, beverages\, and ice cream before voting for your favorite. Trophies will be awarded to 1st\, 2nd\, and 3rd place winners.\n\n\n\nTickets\, $25 for adults and $10 for children 10 and under\, are on sale at HarryKFoundation.org. Proceeds from the Chocolate Crawl will benefit the Harry K Foundation's mission to halt hunger and food insecurity for the children of Delaware. Questions? Contact Robyn Rosenfeld-Aburrow @ 301-807-2304.
X-ALT-DESC;FMTTYPE=text/html:The Harry K Foundation is excited to announce its First Annual Harry K Foundation Chocolate Crawl. Taste your way through downtown Rehoboth on Saturday\, April 15th\, 2023\, from 1:00 pm until 4:00 pm to sample chocolate treats! Over twenty restaurants and retailers will offer bite-sized chocolate surprises. Sample their treats such as candy\, baked goods\, beer\, cocktails\, beverages\, and ice cream before voting for your favorite. Trophies will be awarded to 1st\, 2nd\, and 3rd place winners.<br />\n<br />\nTickets\, $25 for adults and $10 for children 10 and under\, are on sale at HarryKFoundation.org. Proceeds from the Chocolate Crawl will benefit the Harry K Foundation&rsquo\;s mission to halt hunger and food insecurity for the children of Delaware. Questions? Contact Robyn Rosenfeld-Aburrow @ 301-807-2304.
LOCATION:Downtown Rehoboth Beach DE
UID:e.2126.25173
SEQUENCE:3
DTSTAMP:20260421T040340Z
URL:http://business.thequietresorts.com/events/details/first-annual-harry-k-foundation-chocolate-crawl-25173
END:VEVENT

END:VCALENDAR
