BEGIN:VCALENDAR
VERSION:2.0
PRODID:-//ChamberMaster//Event Calendar 2.0//EN
METHOD:PUBLISH
X-PUBLISHED-TTL:P3D
REFRESH-INTERVAL:P3D
CALSCALE:GREGORIAN
BEGIN:VEVENT
DTSTART;VALUE=DATE:20220211
DTEND;VALUE=DATE:20220214
TRANSP:TRANSPARENT
X-MICROSOFT-CDO-ALLDAYEVENT:TRUE
SUMMARY:Fire & Ice Rock n' Roll - Salted Vines Vineyard & Winery Happenings
DESCRIPTION:Stop by Salted Vines Vineyard & Winery for 3 fun filled days of live music and wine tasting using their 900lb custom ice luge. Wine tastings will be available at 1:00 pm on Saturday\, February 12.\n\n\n\nLive Music\n\nFriday\, February 11th\n\nPat O'Brennan: 5:00pm - 8:00pm\n\n\n\nSaturday\, February 12th\n\nTim Jaudon: 1:00pm - 4:00pm\n\n\n\nFire & Ice Luge Specialty Drink\, "Rock'n Berry Blast " starting at 1pm\n\nCome pour your Rockin' Berry Blast down our Salted Vines Ice Luge!\n\n\n\nSunday\, February 13th\n\nBlue Wave Music: 1:00pm - 4:00pm\n\n\n\nFor more information and activities happening during the Fire & Ice Festival\, click here to check out our event webpage!
X-ALT-DESC;FMTTYPE=text/html:<span style="font-family:arial\;"><span style="font-size:14px\;">Stop by Salted Vines Vineyard &amp\; Winery for 3 fun filled days of live music and wine tasting using their 900lb custom ice luge. Wine tastings will be available at 1:00 pm on Saturday\, February 12.</span></span><br />\n<br />\n<span style="font-family:arial\;"><span style="font-size:14px\;"><strong><span style="color:#0000FF\;">Live Music</span></strong></span></span><br />\n<strong><span style="font-family:arial\;"><span style="font-size:14px\;">Friday\, February 11th</span></span></strong><br />\n<span style="font-family:arial\;"><span style="font-size:14px\;">Pat O&#39\;Brennan: 5:00pm - 8:00pm<br />\n<br />\n<strong>Saturday\, February 12th</strong><br />\nTim Jaudon: 1:00pm - 4:00pm</span></span><br />\n<br />\n<span style="font-family:arial\;"><span style="font-size:14px\;">Fire &amp\; Ice Luge Specialty Drink\,<span style="color:#0000FF\;"> &quot\;Rock&#39\;n Berry Blast &quot\;</span> starting at 1pm</span></span><br />\n<span style="color: rgb(51\, 51\, 51)\; font-family: arial\; font-size: 14px\; background-color: rgb(255\, 255\, 255)\;">Come pour your Rockin&#39\; Berry Blast down our Salted Vines Ice Luge!</span><br />\n<br />\n<span style="font-family:arial\;"><span style="font-size:14px\;"><strong>Sunday\, February 13th</strong><br />\nBlue Wave Music: 1:00pm - 4:00pm</span></span><br />\n<br />\n<span style="box-sizing: content-box\; inset: auto\; clear: none\; content: normal\; direction: inherit\; empty-cells: show\; font-variant-numeric: inherit\; font-variant-east-asian: inherit\; font-stretch: inherit\; font-size: 14px\; line-height: inherit\; margin: 0px\; max-height: none\; max-width: none\; min-height: initial\; min-width: initial\; opacity: 1\; outline-offset: 0px\; overflow: visible\; padding: 0px\; position: static\; resize: none\; table-layout: auto\; text-overflow: clip\; vertical-align: baseline\; visibility: inherit\; word-break: inherit\; overflow-wrap: inherit\; z-index: auto\; background-image: none\; background-position: initial\; background-size: initial\; background-repeat: initial\; background-attachment: initial\; background-origin: initial\; background-clip: initial\; border-width: initial\; border-style: none\; border-color: initial\; border-collapse: separate\; border-image: none 100% 1 0 / 1 / 0 stretch\; border-radius: 0px\; height: auto\; width: auto\; box-shadow: none\;">For more information and activities happening during the Fire &amp\; Ice Festival\, click&nbsp\;</span><span style="font-size:14px\;"><span style="font-family:arial\;"><a href="https://fireandicede.com/" style="box-sizing: content-box\; text-decoration-line: none\; transition: all 0.2s ease 0s\; background-image: none\; background-position: initial\; background-size: initial\; background-repeat: initial\; background-attachment: initial\; background-origin: initial\; background-clip: initial\; outline: none 0px\; -webkit-tap-highlight-color: rgba(0\, 0\, 0\, 0.3)\; inset: auto\; clear: none\; content: normal\; direction: inherit\; display: inline\; empty-cells: show\; float: none\; font-variant-numeric: inherit\; font-variant-east-asian: inherit\; font-stretch: inherit\; line-height: inherit\; margin: 0px\; max-height: none\; max-width: none\; min-height: initial\; min-width: initial\; opacity: 1\; outline-offset: 0px\; overflow: visible\; padding: 0px\; position: static\; resize: none\; table-layout: auto\; text-overflow: clip\; vertical-align: baseline\; visibility: inherit\; word-break: inherit\; overflow-wrap: break-word\; z-index: auto\; border-width: initial\; border-style: none\; border-color: initial\; border-collapse: separate\; border-image: none 100% 1 0 / 1 / 0 stretch\; border-radius: 0px\; height: auto\; width: auto\; box-shadow: none\;" target="_blank">here</a></span></span><span style="box-sizing: content-box\; inset: auto\; clear: none\; content: normal\; direction: inherit\; empty-cells: show\; font-variant-numeric: inherit\; font-variant-east-asian: inherit\; font-stretch: inherit\; font-size: 14px\; line-height: inherit\; margin: 0px\; max-height: none\; max-width: none\; min-height: initial\; min-width: initial\; opacity: 1\; outline-offset: 0px\; overflow: visible\; padding: 0px\; position: static\; resize: none\; table-layout: auto\; text-overflow: clip\; vertical-align: baseline\; visibility: inherit\; word-break: inherit\; overflow-wrap: inherit\; z-index: auto\; background-image: none\; background-position: initial\; background-size: initial\; background-repeat: initial\; background-attachment: initial\; background-origin: initial\; background-clip: initial\; border-width: initial\; border-style: none\; border-color: initial\; border-collapse: separate\; border-image: none 100% 1 0 / 1 / 0 stretch\; border-radius: 0px\; height: auto\; width: auto\; box-shadow: none\;">&nbsp\;to check out our event webpage!&nbsp\;</span>
LOCATION:Salted Vines Vineyard & Winery 32512 Blackwater Rd Frankford\, DE 19945
UID:e.2126.23403
SEQUENCE:3
DTSTAMP:20260424T053945Z
URL:http://business.thequietresorts.com/events/details/fire-ice-rock-n-roll-salted-vines-vineyard-winery-happenings-23403
END:VEVENT

END:VCALENDAR
