BEGIN:VCALENDAR
VERSION:2.0
PRODID:-//ChamberMaster//Event Calendar 2.0//EN
METHOD:PUBLISH
X-PUBLISHED-TTL:P3D
REFRESH-INTERVAL:P3D
CALSCALE:GREGORIAN
BEGIN:VEVENT
DTSTART:20220212T160000Z
DTEND:20220212T200000Z
X-MICROSOFT-CDO-ALLDAYEVENT:FALSE
SUMMARY:Fire & Ice "Rock 'n' Roll" Chili Cookoff
DESCRIPTION:Limited tickets will be available for purchase at the John West Park Info Hub beginning Friday\, the 11th from 12 - 8pm.\n\n\n\nChili Cookoff\n\nCelebrate Fire & Ice weekend with a Rockin' Chili Cookoff and a little friendly competition sponsored by the Town of Millville. Warm up and try some of the best tasting chili in the area. Chili will be judged by 3 categories:\n\n    - Meat\n\n    - Bean\n\n    - Vegan \n\n    *Additional People's Choice Award will be given\n\n\n\nConfirmed Participants:\n\n\n	Bethany Blues\n	Bethany Boathouse\n	Blue Coast\n	Hooked Up \n	Northeast Seafood\n	The Cottage Cafe\n\n Ticket Cost:  \n\n    - Adults: $10\n\n    - Children 6-12: $5\n\n    - Children 5 and under: FREE\n\n\n\nTicket Includes: Chili tastings\, cornbread and saltines\, your choice of beverage (water\, soda\, tea)\, cash bar\, ice sculpture\, music\, a commemorative beer koozie\, and some Rock 'n' Roll. Tickets also serve as raffle tickets towards the SOLO Fire Pit donated by Banks Wines & Spirits. All ticket sales will benefit Millville Volunteer Fire Company.\n\n\n\nCheck other Festival Happenings below:\n\n    - Town Happenings\n\n    - Tour de Fuego\n\n    - Fire & Ice Festival \n\n    - Millville Boardwalk\n\n\n\nFor a printable flyer\, please click here.\n\n\n\nIf you would like to compete in the Fire & Ice - "Rock 'n Roll" Chili Cookoff\, please contact Michele Steffens at millvillevfc@gmail.com for more information.
X-ALT-DESC;FMTTYPE=text/html:<div style="font-family: arial\;"><strong style="color: rgb(255\, 0\, 0)\; font-family: sans-serif\, Arial\, Verdana\, &quot\;Trebuchet MS&quot\;\; font-size: 14px\; background-color: rgb(255\, 255\, 255)\;">Limited tickets will be available for purchase at the John West Park Info Hub beginning Friday\, the 11th from 12 - 8pm.</strong><br />\n<br />\n<span style="font-size:14px\;"><strong><span style="font-size:16px\;">Chili Cookoff</span></strong><br />\nCelebrate Fire &amp\; Ice weekend with a <em>Rockin&#39\;</em>&nbsp\;Chili Cookoff and a little friendly competition sponsored by the Town of Millville. Warm up and try some of the best tasting chili in the area. Chili will be judged by 3 categories:<br />\n&nbsp\;&nbsp\;&nbsp\;&nbsp\;-&nbsp\;Meat<br />\n&nbsp\;&nbsp\;&nbsp\;&nbsp\;-&nbsp\;Bean<br />\n&nbsp\;&nbsp\;&nbsp\;&nbsp\;-&nbsp\;Vegan&nbsp\;<br />\n&nbsp\;&nbsp\;&nbsp\;&nbsp\;<em>*Additional&nbsp\;People&#39\;s Choice Award will be given</em><br />\n<br />\n<strong>Confirmed Participants:</strong></span></div>\n\n<ul>\n	<li style="font-family: arial\;"><span style="font-size:14px\;"><span style="font-family:arial\;">Bethany Blues</span></span></li>\n	<li style="font-family: arial\;"><span style="font-size:14px\;"><span style="font-family:arial\;">Bethany Boathouse</span></span></li>\n	<li style="font-family: arial\;"><span style="font-size:14px\;"><span style="font-family:arial\;">Blue Coast</span></span></li>\n	<li style="font-family: arial\;"><span style="font-size:14px\;"><span style="font-family:arial\;">Hooked Up&nbsp\;</span></span></li>\n	<li style="font-family: arial\;"><span style="font-size:14px\;"><span style="font-family:arial\;">Northeast Seafood</span></span></li>\n	<li style="font-family: arial\;"><span style="font-size:14px\;"><span style="font-family:arial\;">The Cottage Cafe</span></span></li>\n</ul>\n<span style="font-family:arial\;"><span style="font-size:14px\;"><span style="font-size:16px\;"><strong><em>&#8203\;</em>Ticket Cost:&nbsp\;&nbsp\;</strong></span><br />\n&nbsp\; &nbsp\; -&nbsp\;Adults: $10<br />\n&nbsp\; &nbsp\; -&nbsp\;Children 6-12: $5<br />\n&nbsp\; &nbsp\; -&nbsp\;Children 5 and under: FREE<br />\n<br />\n<b><span style="font-size:16px\;">Ticket Includes:</span>&nbsp\;</b>Chili tastings\, cornbread and saltines\, your choice of beverage (water\, soda\, tea)\, cash bar\, ice sculpture\, music\, a commemorative beer koozie\, and some Rock &#39\;n&#39\; Roll. Tickets also serve as raffle tickets towards the SOLO Fire Pit donated by Banks Wines &amp\; Spirits. All ticket sales will benefit Millville Volunteer Fire Company.<br />\n<br />\nCheck other Festival Happenings below:<br />\n&nbsp\;&nbsp\;&nbsp\;&nbsp\;-&nbsp\;<a href="https://business.bethany-fenwick.org/events/details/fire-ice-festival-rock-n-roll-town-of-millville-happenings-23125" target="_blank"><span style="color:#0000FF\;"><span background-color:="" trebuchet="">Town Happenings</span></span></a></span></span><br style="font-family: arial\; font-size: 14px\;" />\n<span style="font-family: arial\; font-size: 14px\;">&nbsp\;&nbsp\;&nbsp\;&nbsp\;-&nbsp\;</span><a href="https://business.bethany-fenwick.org/events/details/fire-ice-rock-n-roll-festival-tour-de-fuego-23123" style="font-family: arial\; font-size: 14px\;" target="_blank"><span style="color:#0000FF\;"><span background-color:="" trebuchet="">Tour de Fuego</span></span></a><br />\n&nbsp\; &nbsp\; -&nbsp\;<a href="http://fireandicede.com" target="_blank"><span style="color:#0000FF\;"><span style="font-size:14px\;"><span style="font-family:arial\;">Fire &amp\; Ice Festival&nbsp\;</span></span></span></a><br />\n&nbsp\;&nbsp\;&nbsp\;&nbsp\;<span style="font-family:arial\;"><span style="font-size:14px\;">- <a href="https://business.bethany-fenwick.org/events/details/fire-ice-festival-rock-n-roll-millville-boardwalk-happenings-23326" target="_blank"><span style="color:#0000FF\;">Millville Boardwalk</span></a></span></span><br />\n<br />\n<span style="font-size:14px\;"><span style="font-family:arial\;">For a printable flyer\, please <a href="https://chambermaster.blob.core.windows.net/userfiles/UserFiles/chambers/2126/File/Fire_Ice/2022/ChiliCookoff2022USE-compressed-compressed.pdf" target="_blank">click here</a>.</span></span><br />\n<br />\n<span style="font-size:14px\;"><span style="font-family:arial\;">If you would like to compete in the Fire &amp\; Ice - &quot\;Rock &#39\;n Roll&quot\; Chili Cookoff\, please contact Michele Steffens at&nbsp\;<a href="mailto:millvillevfc@gmail.com">millvillevfc@gmail.com</a>&nbsp\;for more information.</span></span>
LOCATION:Evans Park Community Center 32517 Dukes Drive Millville\, DE 19967
UID:e.2126.23305
SEQUENCE:3
DTSTAMP:20260424T054716Z
URL:http://business.thequietresorts.com/events/details/fire-ice-rock-n-roll-chili-cookoff-23305
END:VEVENT

END:VCALENDAR
