BEGIN:VCALENDAR
VERSION:2.0
PRODID:-//ChamberMaster//Event Calendar 2.0//EN
METHOD:PUBLISH
X-PUBLISHED-TTL:P3D
REFRESH-INTERVAL:P3D
CALSCALE:GREGORIAN
BEGIN:VEVENT
DTSTART;VALUE=DATE:20200124
DTEND;VALUE=DATE:20200127
TRANSP:TRANSPARENT
X-MICROSOFT-CDO-ALLDAYEVENT:TRUE
SUMMARY:Fire & Ice "Out of this World" Drink Tasting Tour
DESCRIPTION:Fire & Ice Drink Tasting Tour\n\nTasting Tour tickets are available for purchase at the Information Tent in downtown Bethany Beach and at the following participating restaurants:\n\n\n	Good Earth Market- 31806 Good Earth Ln\, Ocean View\, DE 19970\n	The Den at Bear Trap Dunes- Club House Dr\, Ocean View\, DE 19970\n	Bethany Blues- 6 N Pennsylvania Ave\, Bethany Beach\, DE 19930\n	Zoca- 98 Garfield Pkwy\, Bethany Beach\, DE 19930\n	The Cottage Caf - 33034 Coastal Hwy\, Bethany Beach\, DE 19930\n\n\n\n\nDuring Fire & Ice Festival weekend\, purchase a Tasting Tour Card for $20. Bring this card to each participating restaurant to taste it's signature Fire & Ice "Out of this World" themed cocktail. The drink card will be honored throughout the weekend. In addition to the drink tasting\, stay and view the unique ice feature at each establishment that will be displayed all weekend long.\n\n\n\nOnline ticket sales will be available until January 24. Onsite ticket sales will also be available during the Fire & Ice Festival January 24 - 26 at the Information Tent in Bethany Beach. The Tasting Tour proceeds benefit the new Nemours duPont Pediatrics & SeniorCare\, Sussex Campus.\n\n\n\nMake sure to follow us on social media for the most up-to-date information on the event.\n\n\n\nMake sure to follow Nemours duPont Pediatrics & Senior Care\, Sussex Campus on Facebook. Do you have a story about Nemours that you would like to share? Sharing the compelling\, heartwarming and even difficult\, yet positive\, experiences that their patients and families have had at Nemours is an integral part of their fundraising! Please click here to share your story!\n\n\n\nFire & Ice Festival - Out of this World\n\nExperience unique\, interactive sculptures in Bethany Beach\, Ocean View\, and Millville. The weekend will be full of family-friendly activities\, including a live sculpture demonstration\, beach bonfires\, and\, of course\, a seasonal stop at your favorite shops\, restaurants\, and businesses. For full details\, please click here or visit fireandicede.com.\n\nAll sales are final. Refunds will not be provided.
X-ALT-DESC;FMTTYPE=text/html:<p><span style="font-size: 14px\;"><span style="font-family: arial\;"><span style="text-transform: none\; text-indent: 0px\; letter-spacing: normal\; font-style: normal\; font-weight: 400\; word-spacing: 0px\; float: none\; display: inline !important\; white-space: normal\; orphans: 2\; widows: 2\; -webkit-text-stroke-width: 0px\; font-variant-ligatures: normal\; font-variant-caps: normal\; text-decoration-style: initial\; text-decoration-color: initial\;"><strong>Fire &amp\; Ice Drink Tasting Tour<br />\n<span style="color: rgb(255\, 0\, 0)\;">Tasting Tour tickets are available for purchase at the Information Tent in downtown Bethany Beach and at the following participating restaurants:</span></strong></span></span></span></p>\n\n<ul>\n	<li><strong><span style="font-family: arial\;"><span style="font-size: 14px\;"><font color="#ff0000">Good Earth Market- 31806 Good Earth Ln\, Ocean View\, DE 19970</font></span></span></strong></li>\n	<li><strong><span style="font-family: arial\;"><span style="font-size: 14px\;"><font color="#ff0000">The Den at Bear Trap Dunes- Club House Dr\, Ocean View\, DE 19970</font></span></span></strong></li>\n	<li><span style="font-size: 14px\;"><span style="font-family: arial\;"><span style="color: rgb(255\, 0\, 0)\;"><strong>Bethany Blues- 6 N Pennsylvania Ave\, Bethany Beach\, DE 19930</strong></span></span></span></li>\n	<li><span style="font-size: 14px\;"><span style="font-family: arial\;"><span style="color: rgb(255\, 0\, 0)\;"><strong>Zoca- 98 Garfield Pkwy\, Bethany Beach\, DE 19930</strong></span></span></span></li>\n	<li><span style="font-size: 14px\;"><span style="font-family: arial\;"><span style="color: rgb(255\, 0\, 0)\;"><strong>The Cottage Caf&eacute\;- 33034 Coastal&nbsp\;Hwy\, Bethany Beach\, DE 19930</strong></span></span></span></li>\n</ul>\n\n<p><br />\n<span style="font-size: 14px\;"><span style="font-family: arial\;"><span style="text-transform: none\; text-indent: 0px\; letter-spacing: normal\; font-style: normal\; font-weight: 400\; word-spacing: 0px\; float: none\; display: inline !important\; white-space: normal\; orphans: 2\; widows: 2\; -webkit-text-stroke-width: 0px\; font-variant-ligatures: normal\; font-variant-caps: normal\; text-decoration-style: initial\; text-decoration-color: initial\;">During&nbsp\;Fire &amp\; Ice&nbsp\;Festival weekend\, purchase a Tasting Tour Card for $20. Bring this&nbsp\;card to each participating restaurant to taste&nbsp\;it&#39\;s signature Fire &amp\; Ice &quot\;Out of this World&quot\; themed cocktail. The drink card will be honored throughout the weekend. In addition to the drink tasting\, stay and view the unique&nbsp\;ice feature at each establishment that will be displayed all weekend long.<br />\n<br />\nOnline ticket sales will be available until January 24. Onsite ticket sales will also be available during the Fire &amp\; Ice Festival January 24 - 26 at the Information Tent in Bethany Beach. The&nbsp\;Tasting Tour&nbsp\;proceeds benefit the new&nbsp\;Nemours duPont Pediatrics &amp\; SeniorCare\, Sussex Campus.<br />\n<br />\nMake sure to follow us on social media for the most up-to-date information on the event.</span></span></span><br />\n<br />\n<span style="text-align: left\; color: rgb(37\, 32\, 26)\; text-transform: none\; text-indent: 0px\; letter-spacing: normal\; font-family: arial\; font-size: 14px\; font-style: normal\; font-weight: 400\; word-spacing: 0px\; float: none\; display: inline !important\; white-space: normal\; orphans: 2\; widows: 2\; background-color: rgb(255\, 255\, 255)\; -webkit-text-stroke-width: 0px\; font-variant-ligatures: normal\; font-variant-caps: normal\; text-decoration-style: initial\; text-decoration-color: initial\;">Make sure to follow Nemours duPont Pediatrics &amp\; Senior Care\, Sussex Campus on<span>&nbsp\;</span></span><strong style="background: rgb(255\, 255\, 255)\; margin: 0px\; padding: 0px\; border-radius: 0px\; border: currentColor\; border-image: none\; left: auto\; top: auto\; width: auto\; height: auto\; text-align: left\; right: auto\; bottom: auto\; color: rgb(37\, 32\, 26)\; text-transform: none\; line-height: inherit\; text-indent: 0px\; letter-spacing: normal\; overflow: visible\; clear: none\; font-family: arial\; font-size: 14px\; font-style: normal\; font-weight: bolder\; text-decoration: none\; word-spacing: 0px\; vertical-align: baseline\; float: none\; display: inline\; white-space: normal\; visibility: inherit\; border-collapse: separate\; position: static\; z-index: auto\; table-layout: auto\; direction: inherit\; -ms-word-break: inherit\; -ms-text-overflow: clip\; max-height: none\; max-width: none\; content: normal\; box-sizing: content-box\; orphans: 2\; widows: 2\; empty-cells: show\; font-stretch: inherit\; opacity: 1\; box-shadow: none\; resize: none\; -webkit-text-stroke-width: 0px\; font-variant-ligatures: normal\; font-variant-caps: normal\; outline-offset: 0px\; font-variant-numeric: inherit\; font-variant-east-asian: inherit\; overflow-wrap: inherit\;"><a href="https://www.facebook.com/aiduponthospital/?epa=SEARCH_BOX" style="background: none\; font: inherit\; margin: 0px\; padding: 0px\; outline: 0px\; border-radius: 0px\; border: currentColor\; transition:0.2s\; border-image: none\; left: auto\; top: auto\; width: auto\; height: auto\; text-align: inherit\; right: auto\; bottom: auto\; color: rgb(83\, 116\, 153)\; text-transform: inherit\; text-indent: inherit\; letter-spacing: inherit\; overflow: visible\; clear: none\; text-decoration: none\; word-spacing: inherit\; vertical-align: baseline\; float: none\; display: inline\; white-space: inherit\; visibility: inherit\; border-collapse: separate\; position: static\; z-index: auto\; table-layout: auto\; direction: inherit\; -ms-word-break: inherit\; -ms-text-overflow: clip\; max-height: none\; max-width: none\; content: normal\; box-sizing: content-box\; empty-cells: show\; font-size-adjust: inherit\; font-stretch: inherit\; opacity: 1\; box-shadow: none\; resize: none\; -webkit-tap-highlight-color: rgba(0\, 0\, 0\, 0.3)\; outline-offset: 0px\; overflow-wrap: break-word\;" target="_blank">Facebook</a></strong><span style="text-align: left\; color: rgb(37\, 32\, 26)\; text-transform: none\; text-indent: 0px\; letter-spacing: normal\; font-family: arial\; font-size: 14px\; font-style: normal\; font-weight: 400\; word-spacing: 0px\; float: none\; display: inline !important\; white-space: normal\; orphans: 2\; widows: 2\; background-color: rgb(255\, 255\, 255)\; -webkit-text-stroke-width: 0px\; font-variant-ligatures: normal\; font-variant-caps: normal\; text-decoration-style: initial\; text-decoration-color: initial\;">. Do you have a story about Nemours that you would like to share?<span>&nbsp\;</span></span><span style="background: rgb(255\, 255\, 255)\; margin: 0px\; padding: 0px\; border-radius: 0px\; border: currentColor\; border-image: none\; left: auto\; top: auto\; width: auto\; height: auto\; text-align: left\; right: auto\; bottom: auto\; color: rgb(37\, 32\, 26)\; text-transform: none\; line-height: inherit\; text-indent: 0px\; letter-spacing: normal\; overflow: visible\; clear: none\; font-family: arial\; font-size: 14px\; font-style: normal\; font-weight: 400\; text-decoration: none\; word-spacing: 0px\; vertical-align: baseline\; float: none\; display: inline\; white-space: normal\; visibility: inherit\; border-collapse: separate\; position: static\; z-index: auto\; table-layout: auto\; direction: inherit\; -ms-word-break: inherit\; -ms-text-overflow: clip\; max-height: none\; max-width: none\; content: normal\; box-sizing: content-box\; orphans: 2\; widows: 2\; empty-cells: show\; font-stretch: inherit\; opacity: 1\; box-shadow: none\; resize: none\; -webkit-text-stroke-width: 0px\; font-variant-ligatures: normal\; font-variant-caps: normal\; outline-offset: 0px\; font-variant-numeric: inherit\; font-variant-east-asian: inherit\; overflow-wrap: inherit\;"><span style="background: none\; margin: 0px\; padding: 0px\; border-radius: 0px\; border: currentColor\; border-image: none\; left: auto\; top: auto\; width: auto\; height: auto\; text-align: inherit\; right: auto\; bottom: auto\; color: inherit\; text-transform: inherit\; line-height: inherit\; text-indent: inherit\; letter-spacing: inherit\; overflow: visible\; clear: none\; font-family: arial\; font-size: inherit\; font-style: inherit\; font-variant: inherit\; font-weight: inherit\; text-decoration: none\; word-spacing: inherit\; vertical-align: baseline\; float: none\; display: inline\; white-space: inherit\; visibility: inherit\; border-collapse: separate\; position: static\; z-index: auto\; table-layout: auto\; direction: inherit\; -ms-word-break: inherit\; -ms-text-overflow: clip\; max-height: none\; max-width: none\; content: normal\; box-sizing: content-box\; empty-cells: show\; font-stretch: inherit\; opacity: 1\; box-shadow: none\; resize: none\; outline-offset: 0px\; overflow-wrap: inherit\;"><font color="#222222" style="font-family: Muli\, sans-serif\; box-sizing: border-box\;"><font color="#222222" style="font-family: Muli\, sans-serif\; box-sizing: border-box\;"><font color="#222222" style="font-family: Muli\, sans-serif\; box-sizing: border-box\;">Sharing the<span>&nbsp\;</span></font></font></font><span style="background: none\; margin: 0px\; padding: 0px\; border-radius: 0px\; border: currentColor\; border-image: none\; left: auto\; top: auto\; width: auto\; height: auto\; text-align: inherit\; right: auto\; bottom: auto\; color: inherit\; text-transform: inherit\; line-height: inherit\; text-indent: inherit\; letter-spacing: inherit\; overflow: visible\; clear: none\; font-family: inherit\; font-size: 14px\; font-style: inherit\; font-variant: inherit\; font-weight: inherit\; text-decoration: none\; word-spacing: inherit\; vertical-align: baseline\; float: none\; display: inline\; white-space: inherit\; visibility: inherit\; border-collapse: separate\; position: static\; z-index: auto\; table-layout: auto\; direction: inherit\; -ms-word-break: inherit\; -ms-text-overflow: clip\; max-height: none\; max-width: none\; content: normal\; box-sizing: content-box\; empty-cells: show\; font-stretch: inherit\; opacity: 1\; box-shadow: none\; resize: none\; outline-offset: 0px\; overflow-wrap: inherit\;"><span style="background: none\; margin: 0px\; padding: 0px\; border-radius: 0px\; border: currentColor\; border-image: none\; left: auto\; top: auto\; width: auto\; height: auto\; text-align: inherit\; right: auto\; bottom: auto\; color: inherit\; text-transform: inherit\; line-height: inherit\; text-indent: inherit\; letter-spacing: inherit\; overflow: visible\; clear: none\; font-family: arial\; font-size: inherit\; font-style: inherit\; font-variant: inherit\; font-weight: inherit\; text-decoration: none\; word-spacing: inherit\; vertical-align: baseline\; float: none\; display: inline\; white-space: inherit\; visibility: inherit\; border-collapse: separate\; position: static\; z-index: auto\; table-layout: auto\; direction: inherit\; -ms-word-break: inherit\; -ms-text-overflow: clip\; max-height: none\; max-width: none\; content: normal\; box-sizing: content-box\; empty-cells: show\; font-stretch: inherit\; opacity: 1\; box-shadow: none\; resize: none\; outline-offset: 0px\; overflow-wrap: inherit\;"><font color="#222222" style="font-family: Muli\, sans-serif\; box-sizing: border-box\;"><font color="#222222" style="font-family: Muli\, sans-serif\; box-sizing: border-box\;"><font color="#222222" style="font-family: Muli\, sans-serif\; box-sizing: border-box\;">compelling\, heartwarming and even difficult\, yet positive\, experiences that&nbsp\;their<span>&nbsp\;</span></font></font></font></span></span><span style="background: none\; margin: 0px\; padding: 0px\; border-radius: 0px\; border: currentColor\; border-image: none\; left: auto\; top: auto\; width: auto\; height: auto\; text-align: inherit\; right: auto\; bottom: auto\; color: inherit\; text-transform: inherit\; line-height: inherit\; text-indent: inherit\; letter-spacing: inherit\; overflow: visible\; clear: none\; font-family: inherit\; font-size: 14px\; font-style: inherit\; font-variant: inherit\; font-weight: inherit\; text-decoration: none\; word-spacing: inherit\; vertical-align: baseline\; float: none\; display: inline\; white-space: inherit\; visibility: inherit\; border-collapse: separate\; position: static\; z-index: auto\; table-layout: auto\; direction: inherit\; -ms-word-break: inherit\; -ms-text-overflow: clip\; max-height: none\; max-width: none\; content: normal\; box-sizing: content-box\; empty-cells: show\; font-stretch: inherit\; opacity: 1\; box-shadow: none\; resize: none\; outline-offset: 0px\; overflow-wrap: inherit\;"><span style="background: none\; margin: 0px\; padding: 0px\; border-radius: 0px\; border: currentColor\; border-image: none\; left: auto\; top: auto\; width: auto\; height: auto\; text-align: inherit\; right: auto\; bottom: auto\; color: inherit\; text-transform: inherit\; line-height: inherit\; text-indent: inherit\; letter-spacing: inherit\; overflow: visible\; clear: none\; font-family: arial\; font-size: inherit\; font-style: inherit\; font-variant: inherit\; font-weight: inherit\; text-decoration: none\; word-spacing: inherit\; vertical-align: baseline\; float: none\; display: inline\; white-space: inherit\; visibility: inherit\; border-collapse: separate\; position: static\; z-index: auto\; table-layout: auto\; direction: inherit\; -ms-word-break: inherit\; -ms-text-overflow: clip\; max-height: none\; max-width: none\; content: normal\; box-sizing: content-box\; empty-cells: show\; font-stretch: inherit\; opacity: 1\; box-shadow: none\; resize: none\; outline-offset: 0px\; overflow-wrap: inherit\;"><font color="#222222" style="font-family: Muli\, sans-serif\; box-sizing: border-box\;"><font color="#222222" style="font-family: Muli\, sans-serif\; box-sizing: border-box\;"><font color="#222222" style="font-family: Muli\, sans-serif\; box-sizing: border-box\;">patients and families have had at Nemours is an integral part of their<span>&nbsp\;</span></font></font></font></span></span><span style="background: none\; margin: 0px\; padding: 0px\; border-radius: 0px\; border: currentColor\; border-image: none\; left: auto\; top: auto\; width: auto\; height: auto\; text-align: inherit\; right: auto\; bottom: auto\; color: inherit\; text-transform: inherit\; line-height: inherit\; text-indent: inherit\; letter-spacing: inherit\; overflow: visible\; clear: none\; font-family: inherit\; font-size: 14px\; font-style: inherit\; font-variant: inherit\; font-weight: inherit\; text-decoration: none\; word-spacing: inherit\; vertical-align: baseline\; float: none\; display: inline\; white-space: inherit\; visibility: inherit\; border-collapse: separate\; position: static\; z-index: auto\; table-layout: auto\; direction: inherit\; -ms-word-break: inherit\; -ms-text-overflow: clip\; max-height: none\; max-width: none\; content: normal\; box-sizing: content-box\; empty-cells: show\; font-stretch: inherit\; opacity: 1\; box-shadow: none\; resize: none\; outline-offset: 0px\; overflow-wrap: inherit\;"><span style="background: none\; margin: 0px\; padding: 0px\; border-radius: 0px\; border: currentColor\; border-image: none\; left: auto\; top: auto\; width: auto\; height: auto\; text-align: inherit\; right: auto\; bottom: auto\; color: inherit\; text-transform: inherit\; line-height: inherit\; text-indent: inherit\; letter-spacing: inherit\; overflow: visible\; clear: none\; font-family: arial\; font-size: inherit\; font-style: inherit\; font-variant: inherit\; font-weight: inherit\; text-decoration: none\; word-spacing: inherit\; vertical-align: baseline\; float: none\; display: inline\; white-space: inherit\; visibility: inherit\; border-collapse: separate\; position: static\; z-index: auto\; table-layout: auto\; direction: inherit\; -ms-word-break: inherit\; -ms-text-overflow: clip\; max-height: none\; max-width: none\; content: normal\; box-sizing: content-box\; empty-cells: show\; font-stretch: inherit\; opacity: 1\; box-shadow: none\; resize: none\; outline-offset: 0px\; overflow-wrap: inherit\;"><font color="#222222" style="font-family: Muli\, sans-serif\; box-sizing: border-box\;"><font color="#222222" style="font-family: Muli\, sans-serif\; box-sizing: border-box\;"><font color="#222222" style="font-family: Muli\, sans-serif\; box-sizing: border-box\;">fundraising! Please<span>&nbsp\;</span><strong style="background: none\; margin: 0px\; padding: 0px\; border-radius: 0px\; border: currentColor\; border-image: none\; left: auto\; top: auto\; width: auto\; height: auto\; text-align: inherit\; right: auto\; bottom: auto\; color: inherit\; text-transform: inherit\; line-height: inherit\; text-indent: inherit\; letter-spacing: inherit\; overflow: visible\; clear: none\; font-family: inherit\; font-size: inherit\; font-style: inherit\; font-variant: inherit\; font-weight: bolder\; text-decoration: none\; word-spacing: inherit\; vertical-align: baseline\; float: none\; display: inline\; white-space: inherit\; visibility: inherit\; border-collapse: separate\; position: static\; z-index: auto\; table-layout: auto\; direction: inherit\; -ms-word-break: inherit\; -ms-text-overflow: clip\; max-height: none\; max-width: none\; content: normal\; box-sizing: content-box\; empty-cells: show\; font-stretch: inherit\; opacity: 1\; box-shadow: none\; resize: none\; outline-offset: 0px\; overflow-wrap: inherit\;"><a href="https://chambermaster.blob.core.windows.net/userfiles/UserFiles/chambers/2126/File/Fire_Ice/2020/NemoursShareYourStory.pdf" style="background: none\; font: inherit\; margin: 0px\; padding: 0px\; outline: 0px\; border-radius: 0px\; border: currentColor\; transition:0.2s\; border-image: none\; left: auto\; top: auto\; width: auto\; height: auto\; text-align: inherit\; right: auto\; bottom: auto\; color: rgb(83\, 116\, 153)\; text-transform: inherit\; text-indent: inherit\; letter-spacing: inherit\; overflow: visible\; clear: none\; text-decoration: none\; word-spacing: inherit\; vertical-align: baseline\; float: none\; display: inline\; white-space: inherit\; visibility: inherit\; border-collapse: separate\; position: static\; z-index: auto\; table-layout: auto\; direction: inherit\; -ms-word-break: inherit\; -ms-text-overflow: clip\; max-height: none\; max-width: none\; content: normal\; box-sizing: content-box\; empty-cells: show\; font-size-adjust: inherit\; font-stretch: inherit\; opacity: 1\; box-shadow: none\; resize: none\; -webkit-tap-highlight-color: rgba(0\, 0\, 0\, 0.3)\; outline-offset: 0px\; overflow-wrap: break-word\;" target="_blank">click here</a></strong><span>&nbsp\;</span>to share your story!</font></font></font></span></span></span></span><br />\n<br />\n<span style="font-size: 14px\;"><span style="font-family: arial\;"><span style="text-transform: none\; text-indent: 0px\; letter-spacing: normal\; font-style: normal\; font-weight: 400\; word-spacing: 0px\; float: none\; display: inline !important\; white-space: normal\; orphans: 2\; widows: 2\; -webkit-text-stroke-width: 0px\; font-variant-ligatures: normal\; font-variant-caps: normal\; text-decoration-style: initial\; text-decoration-color: initial\;"><strong>Fire &amp\; Ice Festival - Out of this World</strong></span><br />\n<span style="text-align: left\; color: rgb(37\, 32\, 26)\; text-transform: none\; text-indent: 0px\; letter-spacing: normal\; font-style: normal\; font-weight: 400\; word-spacing: 0px\; float: none\; display: inline !important\; white-space: normal\; orphans: 2\; widows: 2\; background-color: rgb(255\, 255\, 255)\; -webkit-text-stroke-width: 0px\; font-variant-ligatures: normal\; font-variant-caps: normal\; text-decoration-style: initial\; text-decoration-color: initial\;">Experience unique\, interactive sculptures in Bethany Beach\, Ocean View\, and Millville. The weekend will be full of&nbsp\;family-friendly activities\, including a live sculpture demonstration\, beach bonfires\, and\, of course\, a seasonal stop at your favorite shops\, restaurants\, and businesses. For full details\, please <strong><a href="http://business.bethany-fenwick.org/events/details/fire-ice-festival-out-of-this-world-17245" target="_blank"><font color="#0066cc">click here</font></a> </strong>or visit <strong><a href="https://fireandicede.com/" target="_blank"><font color="#0066cc">fireandicede.com</font></a></strong>.</span></span></span></p>\n\n<p><strong style="font-family: arial\; font-size: 14px\;">All sales are final. Refunds will not be provided.</strong></p>\n
LOCATION:Participating restaurants. Locations will be posted as confirmed. 99 Sea Level: 99 Hollywood St\, Bethany Beach\, DE 19930 Bethany Blues: 6 North Pennsylvania Ave\, Bethany Beach\, DE 19930 The Cottage Caf : 33034 Coastal Hwy\, Bethany Beach\, DE 19930 The Den: 7 Club House Rd\, Ocean View\, DE 19970 Zoca: 98 Garfield Pkwy\, Bethany Beach\, DE 19930 Good Earth Market: 31806 Good Earth Ln\, Ocean View\, DE 19970
UID:e.2126.19454
SEQUENCE:3
DTSTAMP:20260426T021001Z
URL:http://business.thequietresorts.com/events/details/fire-ice-out-of-this-world-drink-tasting-tour-19454
END:VEVENT

END:VCALENDAR
