BEGIN:VCALENDAR
VERSION:2.0
PRODID:-//ChamberMaster//Event Calendar 2.0//EN
METHOD:PUBLISH
X-PUBLISHED-TTL:P3D
REFRESH-INTERVAL:P3D
CALSCALE:GREGORIAN
BEGIN:VEVENT
DTSTART:20230129T160000Z
DTEND:20230129T220000Z
X-MICROSOFT-CDO-ALLDAYEVENT:FALSE
SUMMARY:Fire & Ice "Lights\, Camera\, Action!" - Clayton Theatre
DESCRIPTION:What's a Hollywood-themed festival without a chance to go to the movies? Sponsored by Heather's Home Works\, the charming Dagsboro Clayton Theatre will be showing matinees on Sunday January 29th. Ice sculptures will be on site. Visit the Clayton Theatre website to learn more about Delaware's only single-screen theater. Proceeds will benefit the theater. Tickets can be purchased here. \n\n\n\nTwo Classic Fire & Ice Featured Matinees:\n\n\n\n12:00 PM SHOWING\n\nIce Age (PG)\n\n\n\n3:00 PM SHOWING\n\nTowering Inferno (PG)
X-ALT-DESC;FMTTYPE=text/html:What&#39\;s a Hollywood-themed festival without a chance to go to the movies? Sponsored by Heather&#39\;s Home Works\, the charming Dagsboro Clayton Theatre will be showing matinees on Sunday January 29th. Ice sculptures will be on site. Visit the Clayton Theatre&nbsp\;<a href="https://www.theclaytontheatre.com/about-us">website</a> to learn more about Delaware&#39\;s only single-screen theater. Proceeds will benefit the theater. Tickets can be purchased <a href="https://www.theclaytontheatre.com/special-events">here</a>.&nbsp\;<br />\n<br />\n<strong>Two Classic Fire &amp\; Ice Featured Matinees:</strong><br />\n<br />\n<strong>12:00 PM SHOWING</strong><br />\n<em>Ice Age</em> (PG)<br />\n<br />\n<strong>3:00 PM SHOWING</strong><br />\n<em>Towering Inferno (PG)</em>
LOCATION:Clayton Theatre 33246 Main St. Dagsboro\, DE 19939
UID:e.2126.24915
SEQUENCE:3
DTSTAMP:20260421T093003Z
URL:http://business.thequietresorts.com/events/details/fire-ice-lights-camera-action-clayton-theatre-24915
END:VEVENT

END:VCALENDAR
