BEGIN:VCALENDAR
VERSION:2.0
PRODID:-//ChamberMaster//Event Calendar 2.0//EN
METHOD:PUBLISH
X-PUBLISHED-TTL:P3D
REFRESH-INTERVAL:P3D
CALSCALE:GREGORIAN
BEGIN:VEVENT
DTSTART:20230128T160000Z
DTEND:20230128T200000Z
X-MICROSOFT-CDO-ALLDAYEVENT:FALSE
SUMMARY:Fire & Ice "Lights\, Camera\, Action!" - Chili Cookoff
DESCRIPTION:THIS EVENT IS SOLD-OUT! Thank you for your support of the MVFC! \n\nCelebrate the action-packed Fire & Ice weekend by taking advantage of a little friendly competition and warm-up at the Chili Cookoff.  Proceeds will benefit the Millville Volunteer Fire Company. \n\n\n\nA limited number of tickets will be offered for two separate time slots to ensure that everyone is able to enjoy the same experience of raffles\, beverages\, and some of the best chili in the area. \n\nNO ONSITE TICKETS WILL BE AVAILABLE FOR PURCHASE so order yours today! \n\nTime Slot 1: 11:00 AM - 12:45 PM\n\nTime Slot 2: 1:00 PM - 2:45 PM\n\n\n\nTicket Includes: Up to 20 Chilis to taste\, cornbread and saltines\, your choice of beverage (water\, soda\, tea)\, cash bar\, ice sculpture\, music\, ice cream\, and more! Tickets also serve as raffle tickets toward a great prize. All ticket sales will benefit Millville Volunteer Fire Company.\n\n\n\n Ticket Cost:  \n\n	Adults: $15\n	Children $5 (12 & under)\n	Donated Processing Fee $2 \n\nCompetition:\n\nIf you would like to compete in the Fire & Ice - "Lights\, Camera\, Action!" Chili Cookoff\, please contact Michele Steffens at millvillevfc@gmail.com for more information.\n\nChili will be judged by 3 categories:\n\n\n	Meat\n	Bean\n	Vegan \n\n\n    *Additional People's Choice Award will be given\n\n \nFor a full schedule of events follow @fireandicede or visit fireandicede.com\n\nFor more information on restaurants participating in the Tasting Tour and other off-site ice sculptures\, click here.\n\n\n\nFor a printable Chili Cookoff flyer\, click here \n\n\n\nParticipants:\n\nThe Delaware Food Bank\n\nThe DTCC Culinary Department\n\nBayside Country Club\n\nKristina's Kitchen\n\nHooked Up\n\nBethany Blues\n\nBluecoast\n\nNortheast\n\n \n\nMillville VFC\n\nBethany Beach VFC\n\nRoxana VFC\n\n \n\nJudi Wagner (Individual)\n\n\n\n\n\nOn your way to or from the Cookoff\, be sure to stop by Banks Wines & Spirits on Saturday\, located next to Millville Volunteer Fire Company for special tastings: \n\n12:00 - 3:00 PM: Tasting with Heavy Seas owner\, Hugh Sisson\n\n3:00 - 6:00 PM: Tasting of our High West Pirates of Sussex - single-barrel bourbon
X-ALT-DESC;FMTTYPE=text/html:<div style="font-family: arial\;"><span style="font-size:14px\;">THIS EVENT IS SOLD-OUT! Thank you for your support of the MVFC!&nbsp\;<br />\nCelebrate the action-packed&nbsp\;Fire &amp\; Ice weekend by&nbsp\;taking&nbsp\;advantage of a little friendly competition and&nbsp\;warm-up&nbsp\;at&nbsp\;the&nbsp\;Chili Cookoff.&nbsp\; Proceeds will&nbsp\;benefit&nbsp\;the Millville Volunteer Fire Company.&nbsp\;<br />\n<br />\nA limited number of tickets will be offered for two separate time slots to ensure that everyone is able to enjoy the same experience of raffles\, beverages\, and some of the best chili in the area.&nbsp\;<br />\n<span style="color:#FF0000\;">NO ONSITE TICKETS WILL BE AVAILABLE FOR PURCHASE so order yours today!&nbsp\;</span><br />\nTime Slot 1: 11:00 AM - 12:45 PM<br />\nTime Slot 2: 1:00 PM - 2:45 PM</span><br />\n<br />\n<b style="color: rgb(51\, 51\, 51)\; font-family: arial\; font-size: 14px\; background-color: rgb(255\, 255\, 255)\;"><span style="font-size: 16px\;">Ticket Includes:</span>&nbsp\;</b><span style="color: rgb(51\, 51\, 51)\; font-family: arial\; font-size: 14px\; background-color: rgb(255\, 255\, 255)\;">Up to 20&nbsp\;</span><span style="color: rgb(51\, 51\, 51)\; font-family: arial\; font-size: 14px\; background-color: rgb(255\, 255\, 255)\;">Chilis to taste\, cornbread and saltines\, your choice of beverage (water\, soda\, tea)\, cash bar\, ice sculpture\, music\, ice cream\, and more! Tickets also serve as raffle tickets toward a great prize. All ticket sales will benefit Millville Volunteer Fire Company.</span><br />\n<br />\n<span style="color: rgb(51\, 51\, 51)\; font-size: 13px\; font-family: arial\;"><span style="font-size: 14px\;"><span style="font-size: 16px\;"><strong><em>&#8203\;</em>Ticket Cost:&nbsp\;&nbsp\;</strong></span></span></span>\n<ul font-size:="" style="padding: 0px 40px\; color: rgb(51\, 51\, 51)\; font-family: sans-serif\, Arial\, Verdana\, " trebuchet="">\n	<li><span style="font-family: arial\;"><span style="font-size: 14px\;">Adults: $15</span></span></li>\n	<li><span style="font-family: arial\;"><span style="font-size: 14px\;">Children $5 (12 &amp\; under)</span></span></li>\n	<li><span style="font-family: arial\;"><span style="font-size: 14px\;">Donated Processing Fee $2&nbsp\;</span></span></li>\n</ul>\n<span style="font-size:14px\;"><strong><span style="font-size:16px\;">Competition:</span></strong></span><br />\n<span style="color: rgb(51\, 51\, 51)\; font-family: arial\; font-size: 14px\; background-color: rgb(255\, 255\, 255)\;">If you would like to compete in the Fire &amp\; Ice - &quot\;Lights\, Camera\, Action!&quot\; Chili Cookoff\, please contact Michele Steffens at&nbsp\;</span><a href="mailto:millvillevfc@gmail.com" style="color: rgb(7\, 130\, 193)\; font-family: arial\; font-size: 14px\; background-color: rgb(255\, 255\, 255)\;">millvillevfc@gmail.com</a><span style="color: rgb(51\, 51\, 51)\; font-family: arial\; font-size: 14px\; background-color: rgb(255\, 255\, 255)\;">&nbsp\;for more information.</span><br />\n<span style="font-size:14px\;">Chili will be judged by 3 categories:</span></div>\n\n<ul>\n	<li style="font-family: arial\;">Meat</li>\n	<li style="font-family: arial\;"><span style="font-size:14px\;">Bean</span></li>\n	<li style="font-family: arial\;"><span style="font-size:14px\;">Vegan&nbsp\;</span></li>\n</ul>\n\n<div style="font-family: arial\;"><span style="font-size:14px\;">&nbsp\;&nbsp\;&nbsp\;&nbsp\;<em>*Additional&nbsp\;People&#39\;s Choice Award will be given</em></span><br />\n&nbsp\;</div>\n<span style="font-size:14px\;">For a full schedule of events follow @fireandicede or visit fireandicede.com<br />\nFor more information on restaurants participating in the Tasting Tour and other off-site ice sculptures\, click <a href="https://business.bethany-fenwick.org/events/details/lights-camera-action-weekend-walk-of-fame-sites-25083">here</a>.</span><br />\n<br />\n<span style="font-size:14px\;"><span style="font-family:arial\;">For a printable Chili Cookoff flyer\,&nbsp\;<a href="https://acrobat.adobe.com/link/review?uri=urn:aaid:scds:US:dd8c50b1-23a0-3cac-9d46-b5c3aebde9a8">click here</a>&nbsp\;<br />\n<br />\n<strong>Participants:</strong></span></span><br />\n<span style="font-size:14px\;"><span style="font-family:arial\;">The Delaware Food Bank<br />\nThe DTCC Culinary Department<br />\nBayside Country Club<br />\nKristina&#39\;s Kitchen<br />\nHooked Up<br />\nBethany Blues<br />\nBluecoast<br />\nNortheast<br />\n&nbsp\;<br />\nMillville VFC<br />\nBethany Beach VFC<br />\nRoxana VFC<br />\n&nbsp\;<br />\nJudi Wagner (Individual)</span></span><br />\n<br />\n<br />\n<strong>On your way to or from the Cookoff\, be sure to stop by Banks Wines &amp\; Spirits on Saturday\, located next to Millville Volunteer Fire Company for special tastings:&nbsp\;<br />\n12:00 - 3:00 PM: Tasting with Heavy Seas owner\, Hugh Sisson<br />\n3:00 - 6:00 PM: Tasting of our High West Pirates of Sussex - single-barrel bourbon</strong><br />\n<br />\n&nbsp\;
LOCATION:Millville Volunteer Fire Company 35554 Atlantic Ave. Millville\, DE 19967
UID:e.2126.24478
SEQUENCE:3
DTSTAMP:20260421T105136Z
URL:http://business.thequietresorts.com/events/details/fire-ice-lights-camera-action-chili-cookoff-24478
END:VEVENT

END:VCALENDAR
