BEGIN:VCALENDAR
VERSION:2.0
PRODID:-//ChamberMaster//Event Calendar 2.0//EN
METHOD:PUBLISH
X-PUBLISHED-TTL:P3D
REFRESH-INTERVAL:P3D
CALSCALE:GREGORIAN
BEGIN:VEVENT
DTSTART:20230128T170000Z
DTEND:20230128T190000Z
X-MICROSOFT-CDO-ALLDAYEVENT:FALSE
SUMMARY:Fire & Ice "Lights\, Camera\, Action!" - Bays Benefit
DESCRIPTION:Come relax in your best Tommy Bahama shirt and warm up on Fire & Ice Weekend at Bernie's with a fun event benefitting the Delaware Center for the Inland Bays. Fenwick Shores will be hosting this limited\, ticketed event.  Food will be provided by Matt's Fish Camp in Fenwick and libations will be provided by the Brew masters from Ocean View Brewery.\n\n\n\nTicket Cost: $35\n\n\n\nTicket Includes:\n\n	Food by Matt's Fish Camp in Fenwick Island\n	Menu: \n	\n		Beer Cheese and Bacon Deviled Eggs\n		Baked Oysters with garlic butter and parmesan\n		Crab Cakes with Mustard Tartar\n		Tuna Sashimi with seaweed salad\, avocado\, and sesame\n	\n	\n	2 Beers by Ocean View Brewing Company\n	Entry into CIB Raffle\n	Check out Fenwick Shores' featured Weekend at Bernie's ice sculpture created by the talented artists from The Ice God\n	Ticket holders will also receive a 15% discount all weekend long at Fenwick Shores' beautiful bar which is open to the public \n\nAccommodations: Click Here\n\nBeneficiary: Center for Inland Bays\n\nCIB is a non-profit organization dedicated to preserving and protecting Delaware's Inland Bays and Watershed by means of education\, outreach\, science and research\, restoration\, and public policy. To learn more about their important work\, click here.
X-ALT-DESC;FMTTYPE=text/html:<span style="font-family:arial\;">Come relax in your best Tommy Bahama shirt and warm up on Fire &amp\; Ice Weekend at Bernie&#39\;s with a fun event benefitting the Delaware Center for the Inland Bays. Fenwick Shores will be hosting this limited\, ticketed event.&nbsp\; Food will be provided by Matt&#39\;s Fish Camp in Fenwick and libations will be provided by the Brew masters from Ocean View Brewery.<br />\n<br />\n<span style="font-size:14px\;"><strong>Ticket Cost: $35</strong></span><br />\n<br />\n<strong><span style="font-size:14px\;">Ticket Includes:</span></strong></span>\n<ul>\n	<li><span style="font-family:arial\;">Food by Matt&#39\;s Fish Camp in Fenwick Island</span></li>\n	<li>Menu:&nbsp\;\n	<ul style="padding: 0px 40px\;">\n		<li>Beer Cheese and Bacon Deviled Eggs</li>\n		<li>Baked Oysters with garlic butter and parmesan</li>\n		<li>Crab Cakes with Mustard Tartar</li>\n		<li>Tuna Sashimi with seaweed salad\, avocado\, and sesame</li>\n	</ul>\n	</li>\n	<li><span style="font-family:arial\;">2 Beers by Ocean View Brewing Company</span></li>\n	<li><span style="font-family:arial\;">Entry into CIB Raffle</span></li>\n	<li><span style="font-family:arial\;">Check out Fenwick Shores&#39\; featured <em>Weekend at Bernie&#39\;s</em>&nbsp\;ice sculpture created by the talented artists from The Ice God</span></li>\n	<li><span style="font-family:arial\;">Ticket holders will also receive a 15% discount all weekend long at Fenwick Shores&#39\; beautiful bar which is open to the public </span></li>\n</ul>\n<span style="font-family:arial\;">Accommodations: <a href="https://www.hilton.com/en/attend-my-event/fireandice-festival2023/">Click Here</a><br />\nBeneficiary: Center for Inland Bays<br />\nCIB is a non-profit organization dedicated to preserving and protecting Delaware&#39\;s Inland Bays and Watershed by means of education\, outreach\, science and research\, restoration\, and public policy. To learn more about their important work\, <a href="https://www.inlandbays.org/about/">click here</a>.</span>
LOCATION:Fenwick Shores - Hilton Tapestry 1501 Coastal Highway Fenwick Island\, DE 19944
UID:e.2126.24914
SEQUENCE:3
DTSTAMP:20260421T104936Z
URL:http://business.thequietresorts.com/events/details/fire-ice-lights-camera-action-bays-benefit-24914
END:VEVENT

END:VCALENDAR
