BEGIN:VCALENDAR
VERSION:2.0
PRODID:-//ChamberMaster//Event Calendar 2.0//EN
METHOD:PUBLISH
X-PUBLISHED-TTL:P3D
REFRESH-INTERVAL:P3D
CALSCALE:GREGORIAN
BEGIN:VEVENT
DTSTART;VALUE=DATE:20240114
DTEND;VALUE=DATE:20240129
TRANSP:TRANSPARENT
X-MICROSOFT-CDO-ALLDAYEVENT:TRUE
SUMMARY:Fire & Ice "Into the Wild": Volunteer Page
DESCRIPTION:The 2024 Fire & Ice Festival is going "Into the Wild" this year and we are looking for volunteers willing to bring the adventure to life! Over 60\,000 pounds of ice\, masterfully carved by the talented artists of The Ice God\, is coming to the Quiet Resorts area. This beloved event has happenings taking place in Bethany Beach\, Dagsboro\, Fenwick\, Frankford\, Millville\, Ocean City\, and Ocean View! \n\n\n\nPlease view opportunities to assist for the Drink Competition (January 14) and the Fire & Ice Festival Weekend taking place January 26-27. There is a role for everyone! If you are seeking to volunteer multiple timeslots or days\, you are welcome to contact Alyssa\, the events manager at the Chamber\, to reserve your shifts.\n\n\n\nTHANK YOU in advance as these events couldn't happen without the participation from our local students\, parents\, community and business members!\n\n\n\nVolunteer Opportunities (by location/date):\n\n- Bethany Beach: "Into the Deep" Theme\n\nJanuary 14: 2024 Drink Competition at Mangos\n\nJanuary 26 - 27: Volunteer in Bethany Beach\n\n\n\nJohn West Park (Ocean View): Oregon Trail Theme\n\nJanuary 26 - 27: Volunteer in John West Park\n\nJanuary 26 - 27: Volunteer in John West Park's Beer Garden\n\n     (*ABC card required for some Beer Garden roles- Chamber can pay for cert.)\n\n\n\nLord's Landscaping: Polar Skating Rink\n\nJanuary 26 - 27: Volunteer at the Skating Rink\n\n\n\nMillville Boardwalk: Jurassic Theme\n\nJanuary 26: To volunteer at Millville Boardwalk\, email Alyssa at events@thequietresorts.com\n\n\n\nSalted Vines: Jungle Safari Theme\n\nJanuary 26: To volunteer at Salted Vines Vineyard & Winery\, email Alyssa at events@thequietresorts.com
X-ALT-DESC;FMTTYPE=text/html:<br />\n<span style="font-family:arial\;">The 2024 Fire &amp\; Ice Festival is going &quot\;Into the Wild&quot\; this year and we are looking for volunteers willing to bring the adventure to life! Over 60\,000 pounds of ice\, masterfully carved by the talented artists of The Ice God\, is coming to the Quiet Resorts area. This beloved event has happenings taking place in Bethany Beach\, Dagsboro\, Fenwick\, Frankford\, Millville\, Ocean City\, and Ocean View!&nbsp\;<br />\n<br />\nPlease view opportunities to assist for the Drink Competition (January 14) and the Fire &amp\; Ice Festival Weekend taking place January 26-27. There is a role for everyone! If you are seeking to volunteer multiple timeslots or days\, you are welcome to contact Alyssa\, the events manager at the Chamber\, to reserve your shifts.<br />\n<br />\n<strong>THANK YOU&nbsp\;in advance as these events couldn&#39\;t happen without the participation from our local students\, parents\, community and business members!</strong><br />\n<br />\n<strong><span style="font-size:16px\;">Volunteer Opportunities (by location/date):</span></strong><br />\n<strong>- Bethany Beach: &quot\;Into the Deep&quot\; Theme</strong><br />\n<a href="https://www.signupgenius.com/go/60B0B4CA9AB22A1FC1-46945601-2024">January 14:&nbsp\;2024 Drink Competition at Mangos</a><br />\n<a href="https://www.signupgenius.com/go/60B0B4CA9AB22A1FC1-46947095-2024">January 26 - 27: Volunteer in&nbsp\;Bethany Beach</a><br />\n<br />\n<strong>John West Park (Ocean View): Oregon Trail Theme</strong><br />\n<a href="https://www.signupgenius.com/go/60B0B4CA9AB22A1FC1-46885006-2024">January 26 - 27: Volunteer in John West Park</a><br />\n<a href="https://www.signupgenius.com/go/60B0B4CA9AB22A1FC1-46685858-2024#/">January 26 - 27: Volunteer in John West Park&#39\;s Beer Garden</a><br />\n&nbsp\;&nbsp\;&nbsp\;&nbsp\; <span style="font-size:12px\;">(*ABC card required for some Beer Garden roles- Chamber can pay for cert.)</span><br />\n<br />\n<strong>Lord&#39\;s Landscaping: Polar Skating Rink</strong><br />\n<a href="https://www.signupgenius.com/go/60B0B4CA9AB22A1FC1-46684201-2024">January 26 - 27: Volunteer at the Skating Rink</a><br />\n<br />\n<strong>Millville Boardwalk: Jurassic Theme</strong><br />\nJanuary 26: To volunteer at Millville Boardwalk\, email Alyssa at events@thequietresorts.com<br />\n<br />\n<strong>Salted Vines: Jungle Safari Theme</strong><br />\nJanuary 26: To volunteer at Salted Vines Vineyard &amp\; Winery\, email Alyssa at events@thequietresorts.com</span><br />\n<br />\n&nbsp\;
LOCATION:Bethany Beach\, John West Park- Ocean View\, Lord's Landscaping\, Millville Boardwalk\, and Salted Vines Vineyard & Winery
UID:e.2126.27391
SEQUENCE:3
DTSTAMP:20260420T134607Z
URL:http://business.thequietresorts.com/events/details/fire-ice-into-the-wild-volunteer-page-27391
END:VEVENT

END:VCALENDAR
