BEGIN:VCALENDAR
VERSION:2.0
PRODID:-//ChamberMaster//Event Calendar 2.0//EN
METHOD:PUBLISH
X-PUBLISHED-TTL:P3D
REFRESH-INTERVAL:P3D
CALSCALE:GREGORIAN
BEGIN:VEVENT
DTSTART:20200126T160000Z
DTEND:20200126T190000Z
X-MICROSOFT-CDO-ALLDAYEVENT:FALSE
SUMMARY:Fire & Ice Festival - Town of Millville Signature Ice Feature
DESCRIPTION:Signature Ice Sculpture of Millville\n\nStop by Lord's Landscaping to see the Millville Signature Ice Sculpture! Provided by Ice Labs\, the ice sculpture will be created with over 30 blocks of ice and follow the "Out of this World" theme. The feature will be open throughout the festival weekend under an inflatable tent and lit up to be viewed all day.\n\n\n\nAdditional Millville Activities\n\nWhile in town viewing the signature ice sculpture\, make sure to stop by and check out the other fun activities occurring in Millville throughout the weekend.\n\n\n\nFriday\, January 24\n\nSpace Buddies at the Millville Boardwalk- 4:30 pm - 6:00 pm\n\nFor more information\, click here\n\n\n\nSpace Jam at the Millville Boardwalk- 6:30 pm - 8:30 pm\n\nFor more information\, click here\nSaturday\, January 25\n\nFace painting at County Bank- 9:00 am - 12:00 pm\n\n\n\nBlock Party at Lord's Landscaping- 12:00 pm - 4:00 pm\n\nFor more information\, click here\n\n\n\nBe sure to follow The Quiet Resorts on Facebook and Instagram for updates throughout the weekend and visit fireandicede.com for all activities occurring throughout the weekend.
X-ALT-DESC;FMTTYPE=text/html:<span style="font-family: arial\;"><span style="font-size: 14px\;"><span style="font-size: 16px\;"><span style="color: rgb(0\, 0\, 205)\;">Signature Ice Sculpture of Millville</span></span><br />\n<span style="color: rgb(29\, 33\, 41)\; text-transform: none\; text-indent: 0px\; letter-spacing: normal\; font-style: normal\; font-weight: 400\; word-spacing: 0px\; float: none\; display: inline !important\; white-space: pre-wrap\; orphans: 2\; widows: 2\; background-color: rgb(255\, 255\, 255)\; -webkit-text-stroke-width: 0px\; font-variant-ligatures: normal\; font-variant-caps: normal\; text-decoration-style: initial\; text-decoration-color: initial\;">Stop by&nbsp\;Lord&#39\;s Landscaping&nbsp\;to see the&nbsp\;Millville Signature Ice Sculpture! Provided by Ice Labs\, the ice sculpture will be created with over 30 blocks of ice and follow the &quot\;Out of this World&quot\; theme. </span><font color="#1d2129">The feature will be open throughout the festival weekend under an inflatable tent and lit up to be viewed all day.</font><br />\n<br />\n<span style="font-size: 16px\;"><span style="color: rgb(0\, 0\, 205)\;"><span style="text-transform: none\; text-indent: 0px\; letter-spacing: normal\; font-style: normal\; font-weight: 400\; word-spacing: 0px\; float: none\; display: inline !important\; white-space: pre-wrap\; orphans: 2\; widows: 2\; background-color: rgb(255\, 255\, 255)\; -webkit-text-stroke-width: 0px\; font-variant-ligatures: normal\; font-variant-caps: normal\; text-decoration-style: initial\; text-decoration-color: initial\;">Additional&nbsp\;Millville Activities</span></span></span><br />\n<span style="text-transform: none\; text-indent: 0px\; letter-spacing: normal\; font-style: normal\; font-weight: 400\; word-spacing: 0px\; float: none\; display: inline !important\; white-space: pre-wrap\; orphans: 2\; widows: 2\; background-color: rgb(255\, 255\, 255)\; -webkit-text-stroke-width: 0px\; font-variant-ligatures: normal\; font-variant-caps: normal\; text-decoration-style: initial\; text-decoration-color: initial\;">While in town viewing the signature ice sculpture\, make sure to stop by and check out the other fun activities occurring in&nbsp\;Millville throughout the weekend.</span><br />\n<br />\n<span style="font-size: 16px\;"><span style="color: rgb(29\, 33\, 41)\; text-transform: none\; text-indent: 0px\; letter-spacing: normal\; font-style: normal\; font-weight: 400\; word-spacing: 0px\; float: none\; display: inline !important\; white-space: pre-wrap\; orphans: 2\; widows: 2\; background-color: rgb(255\, 255\, 255)\; -webkit-text-stroke-width: 0px\; font-variant-ligatures: normal\; font-variant-caps: normal\; text-decoration-style: initial\; text-decoration-color: initial\;"><font color="#333333"><strong>Friday\, January 24</strong></font></span></span><br />\n<em>Space Buddies</em> at the Millville Boardwalk- 4:30 pm - 6:00 pm<br />\nFor more information\, <strong><a href="http://business.bethany-fenwick.org/events/details/fire-ice-festival-movies-at-the-millville-boardwalk-19664" target="_blank"><font color="#0066cc">click here</font></a></strong><br />\n<br />\n<em>Space Jam</em> at the Millville Boardwalk- 6:30 pm - 8:30 pm<br />\nFor more information\, <strong><a href="http://business.bethany-fenwick.org/events/details/fire-ice-festival-movies-at-the-millville-boardwalk-19664" target="_blank"><font color="#0066cc">click here</font></a></strong></span></span>\n<hr /><span style="font-size: 14px\;"><span style="font-family: arial\;"><span style="color: rgb(29\, 33\, 41)\; text-transform: none\; text-indent: 0px\; letter-spacing: normal\; font-style: normal\; font-weight: 400\; word-spacing: 0px\; float: none\; display: inline !important\; white-space: pre-wrap\; orphans: 2\; widows: 2\; background-color: rgb(255\, 255\, 255)\; -webkit-text-stroke-width: 0px\; font-variant-ligatures: normal\; font-variant-caps: normal\; text-decoration-style: initial\; text-decoration-color: initial\;"><strong><span style="font-size: 16px\;">Saturday\, January 25</span></strong></span><br />\n<font color="#1d2129">Face painting at County Bank- 9:00 am - 12:00 pm<br />\n<br />\nBlock Party at Lord&#39\;s Landscaping- 12:00 pm - 4:00 pm<br />\nFor more information\, <strong><a href="http://business.bethany-fenwick.org/events/details/fire-ice-festival-block-party-at-lord-s-landscaping-19662" target="_blank"><font color="#0066cc">click here</font></a></strong></font><br />\n<br />\n<span style="color: rgb(29\, 33\, 41)\; text-transform: none\; text-indent: 0px\; letter-spacing: normal\; font-style: normal\; font-weight: 400\; word-spacing: 0px\; float: none\; display: inline !important\; white-space: pre-wrap\; orphans: 2\; widows: 2\; background-color: rgb(255\, 255\, 255)\; -webkit-text-stroke-width: 0px\; font-variant-ligatures: normal\; font-variant-caps: normal\; text-decoration-style: initial\; text-decoration-color: initial\;">Be sure to follow The Quiet Resorts on <strong><a href="https://www.facebook.com/thequietresorts/" target="_blank"><font color="#0066cc">Facebook</font></a></strong> and <strong><a href="https://www.instagram.com/thequietresorts/" target="_blank"><font color="#0066cc">Instagram</font></a></strong> for updates throughout the weekend and visit <strong><a href="https://fireandicede.com/info/" target="_blank"><font color="#0066cc">fireandicede.com</font></a></strong> for all activities occurring throughout the weekend.</span></span></span>
LOCATION:Lord's Landscaping 35577 Atlantic Ave Millville\, DE 19967
UID:e.2126.19669
SEQUENCE:3
DTSTAMP:20260426T035023Z
URL:http://business.thequietresorts.com/events/details/fire-ice-festival-town-of-millville-signature-ice-feature-19669
END:VEVENT

END:VCALENDAR
