BEGIN:VCALENDAR
VERSION:2.0
PRODID:-//ChamberMaster//Event Calendar 2.0//EN
METHOD:PUBLISH
X-PUBLISHED-TTL:P3D
REFRESH-INTERVAL:P3D
CALSCALE:GREGORIAN
BEGIN:VEVENT
DTSTART:20200124T150000Z
DTEND:20200126T010000Z
X-MICROSOFT-CDO-ALLDAYEVENT:FALSE
SUMMARY:Fire & Ice Festival - Signature Ice Command Center of Bethany Beach
DESCRIPTION:Signature Ice Sculpture of Bethany Beach\n\nStop by the Bethany Beach Bandstand to see the Bethany Beach Signature Ice Command Center! Provided by Ice Labs\, the Command Center will be created with over 30 blocks of ice. Also make sure to stop by a see your favorite droids from a galaxy far\, far away\, R2D2 and C3PO . The feature will be open throughout the festival weekend under an inflatable tent and lit up to be viewed all day.\n\n\n\nAdditional Bethany Beach Activities\n\nWhile in town viewing the signature ice sculpture\, make sure to stop by and check out the other fun activities occurring in Bethany Beach throughout the weekend.\n\n\n\nFriday\, January 24\n\nNASA's Wallops Island-  10:00 am - 3:00 pm\n\nMission Moon to Mars Program in the Bethany Beach Ocean Suites Lobby\n\n\n\n"Out of this World" Drink Tasting Tour- 12:00 pm - 8:00 pm\n\nTo purchase tickets and for additional information\, click here\n\n\n\nLive Radio Broadcast- 3:00 pm - 5:00 pm\n\nDana McDonald from 97.1 The Wave will be onsite to help count down to the walking tour in Bethany Beach\n\n\n\nBeach Bonfire off of Hollywood St.- 5:00 pm - 7:00 pm\nSaturday\, January 25\n\nNASA's Wallops Island- 10:00 am - 3:00 pm\n\nDemonstration in the Bethany Beach Ocean Suites Lobby\n\n\n\nCascading Carlos at the Bethany Beach Bandstand- 12:00 pm - 4:00 pm\n\n\n\n"Out of this World" Drink Tasting Tour- 12:00 pm - 8:00 pm\n\nTo purchase tickets and for additional information\, click here\n\n\n\nBeach Bonfire off Hollywood St.- 5:00 pm - 7:00 pm\n\n\n\nStargazing on the Beach with Kevin Manning- 5:00 pm - 7:00 pm\n\n\n\nLive Sculpture Demonstration at the Bethany Beach Bandstand- 5:30 pm - 7:30 pm\n\nFor additional information\, click here\n\n\n\nFire & Ice with the Funsters at Mangos- 7:00 pm - 11:00 pm\n\nTo purchase tickets and for more information\, click here\n\nSunday\, January 26\n\n"Out of this World" Drink Tasting Tour- 11:00 am - 1:00 pm\n\nTo purchase tickets and for additional information\, click here\n\n\n\nBe sure to follow The Quiet Resorts on Facebook and Instagram for updates throughout the weekend and visit fireandicede.com for all activities occurring throughout the weekend.
X-ALT-DESC;FMTTYPE=text/html:<span style="font-size: 14px\;"><span style="font-family: arial\;"><span style="font-size: 16px\;"><span style="color: rgb(0\, 0\, 205)\;">Signature Ice Sculpture of Bethany Beach</span></span><br />\n<span style="color: rgb(29\, 33\, 41)\; text-transform: none\; text-indent: 0px\; letter-spacing: normal\; font-style: normal\; font-weight: 400\; word-spacing: 0px\; float: none\; display: inline !important\; white-space: pre-wrap\; orphans: 2\; widows: 2\; background-color: rgb(255\, 255\, 255)\; -webkit-text-stroke-width: 0px\; font-variant-ligatures: normal\; font-variant-caps: normal\; text-decoration-style: initial\; text-decoration-color: initial\;">Stop by the Bethany Beach Bandstand to see the Bethany Beach Signature Ice Command Center! Provided by Ice Labs\, the&nbsp\;Command Center&nbsp\;will be created with over 30 blocks of ice. Also make sure to stop by a see your favorite droids from a galaxy far\, far away\, R2D2 and C3PO . </span><font color="#1d2129">The feature will be open throughout the festival weekend under an inflatable tent and lit up to be viewed all day.</font><br />\n<br />\n<span style="font-size: 16px\;"><span style="color: rgb(0\, 0\, 205)\;"><span style="text-transform: none\; text-indent: 0px\; letter-spacing: normal\; font-style: normal\; font-weight: 400\; word-spacing: 0px\; float: none\; display: inline !important\; white-space: pre-wrap\; orphans: 2\; widows: 2\; background-color: rgb(255\, 255\, 255)\; -webkit-text-stroke-width: 0px\; font-variant-ligatures: normal\; font-variant-caps: normal\; text-decoration-style: initial\; text-decoration-color: initial\;">Additional Bethany Beach Activities</span></span></span><br />\n<span style="text-transform: none\; text-indent: 0px\; letter-spacing: normal\; font-style: normal\; font-weight: 400\; word-spacing: 0px\; float: none\; display: inline !important\; white-space: pre-wrap\; orphans: 2\; widows: 2\; background-color: rgb(255\, 255\, 255)\; -webkit-text-stroke-width: 0px\; font-variant-ligatures: normal\; font-variant-caps: normal\; text-decoration-style: initial\; text-decoration-color: initial\;">While in town viewing the signature ice sculpture\, make sure to stop by and check out the other fun activities occurring in Bethany Beach throughout the weekend.</span><br />\n<br />\n<span style="color: rgb(29\, 33\, 41)\; text-transform: none\; text-indent: 0px\; letter-spacing: normal\; font-style: normal\; font-weight: 400\; word-spacing: 0px\; float: none\; display: inline !important\; white-space: pre-wrap\; orphans: 2\; widows: 2\; background-color: rgb(255\, 255\, 255)\; -webkit-text-stroke-width: 0px\; font-variant-ligatures: normal\; font-variant-caps: normal\; text-decoration-style: initial\; text-decoration-color: initial\;"><span style="font-size: 16px\;"><strong><font color="#333333">Friday\, January 24</font></strong></span></span><br />\n<font color="#1d2129">NASA&#39\;s Wallops Island- </font><span style="color: rgb(29\, 33\, 41)\; text-transform: none\; text-indent: 0px\; letter-spacing: normal\; font-style: normal\; font-weight: 400\; word-spacing: 0px\; float: none\; display: inline !important\; white-space: pre-wrap\; orphans: 2\; widows: 2\; background-color: rgb(255\, 255\, 255)\; -webkit-text-stroke-width: 0px\; font-variant-ligatures: normal\; font-variant-caps: normal\; text-decoration-style: initial\; text-decoration-color: initial\;">&nbsp\;</span><font color="#1d2129">10:00 am - 3:00 pm</font><br />\n<span style="color: rgb(29\, 33\, 41)\; text-transform: none\; text-indent: 0px\; letter-spacing: normal\; font-style: normal\; font-weight: 400\; word-spacing: 0px\; float: none\; display: inline !important\; white-space: pre-wrap\; orphans: 2\; widows: 2\; background-color: rgb(255\, 255\, 255)\; -webkit-text-stroke-width: 0px\; font-variant-ligatures: normal\; font-variant-caps: normal\; text-decoration-style: initial\; text-decoration-color: initial\;">Mission Moon to Mars Program in the Bethany Beach Ocean Suites Lobby</span><br />\n<br />\n<span style="color: rgb(29\, 33\, 41)\; text-transform: none\; text-indent: 0px\; letter-spacing: normal\; font-style: normal\; font-weight: 400\; word-spacing: 0px\; float: none\; display: inline !important\; white-space: pre-wrap\; orphans: 2\; widows: 2\; background-color: rgb(255\, 255\, 255)\; -webkit-text-stroke-width: 0px\; font-variant-ligatures: normal\; font-variant-caps: normal\; text-decoration-style: initial\; text-decoration-color: initial\;">&quot\;Out of this World&quot\; Drink Tasting Tour- </span><font color="#1d2129">12:00 pm - 8:00 pm<br />\nTo purchase tickets and for additional information\, <strong><a href="http://business.bethany-fenwick.org/events/details/fire-ice-out-of-this-world-drink-tasting-tour-19454" target="_blank">click here</a></strong></font><br />\n<br />\n<span style="color: rgb(29\, 33\, 41)\; text-transform: none\; text-indent: 0px\; letter-spacing: normal\; font-style: normal\; font-weight: 400\; word-spacing: 0px\; float: none\; display: inline !important\; white-space: pre-wrap\; orphans: 2\; widows: 2\; background-color: rgb(255\, 255\, 255)\; -webkit-text-stroke-width: 0px\; font-variant-ligatures: normal\; font-variant-caps: normal\; text-decoration-style: initial\; text-decoration-color: initial\;">Live Radio Broadcast- </span><font color="#1d2129">3:00 pm - 5:00 pm<br />\nDana McDonald from 97.1 The Wave will be onsite to help count down to the walking tour in Bethany Beach</font><br />\n<br />\n<span style="color: rgb(29\, 33\, 41)\; text-transform: none\; text-indent: 0px\; letter-spacing: normal\; font-style: normal\; font-weight: 400\; word-spacing: 0px\; float: none\; display: inline !important\; white-space: pre-wrap\; orphans: 2\; widows: 2\; background-color: rgb(255\, 255\, 255)\; -webkit-text-stroke-width: 0px\; font-variant-ligatures: normal\; font-variant-caps: normal\; text-decoration-style: initial\; text-decoration-color: initial\;">Beach Bonfire off of Hollywood St.</span></span>- 5:00 pm - 7:00 pm</span>\n<hr /><span style="font-size: 14px\;"><span style="font-family: arial\;"><span style="color: rgb(29\, 33\, 41)\; text-transform: none\; text-indent: 0px\; letter-spacing: normal\; font-style: normal\; font-weight: 400\; word-spacing: 0px\; float: none\; display: inline !important\; white-space: pre-wrap\; orphans: 2\; widows: 2\; background-color: rgb(255\, 255\, 255)\; -webkit-text-stroke-width: 0px\; font-variant-ligatures: normal\; font-variant-caps: normal\; text-decoration-style: initial\; text-decoration-color: initial\;"><span style="font-size: 16px\;"><strong>Saturday\, January 25</strong></span></span><br />\n<font color="#1d2129">NASA&#39\;s Wallops Island- 10:00 am - 3:00 pm</font><br />\n<span style="color: rgb(29\, 33\, 41)\; text-transform: none\; text-indent: 0px\; letter-spacing: normal\; font-style: normal\; font-weight: 400\; word-spacing: 0px\; float: none\; display: inline !important\; white-space: pre-wrap\; orphans: 2\; widows: 2\; background-color: rgb(255\, 255\, 255)\; -webkit-text-stroke-width: 0px\; font-variant-ligatures: normal\; font-variant-caps: normal\; text-decoration-style: initial\; text-decoration-color: initial\;">Demonstration in the Bethany Beach Ocean Suites Lobby</span><br />\n<br />\n<font color="#1d2129">Cascading Carlos at the Bethany Beach Bandstand- 12:00 pm - 4:00 pm<br />\n<br />\n&quot\;Out of this World&quot\; Drink Tasting Tour- 12:00 pm - 8:00 pm<br />\nTo purchase tickets and for additional information\, <strong><a href="http://business.bethany-fenwick.org/events/details/fire-ice-out-of-this-world-drink-tasting-tour-19454" target="_blank">click here</a></strong></font><br />\n<br />\n<span style="color: rgb(29\, 33\, 41)\; text-transform: none\; text-indent: 0px\; letter-spacing: normal\; font-style: normal\; font-weight: 400\; word-spacing: 0px\; float: none\; display: inline !important\; white-space: pre-wrap\; orphans: 2\; widows: 2\; background-color: rgb(255\, 255\, 255)\; -webkit-text-stroke-width: 0px\; font-variant-ligatures: normal\; font-variant-caps: normal\; text-decoration-style: initial\; text-decoration-color: initial\;">Beach Bonfire off Hollywood St.- </span><font color="#1d2129">5:00 pm - 7:00 pm<br />\n<br />\nStargazing on the Beach with Kevin Manning- 5:00 pm - 7:00 pm</font><br />\n<br />\n<span style="color: rgb(29\, 33\, 41)\; text-transform: none\; text-indent: 0px\; letter-spacing: normal\; font-style: normal\; font-weight: 400\; word-spacing: 0px\; float: none\; display: inline !important\; white-space: pre-wrap\; orphans: 2\; widows: 2\; background-color: rgb(255\, 255\, 255)\; -webkit-text-stroke-width: 0px\; font-variant-ligatures: normal\; font-variant-caps: normal\; text-decoration-style: initial\; text-decoration-color: initial\;">Live Sculpture Demonstration at the Bethany Beach Bandstand- </span><font color="#1d2129">5:30 pm - 7:30 pm<br />\nFor additional information\, <strong><a href="http://business.bethany-fenwick.org/events/details/fire-ice-festival-live-sculpture-demo-19663" target="_blank">click here</a></strong><br />\n<br />\nFire &amp\; Ice with the Funsters&nbsp\;at Mangos- </font><font color="#1d2129">7:00 pm - 11:00 pm<br />\nTo purchase tickets and for more information\, <strong><a href="http://business.bethany-fenwick.org/events/details/fire-ice-with-the-funsters-19526" target="_blank">click here</a></strong></font></span></span>\n\n<hr /><span style="font-size: 14px\;"><span style="font-family: arial\;"><span style="font-size: 16px\;"><span style="color: rgb(29\, 33\, 41)\; text-transform: none\; text-indent: 0px\; letter-spacing: normal\; font-style: normal\; font-weight: 400\; word-spacing: 0px\; float: none\; display: inline !important\; white-space: pre-wrap\; orphans: 2\; widows: 2\; background-color: rgb(255\, 255\, 255)\; -webkit-text-stroke-width: 0px\; font-variant-ligatures: normal\; font-variant-caps: normal\; text-decoration-style: initial\; text-decoration-color: initial\;"><strong>Sunday\, January 26</strong></span></span><br />\n<font color="#1d2129">&quot\;Out of this World&quot\; Drink Tasting Tour- 11:00 am - 1:00 pm</font><br />\n<font color="#1d2129">To purchase tickets and for additional information\, <strong><a href="http://business.bethany-fenwick.org/events/details/fire-ice-out-of-this-world-drink-tasting-tour-19454" target="_blank"><font color="#0066cc">click here</font></a></strong></font><br />\n<br />\n<span style="color: rgb(29\, 33\, 41)\; text-transform: none\; text-indent: 0px\; letter-spacing: normal\; font-style: normal\; font-weight: 400\; word-spacing: 0px\; float: none\; display: inline !important\; white-space: pre-wrap\; orphans: 2\; widows: 2\; background-color: rgb(255\, 255\, 255)\; -webkit-text-stroke-width: 0px\; font-variant-ligatures: normal\; font-variant-caps: normal\; text-decoration-style: initial\; text-decoration-color: initial\;">Be sure to follow The Quiet Resorts on <strong><a href="https://www.facebook.com/thequietresorts/" target="_blank"><font color="#0066cc">Facebook</font></a></strong> and <strong><a href="https://www.instagram.com/thequietresorts/" target="_blank"><font color="#0066cc">Instagram</font></a></strong> for updates throughout the weekend and visit <strong><a href="https://fireandicede.com/info/" target="_blank"><font color="#0066cc">fireandicede.com</font></a></strong> for all activities occurring throughout the weekend.</span></span></span><br />\n<br />\n&nbsp\;
LOCATION:Bethany Beach Bandstand
UID:e.2126.19666
SEQUENCE:3
DTSTAMP:20260426T021118Z
URL:http://business.thequietresorts.com/events/details/fire-ice-festival-signature-ice-command-center-of-bethany-beach-19666
END:VEVENT

END:VCALENDAR
