BEGIN:VCALENDAR
VERSION:2.0
PRODID:-//ChamberMaster//Event Calendar 2.0//EN
METHOD:PUBLISH
X-PUBLISHED-TTL:P3D
REFRESH-INTERVAL:P3D
CALSCALE:GREGORIAN
BEGIN:VEVENT
DTSTART:20220211T150000Z
DTEND:20220213T010000Z
X-MICROSOFT-CDO-ALLDAYEVENT:FALSE
SUMMARY:Fire & Ice Festival - Rock 'n' Roll - Town of Millville Happenings
DESCRIPTION:The Town of Millville is hosting a number of fun festival activities throughout the entire weekend. Head down Rt. 26 to Evans Park at 32517 Dukes Dr\, Millville\, DE 19967\, and discover more sculptures by Ice Labs and festivities!\n\n\n\nFriday\, February 11th\n\nIce Slide - 12:00 PM - 8:00 PM\n\nPresented by the Town of Millville come sled down 9k pounds or 30 blocks of ice constructed into a unique sledding experience. Tented in Evans Park the slide will be open Friday 12:00 pm - 8:00 pm. (As weather permits) \n\n\n\nTastings at Banks Wines & Spirits 3:00 PM - 6:00 PM\n\nCome join us at Banks Wines & Spirits for our wine tastings happening from 3:00 pm - 6:00 pm.\n\n\n\nIce Tour - 5:00 PM - 9:00 PM\n\nStarting at 5:00 PM\, check out all the sculptures in town by taking an Ice Tour! Pick up a festival map at the information tent to make sure you see them all!  Watch as the ice sculptures are unveiled and illuminated with lights as the sun sets.\n\n\n\nCrystal Chimney \n\nWarm up with our ice chimney with Fire Bursts!\n\n\n\nLive Performance with The Funsters - 6:00 PM - 9:00 PM\n\nCome Rock out with the Funsters from 6-9pm while enjoying the slide and sculptures while enjoying food trucks. \n\n\n\nTasting Tour\n\nThe Tasting Tour kicks off with participating restaurants in the Quiet Resorts offering their signature Fire & Ice Rock 'n Roll themed cocktail. Reserve your tickets here.\n\n\n\nSaturday\, February 12th\n\nIce Slide - 12:00 PM - 8:00 PM\n\nPresented by the Town of Millville come sled down 9k pounds or 30 blocks of ice constructed into a unique sledding experience. Tented in Evans Park the slide will be open Friday 12:00 pm - 8:00 pm. (As weather permits) \n\n\n\nChili Cookoff 11:00 AM - 3:00 PM\n\nCelebrate Fire & Ice weekend with a Rockin chili cook off and a little friendly competition. Warm up and try some of the best-tasting chili in the area while listening to live music. Reserve your tickets here. \n\n \n\nAdditional Millville Activities\n\nWhile in town viewing the signature ice sculpture\, make sure to stop by and check out the other fun activities occurring in Millville throughout the weekend. Click the links to view our other activities happening throughout the weekend.\n\n\n\nTastings at Banks Wines & Spirits \n\nCome join us at Banks Wines & Spirits throughout the day for different tasting samples.\n\n12:00 PM - 3:00 PM - Steel Blu Vodka\n\n12:00 PM - 4:00 PM - Maker's Mark sampling with Flower Giveaway \n\n4:00 PM - 7:00 PM - Sagamore Rye Spirit and Ancient Peaks Wine Tasting\n\n\n\n Tasting Tour\n\nThe Tasting Tour kicks off with participating restaurants in the Quiet Resorts offering their signature Fire & Ice Rock 'n Roll themed cocktail. Reserve your tickets here.\n\n\n\nMillville Boardwalk Carnival\n\nEnjoy a week of 3\,000 pounds of dazzling ice sculptures\, toasty bonfires\, arcade games at Captains Quarters\, a game at Lighthouse Mini Golf\, and a featured Rock 'n' Roll themed ice cream from Agape Creamery! Click here for more information. \n\n\n\nClick here to check out our Fire & Ice event page.\n\n\n\nSunday\, February 13th\n\n\n\nTastings at Banks Wines & Spirits \n\nCome join us at Banks Wines & Spirits on Super Bowl Sunday for different tasting samples.\n\n12:00 PM - 3:00 PM - Plush Plum Vodka\n\n12:00 PM - 4:00 PM - Bud Light Next
X-ALT-DESC;FMTTYPE=text/html:<span style="font-size: 14px\;"><span style="font-size: 16px\;"><span style="color:#000000\;"><span style="font-size:14px\;">The Town of Millville is hosting a number of fun festival activities throughout the entire weekend. Head down Rt. 26 to Evans Park at 32517 Dukes Dr\, Millville\, DE 19967\, and discover more sculptures by Ice Labs and festivities!</span></span><br />\n<br />\n<span style="color: rgb(0\, 0\, 205)\;"><span style="font-size:18px\;">Friday\, February 11th<br />\n<span style="font-size:16px\;">Ice Slide - 12:00 PM - 8:00 PM</span></span></span></span></span><br />\n<span style="font-family: &quot\;Helvetica Neue&quot\;\, Helvetica\, Arial\, sans-serif\; font-size: 15px\;"><span style="font-size:14px\;">Presented by the Town of Millville come sled down 9k pounds or 30 blocks of ice constructed into a unique sledding experience. Tented in Evans Park the slide will be open Friday 12:00 pm - 8:00 pm. (As weather permits)&nbsp\;</span></span><br />\n<br />\n<span style="font-size: 16px\;"><span style="color:#0000CD\;">Tastings at Banks Wines &amp\; Spirits 3:00 PM - 6:00 PM</span><br />\n<span style="font-size:14px\;">Come join us at Banks Wines &amp\; Spirits for our wine tastings happening from 3:00 pm - 6:00 pm.</span><br />\n<br />\n<span style="color:#0000CD\;">Ice Tour - 5:00 PM - 9:00 PM</span></span><br />\n<span style="font-size:14px\;">Starting at 5:00 PM\, check out all the sculptures in town by taking an Ice Tour! Pick up a festival map at the information tent to make sure you see them all!&nbsp\; Watch as the ice sculptures are unveiled and illuminated with lights as the sun sets.</span><br />\n<br />\n<font color="#0000cd"><span style="font-size: 16px\;">Crystal Chimney&nbsp\;</span></font><br />\n<span style="font-size:14px\;">Warm up with our ice chimney with Fire Bursts!</span><br />\n<br />\n<span style="color: rgb(0\, 0\, 205)\; font-size: 16px\;">Live Performance with The Funsters - 6:00 PM - 9:00 PM</span><br />\n<span style="font-size:14px\;">Come Rock out with the Funsters from 6-9pm while enjoying the slide and sculptures while enjoying food trucks.&nbsp\;</span><br />\n<br />\n<span style="color: rgb(0\, 0\, 205)\; font-size: 16px\;">Tasting Tour</span><br />\n<span style="font-size:14px\;">The Tasting Tour kicks off with participating restaurants in the Quiet Resorts offering their signature Fire &amp\; Ice Rock &#39\;n Roll themed cocktail. Reserve your tickets <a href="https://business.bethany-fenwick.org/events/details/fire-ice-rock-n-roll-tasting-tour-23121" target="_blank">here</a>.</span><br />\n<br />\n<span style="color: rgb(0\, 0\, 205)\; font-size: 18px\;">Saturday\, February 12th</span><br />\n<span style="color: rgb(51\, 51\, 51)\; font-size: 13px\;"><span style="font-size: 14px\;"><span style="font-size: 16px\;"><span style="color: rgb(0\, 0\, 205)\;">Ice Slide - 12:00 PM - 8:00 PM</span></span></span></span><br style="color: rgb(51\, 51\, 51)\; font-family: sans-serif\, Arial\, Verdana\, &quot\;Trebuchet MS&quot\;\; font-size: 13px\;" />\n<span style="color: rgb(51\, 51\, 51)\; font-family: &quot\;Helvetica Neue&quot\;\, Helvetica\, Arial\, sans-serif\; font-size: 15px\;"><span style="font-size: 14px\;">Presented by the Town of Millville come sled down 9k pounds or 30 blocks of ice constructed into a unique sledding experience. Tented in Evans Park the slide will be open Friday 12:00 pm - 8:00 pm. (As weather permits)&nbsp\;</span></span><br />\n<br />\n<span style="color: rgb(0\, 0\, 205)\; font-size: 16px\;">Chili Cookoff 11:00 AM - 3:00 PM</span><br />\n<span style="font-family: &quot\;Helvetica Neue&quot\;\, Helvetica\, Arial\, sans-serif\; font-size: 15px\;"><span style="font-size:14px\;">Celebrate Fire &amp\; Ice weekend with a Rockin chili cook off and a little friendly competition. Warm up and try some of the best-tasting chili in the area while listening to live music. Reserve your tickets <a href="https://business.bethany-fenwick.org/events/details/fire-ice-rock-n-roll-chili-cookoff-23305" target="_blank">here</a>.&nbsp\;</span></span><br />\n<span style="color: rgb(0\, 0\, 205)\; font-family: sans-serif\, Arial\, Verdana\, &quot\;Trebuchet MS&quot\;\; font-size: 16px\; background-color: rgb(255\, 255\, 255)\;">&nbsp\;</span><br />\n<span style="font-size:14px\;"><span style="font-size: 16px\;"><span style="color: rgb(0\, 0\, 205)\;"><span style="text-transform: none\; text-indent: 0px\; letter-spacing: normal\; font-style: normal\; font-weight: 400\; word-spacing: 0px\; float: none\; display: inline !important\; white-space: pre-wrap\; orphans: 2\; widows: 2\; background-color: rgb(255\, 255\, 255)\; -webkit-text-stroke-width: 0px\; font-variant-ligatures: normal\; font-variant-caps: normal\; text-decoration-style: initial\; text-decoration-color: initial\;">Additional&nbsp\;Millville Activities</span></span></span><br />\n<span style="text-transform: none\; text-indent: 0px\; letter-spacing: normal\; font-style: normal\; font-weight: 400\; word-spacing: 0px\; float: none\; display: inline !important\; white-space: pre-wrap\; orphans: 2\; widows: 2\; background-color: rgb(255\, 255\, 255)\; -webkit-text-stroke-width: 0px\; font-variant-ligatures: normal\; font-variant-caps: normal\; text-decoration-style: initial\; text-decoration-color: initial\;">While in town viewing the signature ice sculpture\, make sure to stop by and check out the other fun activities occurring in Millville throughout the weekend. Click the links to view our other activities happening throughout the weekend.</span></span><br />\n<br />\n<span style="color: rgb(0\, 0\, 205)\; font-family: sans-serif\, Arial\, Verdana\, &quot\;Trebuchet MS&quot\;\; font-size: 16px\; background-color: rgb(255\, 255\, 255)\;">Tastings at Banks Wines &amp\; Spirits&nbsp\;</span><br />\n<span style="color: rgb(51\, 51\, 51)\; font-family: sans-serif\, Arial\, Verdana\, &quot\;Trebuchet MS&quot\;\; font-size: 14px\; white-space: pre-wrap\; background-color: rgb(255\, 255\, 255)\;">Come join us at Banks Wines &amp\; Spirits throughout the day for different tasting samples.</span><br />\n<span style="color:#0000CD\;"><span style="font-family: sans-serif\, Arial\, Verdana\, &quot\;Trebuchet MS&quot\;\; font-size: 14px\; white-space: pre-wrap\; background-color: rgb(255\, 255\, 255)\;">12:00 PM - 3:00 PM</span></span><span style="color: rgb(51\, 51\, 51)\; font-family: sans-serif\, Arial\, Verdana\, &quot\;Trebuchet MS&quot\;\; font-size: 14px\; white-space: pre-wrap\; background-color: rgb(255\, 255\, 255)\;"> - Steel Blu Vodka</span><br />\n<span style="color:#0000CD\;"><span style="font-family: sans-serif\, Arial\, Verdana\, &quot\;Trebuchet MS&quot\;\; font-size: 14px\; white-space: pre-wrap\; background-color: rgb(255\, 255\, 255)\;">12:00 PM - 4:00 PM</span></span><span style="color: rgb(51\, 51\, 51)\; font-family: sans-serif\, Arial\, Verdana\, &quot\;Trebuchet MS&quot\;\; font-size: 14px\; white-space: pre-wrap\; background-color: rgb(255\, 255\, 255)\;"> - Maker&#39\;s Mark sampling with Flower Giveaway </span><br />\n<span style="color:#0000CD\;"><span style="font-family: sans-serif\, Arial\, Verdana\, &quot\;Trebuchet MS&quot\;\; font-size: 14px\; white-space: pre-wrap\; background-color: rgb(255\, 255\, 255)\;">4:00 PM - 7:00 PM</span></span><span style="color: rgb(51\, 51\, 51)\; font-family: sans-serif\, Arial\, Verdana\, &quot\;Trebuchet MS&quot\;\; font-size: 14px\; white-space: pre-wrap\; background-color: rgb(255\, 255\, 255)\;"> - Sagamore Rye Spirit and Ancient Peaks Wine Tasting</span><br />\n<br />\n<span style="color: rgb(0\, 0\, 205)\; font-size: 16px\;">&#8203\;Tasting Tour</span><br style="color: rgb(51\, 51\, 51)\; font-family: sans-serif\, Arial\, Verdana\, &quot\;Trebuchet MS&quot\;\; font-size: 13px\;" />\n<span style="color: rgb(51\, 51\, 51)\; font-size: 13px\;"><span style="font-size: 14px\;">The Tasting Tour kicks off with participating restaurants in the Quiet Resorts offering their signature Fire &amp\; Ice Rock &#39\;n Roll themed cocktail. Reserve your tickets&nbsp\;<a href="https://business.bethany-fenwick.org/events/details/fire-ice-rock-n-roll-tasting-tour-23121" style="color: rgb(7\, 130\, 193)\;" target="_blank">here</a>.</span></span><br />\n<br />\n<span style="font-size:16px\;"><span style="color:#0000FF\;">Millville Boardwalk Carnival</span></span><br />\n<span style="font-size:14px\;"><span style="color: rgb(51\, 51\, 51)\; background-color: rgb(255\, 255\, 255)\; font-family: &quot\;Helvetica Neue&quot\;\, Helvetica\, Arial\, sans-serif\;">Enjoy a week&nbsp\;of 3\,000 pounds of dazzling ice sculptures\, toasty bonfires\, arcade games at Captains Quarters\, a game at Lighthouse Mini Golf\, and a featured Rock &#39\;n&#39\; Roll themed ice cream from Agape Creamery! Click <a href="https://business.bethany-fenwick.org/events/details/fire-ice-rock-n-roll-millville-boardwalk-happenings-23326" target="_blank">here</a>&nbsp\;for more information.&nbsp\;</span></span><br />\n<br />\n<span style="font-size:14px\;">Click <a href="https://fireandicede.com/">here</a> to check out our Fire &amp\; Ice event page.</span><br />\n<br />\n<font color="#0000cd"><span style="font-size: 18px\;">Sunday\, February 13th</span></font><br />\n<br />\n<span style="font-family: sans-serif\, Arial\, Verdana\, &quot\;Trebuchet MS&quot\;\; background-color: rgb(255\, 255\, 255)\; color: rgb(0\, 0\, 205)\; font-size: 16px\;">Tastings at Banks Wines &amp\; Spirits&nbsp\;</span><br style="color: rgb(51\, 51\, 51)\; font-family: sans-serif\, Arial\, Verdana\, &quot\;Trebuchet MS&quot\;\; font-size: 13px\;" />\n<span style="color: rgb(51\, 51\, 51)\; font-family: sans-serif\, Arial\, Verdana\, &quot\;Trebuchet MS&quot\;\; background-color: rgb(255\, 255\, 255)\; font-size: 14px\; white-space: pre-wrap\;">Come join us at Banks Wines &amp\; Spirits on Super Bowl Sunday for different tasting samples.</span><br />\n<span style="font-size: 14px\; white-space: pre-wrap\;"><span style="color:#0000CD\;">12:00 PM - 3:00 PM</span> - Plush Plum Vodka</span><br />\n<span style="color: rgb(0\, 0\, 205)\; font-family: sans-serif\, Arial\, Verdana\, &quot\;Trebuchet MS&quot\;\; font-size: 14px\; white-space: pre-wrap\; background-color: rgb(255\, 255\, 255)\;">12:00 PM - 4:00 PM </span><span style="font-size:14px\;">- Bud Light Next&nbsp\;</span><br />\n&nbsp\;
LOCATION:Evan's Park 32517 Dukes Drive Millville\, DE 19967
UID:e.2126.23125
SEQUENCE:3
DTSTAMP:20260424T055409Z
URL:http://business.thequietresorts.com/events/details/fire-ice-festival-rock-n-roll-town-of-millville-happenings-23125
END:VEVENT

END:VCALENDAR
