BEGIN:VCALENDAR
VERSION:2.0
PRODID:-//ChamberMaster//Event Calendar 2.0//EN
METHOD:PUBLISH
X-PUBLISHED-TTL:P3D
REFRESH-INTERVAL:P3D
CALSCALE:GREGORIAN
BEGIN:VEVENT
DTSTART:20220211T160000Z
DTEND:20220213T000000Z
X-MICROSOFT-CDO-ALLDAYEVENT:FALSE
SUMMARY:Fire & Ice Festival - "Rock 'n' Roll" Town of Bethany Beach Happenings
DESCRIPTION:Bethany Beach is hosting a number of fun festival activities throughout the entire weekend. And you won't want to miss the ice sculptures provided by Ice Labs!\n\n\n\nFriday\, January 28th\n\nBonfire\n\nWarm up with a bonfire and s'mores on Hollywood Street at 5:00 PM. This event is sponsored by Su Casa Furniture which will sell s'mores packets to support Santa's Letters.\n\n\n\nTasting Tour\n\nThe Tasting Tour kicks off with participating restaurants in the Quiet Resorts offering their signature Fire & Ice Rock 'n' Roll themed cocktail. To purchase tickets\, please click here.\n\n\n\n\n\nSaturday\, January 29th\n\nCascading Carlos - 2:00 - 6:00 PM\n\nAt 2:00 PM at the Bethany Beach Bandstand\, enjoy Cascading Carlos illusions in his\n\nJuggling show. You will be amazed by his juggling skills\, while he teaches you how to juggle. Family friendly show for all! \n\n\n\nIce Tour - 5:00- 9:00 PM\n\nStarting at 5:00 PM\, check out all the sculptures in town by taking an Ice Tour! Pick up a festival map at the information tent to make sure you see them all! There is over 50\,000 pounds of ice coming to The Quiet Resorts!  Watch as the ice sculptures are unveiled and illuminated with lights as the sun sets. For more information\, please click here.\n\n\n\nLive Ice Demonstration - 5:30 PM\n\nAt 5:30 PM Ice Lab will host a Live Ice Demonstration at the stage on Hollywood Street sponsored by Bethany Beach Ocean Suites. Watch as 10 Blocks of ice are transformed into a detailed sculpture with DJ Brian K Hall.\n\n\n\nLive Performance and Signature Sculpture - 7:00 PM \n\nAt 7:00 PM\, the Bethany Beach Signature Ice Sculpture provided by Ice Labs will serve as a backdrop for a Live Performance from Jesse Garron's Elvis Tribute at 7:00 PM on the Bandstand.\n\n\n\nFireworks - 7:30 PM \n\nCelebrate the grand finale of the festival weekend with a Firework Show at 7:30 PM presented by the Town of Bethany Beach and Southern Delaware Tourism.\n\n\n\nAdditional Activities- 3:00 pm - 6:00 pm\n\nBeach Liquors- Sagamore Rye Tastings in store between 3:00 pm - 6:00 pm.\n\n\n\nThe Fire and Ice Tasting Tour will continue throughout Saturday and Sunday at participating businesses.\n\n\n\nFor more info on Fire and Ice click here to check out our event webpage! \n\n\n\nParticipate in the Surfin' Snowman 5 Mile Run and 2 Mile Walk on Saturday\, February 12th at 4PM in Downtown Bethany Beach. The link to registration can be found here.
X-ALT-DESC;FMTTYPE=text/html:<span style="font-size:14px\;"><span style="font-family:arial\;">Bethany Beach is hosting a number of fun festival activities throughout the entire weekend. And you won&#39\;t want to miss the ice sculptures provided by Ice Labs!</span></span><br />\n<br />\n<span style="font-family:arial\;"><span style="font-size:16px\;"><span style="color:#0000FF\;"><span style="font-size:18px\;">Friday\, January 28th</span><br />\nBonfire</span></span></span><br />\n<span style="font-size:14px\;"><span style="font-family:arial\;">Warm up with a bonfire and s&#39\;mores on Hollywood Street at 5:00 PM. This event is sponsored by Su Casa Furniture which will sell s&#39\;mores packets to support Santa&#39\;s Letters.</span></span><br />\n<br />\n<span style="color: rgb(0\, 0\, 255)\; font-family: arial\; font-size: 16px\;">Tasting Tour</span><br />\n<span style="font-family: &quot\;Helvetica Neue&quot\;\, Helvetica\, Arial\, sans-serif\; font-size: 15px\;"><span style="font-size:14px\;"><span style="font-family:arial\;">The Tasting Tour kicks off with participating restaurants in the Quiet Resorts offering their signature Fire &amp\; Ice Rock &#39\;n&#39\; Roll themed cocktail. To purchase tickets\, please <a href="https://business.bethany-fenwick.org/events/details/fire-ice-rock-n-roll-tasting-tour-23121" target="_blank">click here</a>.</span></span></span><br />\n<br />\n<br />\n<span style="color: rgb(0\, 0\, 255)\; font-family: arial\; font-size: 18px\;">Saturday\, January 29th<br />\n<span style="font-size:16px\;">Cascading Carlos - 2:00 - 6:00 PM</span></span><br />\n<span style="font-family:arial\;"><span style="font-size:14px\;">At 2:00 PM at the Bethany Beach Bandstand\, enjoy Cascading Carlos&nbsp\;illusions in his<br />\nJuggling show. You will be amazed by his juggling skills\, while he teaches you how to juggle. Family friendly show for all!&nbsp\;</span></span><br />\n<br />\n<span style="color: rgb(0\, 0\, 255)\; font-family: arial\; font-size: 16px\;">Ice Tour - 5:00- 9:00 PM</span><br />\n<span style="font-family: &quot\;Helvetica Neue&quot\;\, Helvetica\, Arial\, sans-serif\; font-size: 15px\;"><span style="font-size:14px\;"><span style="font-family:arial\;">Starting at 5:00 PM\, check out all the sculptures in town by taking an Ice Tour! Pick up a festival map at the information tent to make sure you see them all! There is over 50\,000 pounds of ice coming to The Quiet Resorts!&nbsp\; Watch as the ice sculptures are unveiled and illuminated with lights as the sun sets. For more information\, please <a href="https://business.bethany-fenwick.org/events/details/fire-ice-festival-rock-n-roll-bethany-beach-sculpture-walking-tour-23122" target="_blank">click here</a>.</span></span></span><br />\n<br />\n<span style="color: rgb(0\, 0\, 255)\; font-family: arial\; font-size: 16px\;">Live Ice Demonstration - 5:30 PM</span><br />\n<span style="font-family: &quot\;Helvetica Neue&quot\;\, Helvetica\, Arial\, sans-serif\; font-size: 15px\;"><span style="font-size:14px\;"><span style="font-family:arial\;">At 5:30 PM Ice Lab will host a Live Ice Demonstration at the stage on Hollywood Street sponsored by Bethany Beach Ocean Suites. Watch as 10 Blocks of ice are transformed into a detailed sculpture with DJ Brian K Hall.</span></span></span><br />\n<br />\n<span style="color: rgb(0\, 0\, 255)\; font-family: arial\; font-size: 16px\;">Live Performance and Signature Sculpture - 7:00 PM&nbsp\;</span><br />\n<span style="font-family: &quot\;Helvetica Neue&quot\;\, Helvetica\, Arial\, sans-serif\; font-size: 15px\;"><span style="font-size:14px\;"><span style="font-family:arial\;">At 7:00 PM\, the Bethany Beach Signature Ice Sculpture provided by Ice Labs will serve as a backdrop for a Live Performance from Jesse Garron&#39\;s Elvis Tribute at 7:00 PM on the Bandstand.</span></span></span><br />\n<br />\n<span style="color: rgb(0\, 0\, 255)\; font-family: arial\; font-size: 16px\;">Fireworks - 7:30 PM&nbsp\;</span><br />\n<span style="font-family: &quot\;Helvetica Neue&quot\;\, Helvetica\, Arial\, sans-serif\; font-size: 15px\;"><span style="font-size:14px\;"><span style="font-family:arial\;">Celebrate the grand finale of the festival weekend with a Firework Show at 7:30 PM presented by the Town of Bethany Beach and Southern Delaware Tourism.</span></span></span><br />\n<br />\n<span style="color: rgb(0\, 0\, 255)\; font-family: arial\; font-size: 16px\; background-color: rgb(255\, 255\, 255)\;">Additional Activities- 3:00 pm - 6:00 pm</span><br />\n<span style="font-family: &quot\;Helvetica Neue&quot\;\, Helvetica\, Arial\, sans-serif\; font-size: 15px\;"><span style="font-size:14px\;"><span style="font-family:arial\;">Beach Liquors- Sagamore Rye Tastings in store between 3:00 pm - 6:00 pm.<br />\n<br />\n<a href="https://business.bethany-fenwick.org/events/details/fire-ice-rock-n-roll-tasting-tour-23121" target="_blank">The Fire and Ice Tasting Tour</a> will continue throughout Saturday and Sunday at participating businesses.</span></span></span><br />\n<br />\n<span style="font-size:14px\;">For more info on Fire and Ice click <a href="https://fireandicede.com/" target="_blank">here</a> to check out our event webpage!&nbsp\;<br />\n<br />\nParticipate in the Surfin&#39\; Snowman 5 Mile Run and 2 Mile Walk on <strong>Saturday\, February 12th at 4PM</strong> in Downtown Bethany Beach. The link to registration can be found <a href="https://www.surfinsnowman.com/Race/DE/BethanyBeach/SurfinSnowman">here</a>.&nbsp\;</span><br />\n<br />\n<br />\n<br />\n&nbsp\;
LOCATION:Bethany Beach Bandstand
UID:e.2126.23306
SEQUENCE:3
DTSTAMP:20260424T054902Z
URL:http://business.thequietresorts.com/events/details/fire-ice-festival-rock-n-roll-town-of-bethany-beach-happenings-23306
END:VEVENT

END:VCALENDAR
