BEGIN:VCALENDAR
VERSION:2.0
PRODID:-//ChamberMaster//Event Calendar 2.0//EN
METHOD:PUBLISH
X-PUBLISHED-TTL:P3D
REFRESH-INTERVAL:P3D
CALSCALE:GREGORIAN
BEGIN:VEVENT
DTSTART:20220211T220000Z
DTEND:20220213T010000Z
X-MICROSOFT-CDO-ALLDAYEVENT:FALSE
SUMMARY:Fire & Ice Festival - Rock 'n Roll - Millville Sculpture Walking Tour
DESCRIPTION:Fire & Ice Sculpture Walking Tour\n\nCheck out all the sculptures in town by taking a tour! Pick up a festival map at the information tent to make sure you see them all!  The walking tour will begin at 5:00 pm on Friday and Saturday night. Watch as the ice sculptures are unveiled and illuminated with lights!\n\n\n\nFire & Ice Festival\n\nFor all activities occurring throughout the Fire & Ice Festival\, please click here.
X-ALT-DESC;FMTTYPE=text/html:<span style="color: rgb(51\, 51\, 51)\; font-family: sans-serif\, Arial\, Verdana\, &quot\;Trebuchet MS&quot\;\; font-size: 14px\;"><span style="font-family: arial\;"><strong><span style="font-size: 16px\;"><span style="color: rgb(0\, 0\, 205)\;">Fire &amp\; Ice Sculpture Walking Tour</span></span></strong><br />\n<span style="background-color: rgb(255\, 255\, 255)\;">Check out all the sculptures in town by taking a tour! Pick up a festival map at the information tent to make sure you see them all!&nbsp\; The walking tour will begin at&nbsp\;5:00 pm on Friday and Saturday night. Watch as the ice sculptures are unveiled and illuminated with lights!</span></span></span><br style="color: rgb(51\, 51\, 51)\; font-family: sans-serif\, Arial\, Verdana\, &quot\;Trebuchet MS&quot\;\; font-size: 13px\;" />\n<br style="color: rgb(51\, 51\, 51)\; font-family: sans-serif\, Arial\, Verdana\, &quot\;Trebuchet MS&quot\;\; font-size: 13px\;" />\n<span style="color: rgb(51\, 51\, 51)\; font-family: sans-serif\, Arial\, Verdana\, &quot\;Trebuchet MS&quot\;\; font-size: 14px\;"><span style="font-family: arial\;"><strong><span style="color: rgb(0\, 0\, 205)\;"><span style="font-weight: 400\; white-space: pre-wrap\; background-color: rgb(255\, 255\, 255)\;"><span style="font-size: 16px\;">Fire &amp\; Ice Festival</span></span></span></strong><br />\n<span style="color: rgb(29\, 33\, 41)\; white-space: pre-wrap\; background-color: rgb(255\, 255\, 255)\;"><span style="font-size: 16px\;"><span style="font-size: 14px\;">For all activities occurring throughout the Fire &amp\; Ice Festival\, please <strong><a href="https://business.bethany-fenwick.org/events/details/fire-ice-festival-delmarvalous-21843" style="color: rgb(7\, 130\, 193)\;" target="_blank">click here</a></strong>.</span></span></span></span></span>
LOCATION:Evan's Park 32517 Dukes Drive Millville\, DE 19967
UID:e.2126.23441
SEQUENCE:3
DTSTAMP:20260424T072332Z
URL:http://business.thequietresorts.com/events/details/fire-ice-festival-rock-n-roll-millville-sculpture-walking-tour-23441
END:VEVENT

END:VCALENDAR
