BEGIN:VCALENDAR
VERSION:2.0
PRODID:-//ChamberMaster//Event Calendar 2.0//EN
METHOD:PUBLISH
X-PUBLISHED-TTL:P3D
REFRESH-INTERVAL:P3D
CALSCALE:GREGORIAN
BEGIN:VEVENT
DTSTART:20220212T220000Z
DTEND:20220213T010000Z
X-MICROSOFT-CDO-ALLDAYEVENT:FALSE
SUMMARY:Fire & Ice Festival Rock 'n Roll - Fenwick/ West Fenwick Happenings
DESCRIPTION:Fire & Ice Sculpture Walking Tour\n\nCheck out all the sculptures in town by taking a tour! Pick up a festival map at the information tent to make sure you see them all! We have over 15 tons of ice coming to The Quiet Resorts! The walking tour will begin at 5:00 pm on Friday and Saturday night. Watch as the ice sculptures are unveiled and illuminated with lights!\n\n\n\nParticipating Locations:\n\nFenwick Shores\n\nJust Hooked\n\n\n\nFriday\n\nWine Down Friday: \n\n1/2 Off All Bottles of Wine\n\nHappy Hour 4:30-6 pm\n\n\n\nSaturday\n\nOTH Appreciation Night \n\nHappy Hour 4:30-6 pm\n\n\n\nSunday\n\nSunday Funday:\n\nAll Day Happy Hour\n\n\n\nPottery Place\n\nSignatures at Bayside\n\n\n\nFire & Ice Festival\n\nFor all activities occurring throughout the Fire & Ice Festival\, please click here.
X-ALT-DESC;FMTTYPE=text/html:<span style="color: rgb(51\, 51\, 51)\; font-family: sans-serif\, Arial\, Verdana\, &quot\;Trebuchet MS&quot\;\; font-size: 14px\;"><span style="font-family: arial\;"><strong><span style="font-size: 16px\;"><span style="color: rgb(0\, 0\, 205)\;">Fire &amp\; Ice Sculpture Walking Tour</span></span></strong><br />\n<span style="background-color: rgb(255\, 255\, 255)\;">Check out all the sculptures in town by taking a tour! Pick up a festival map at the information tent to make sure you see them all! We have over 15 tons of ice coming to The Quiet Resorts! The walking tour will begin at&nbsp\;5:00 pm on Friday and Saturday night. Watch as the ice sculptures are unveiled and illuminated with lights!<br />\n<br />\nParticipating Locations:</span></span></span><br />\n<strong><span style="font-size:14px\;"><span style="font-family:arial\;">Fenwick Shores</span></span></strong><br />\n<strong><span style="font-size:14px\;"><span style="font-family:arial\;">Just Hooked</span></span></strong><br />\n<br />\n<span style="font-size:14px\;"><span style="font-family:arial\;"><strong>Friday</strong></span></span><br />\n<span style="font-family:arial\;"><span style="font-size:14px\;"><strong style="box-sizing:border-box\;">Wine Down Friday:&nbsp\;</strong><br />\n1/2 Off All Bottles of Wine<br />\nHappy Hour 4:30-6 pm</span></span><br />\n<br />\n<strong><span style="font-size: 14px\; font-family: arial\; text-align: center\;">Saturday</span></strong><br />\n<span style="font-family:arial\;"><span style="font-size:14px\;"><strong style="box-sizing:border-box\;">OTH Appreciation Night&nbsp\;</strong><br />\nHappy Hour 4:30-6 pm</span></span><br />\n<br />\n<strong><span style="font-size: 14px\; font-family: arial\; text-align: center\;">Sunday</span></strong><br />\n<span style="font-family:arial\;"><span style="font-size:14px\;"><strong style="box-sizing:border-box\;">Sunday Funday:</strong><br />\nAll Day Happy Hour</span></span><br />\n<br />\n<strong><span style="font-size:14px\;"><span style="font-family:arial\;">Pottery Place</span></span></strong><br />\n<strong><span style="font-size:14px\;"><span style="font-family:arial\;">Signatures at Bayside</span></span></strong><br />\n<br style="color: rgb(51\, 51\, 51)\; font-family: sans-serif\, Arial\, Verdana\, &quot\;Trebuchet MS&quot\;\; font-size: 13px\;" />\n<span style="color: rgb(51\, 51\, 51)\; font-family: sans-serif\, Arial\, Verdana\, &quot\;Trebuchet MS&quot\;\; font-size: 14px\;"><span style="font-family: arial\;"><strong><span style="color: rgb(0\, 0\, 205)\;"><span style="font-weight: 400\; white-space: pre-wrap\; background-color: rgb(255\, 255\, 255)\;"><span style="font-size: 16px\;">Fire &amp\; Ice Festival</span></span></span></strong><br />\n<span style="color: rgb(29\, 33\, 41)\; white-space: pre-wrap\; background-color: rgb(255\, 255\, 255)\;"><span style="font-size: 16px\;"><span style="font-size: 14px\;">For all activities occurring throughout the Fire &amp\; Ice Festival\, please <strong><a href="https://business.bethany-fenwick.org/events/details/fire-ice-festival-delmarvalous-21843" style="color: rgb(7\, 130\, 193)\;" target="_blank">click here</a></strong>.</span></span></span></span></span>
LOCATION:Participating Locations in Fenwick/West Fenwick\, DE
UID:e.2126.23444
SEQUENCE:3
DTSTAMP:20260424T054856Z
URL:http://business.thequietresorts.com/events/details/fire-ice-festival-rock-n-roll-fenwick-west-fenwick-happenings-23444
END:VEVENT

END:VCALENDAR
