BEGIN:VCALENDAR
VERSION:2.0
PRODID:-//ChamberMaster//Event Calendar 2.0//EN
METHOD:PUBLISH
X-PUBLISHED-TTL:P3D
REFRESH-INTERVAL:P3D
CALSCALE:GREGORIAN
BEGIN:VEVENT
DTSTART:20200124T150000Z
DTEND:20200125T200000Z
X-MICROSOFT-CDO-ALLDAYEVENT:FALSE
SUMMARY:Fire & Ice Festival - NASA Wallops Island Programs
DESCRIPTION:Join NASA Wallops Island in the lobby of Bethany Beach Ocean Suites for two special programs. On Friday\, January 24\, Rebecca Hudson and Lisa Sherman of NASA will be in the lobby teaching adults and children about their Moon to Mars Program. This program will run from 10:00 am - 3:00 pm.\n\n\n\nThen on Saturday\, January 25\, join Jeremy Eggers and Amy Barra of NASA in the Bethany Beach Ocean Suites lobby for their Flight Facility Display. This program will run from 10:00 am - 3:00 pm.\n\n\n\nNASA Wallops Island Moon to Mars Program\n\nWorking with U.S. companies and international partners\, NASA will push the boundaries of human exploration forward to the Moon and on to Mars. NASA is working to establish a permanent human presence on the Moon within the next decade to uncover new scientific discoveries and lay the foundation for private companies to build a lunar economy. Right now\, NASA is taking steps to begin this next era of exploration.\n\n \nIt all starts with delivery services to the lunar surface from U.S. companies for scientific instruments and technology demonstrations as well as a spaceship\, called the Gateway\, in orbit around the Moon that will support human missions to the surface with reusable lander elements for decades to come. The Gateway will\, for the first time\, give NASA and its partners access to more of the lunar surface than ever before\, supporting both human and robotic missions. The agency's powerful Space Launch System rocket and Orion spacecraft will be the backbone to build the Gateway and transport astronauts to and from Earth.\n\n\n\nFor more information on their Moon to Mars program\, please click here.\n\n\n\nNASA Wallops Island Flight Facility Display\n\nJoin NASA's Wallops Island in the lobby of Bethany Beach Ocean Suites as they prepare for the February 9th launch to replenish the International Space Station. Come out to learn more about the mission\, ask questions\, and learn about the best places to view the launch!\n\n\n\nAbout the Replenishment Mission\n\nNorthrop Grumman's thirteenth contracted commercial resupply services mission\, launching its Cygnus spacecraft aboard an Antares rocket from Wallops Flight Facility in Virginia\, will deliver several tons of cargo to the International Space Station. For more information about the mission\, please click here.
X-ALT-DESC;FMTTYPE=text/html:<span style="font-family: arial\;"><span style="font-size: 14px\;"><span style="font-size: 16px\;"><span style="font-size: 14px\;">Join NASA Wallops Island in the lobby of Bethany Beach Ocean Suites for two special programs. On Friday\, January 24\, Rebecca Hudson and Lisa Sherman of NASA will be in the lobby teaching adults and children about their Moon to Mars Program. This program will run from 10:00 am - 3:00 pm.<br />\n<br />\nThen on Saturday\, January 25\, join Jeremy Eggers and Amy Barra of NASA in the Bethany Beach Ocean Suites lobby for their Flight Facility Display. This program will run from 10:00 am - 3:00 pm.</span><br />\n<br />\n<span style="color: rgb(0\, 0\, 205)\;">NASA Wallops Island Moon to Mars Program</span></span></span></span><br />\n<span style="font-size: 14px\;"><span style="font-family: arial\;"><span helvetica="" inline="" style="color: rgb(51\, 51\, 51)\; text-transform: none\; text-indent: 0px\; letter-spacing: normal\;">Working with U.S. companies and international partners\, NASA will push the boundaries of human exploration forward to the Moon and on to Mars. NASA is working to establish a permanent human presence on the Moon within the next decade to uncover new scientific discoveries and lay the foundation for private companies to build a lunar economy. </span>Right now\, NASA is taking steps to begin this next era of exploration.</span></span><br />\n&nbsp\;\n<p helvetica="" style="margin: 0px 0px 10px\; color: rgb(51\, 51\, 51)\; text-transform: none\; text-indent: 0px\; letter-spacing: normal\; font-family:\;"><span style="font-size: 14px\;"><span style="font-family: arial\;">It all starts with&nbsp\;<strong><a href="https://www.nasa.gov/press-release/nasa-announces-new-partnerships-for-commercial-lunar-payload-delivery-services" style="background: none\; color: rgb(66\, 139\, 202)\; text-decoration: none\; box-sizing: border-box\;" target="_blank">delivery services</a></strong>&nbsp\;to the lunar surface from U.S. companies for&nbsp\;<strong><a href="https://www.nasa.gov/press-release/nasa-selects-experiments-for-possible-lunar-flights-in-2019" style="background: none\; color: rgb(66\, 139\, 202)\; text-decoration: none\; box-sizing: border-box\;" target="_blank">scientific instruments</a></strong>&nbsp\;and&nbsp\;<strong><a href="https://www.nasa.gov/feature/nasa-calls-for-instruments-technologies-for-delivery-to-the-moon" style="background: none\; color: rgb(66\, 139\, 202)\; text-decoration: none\; box-sizing: border-box\;" target="_blank">technology demonstrations</a></strong>&nbsp\;as well as a&nbsp\;spaceship\, called the&nbsp\;<strong><a href="https://www.nasa.gov/feature/questions-nasas-new-spaceship" style="background: none\; color: rgb(66\, 139\, 202)\; text-decoration: none\; box-sizing: border-box\;" target="_blank">Gateway</a></strong>\, in orbit around the Moon that will support human missions to the surface with reusable lander elements for decades to come. The Gateway will\, for the first time\, give NASA and its partners access to more of the lunar surface than ever before\, supporting both human and robotic missions. The agency&rsquo\;s powerful Space Launch System rocket and Orion spacecraft will be the backbone to build the Gateway and transport astronauts to and from Earth.<br />\n<br />\nFor more information on their Moon to Mars program\, please <strong><a href="https://www.nasa.gov/topics/moon-to-mars/overview" target="_blank">click here</a></strong>.<br />\n<br />\n<span style="color: rgb(0\, 0\, 205)\;"><span style="font-size: 16px\;">NASA Wallops Island Flight Facility Display</span></span></span></span><br />\n<span style="font-family: arial\;"><span style="color: rgb(29\, 33\, 41)\; text-transform: none\; text-indent: 0px\; letter-spacing: normal\; font-size: 14px\; font-style: normal\; font-weight: 400\; word-spacing: 0px\; float: none\; display: inline !important\; white-space: pre-wrap\; orphans: 2\; widows: 2\; background-color: rgb(255\, 255\, 255)\; -webkit-text-stroke-width: 0px\; font-variant-ligatures: normal\; font-variant-caps: normal\; text-decoration-style: initial\; text-decoration-color: initial\;">Join NASA&#39\;s Wallops Island in the lobby of Bethany Beach Ocean Suites as they prepare for the February 9th launch to replenish the International Space Station. Come out to learn more about the mission\, ask questions\, and learn about the best places to view the launch!</span><br />\n<br />\n<span style="color: rgb(0\, 0\, 205)\;"><span style="text-transform: none\; text-indent: 0px\; letter-spacing: normal\; font-size: 14px\; font-style: normal\; font-weight: 400\; word-spacing: 0px\; float: none\; display: inline !important\; white-space: pre-wrap\; orphans: 2\; widows: 2\; background-color: rgb(255\, 255\, 255)\; -webkit-text-stroke-width: 0px\; font-variant-ligatures: normal\; font-variant-caps: normal\; text-decoration-style: initial\; text-decoration-color: initial\;"><span style="font-size: 16px\;">About the Replenishment Mission</span></span></span><br />\n<span style="color: rgb(29\, 33\, 41)\; text-transform: none\; text-indent: 0px\; letter-spacing: normal\; font-size: 14px\; font-style: normal\; font-weight: 400\; word-spacing: 0px\; float: none\; display: inline !important\; white-space: pre-wrap\; orphans: 2\; widows: 2\; background-color: rgb(255\, 255\, 255)\; -webkit-text-stroke-width: 0px\; font-variant-ligatures: normal\; font-variant-caps: normal\; text-decoration-style: initial\; text-decoration-color: initial\;"><span style="font-size: 16px\;"><span style="font-size: 14px\;">Northrop Grumman&#39\;s thirteenth contracted commercial resupply services mission\, launching its Cygnus spacecraft aboard an Antares rocket from Wallops Flight Facility in Virginia\, will deliver several tons of cargo to the International Space Station. For more information about the mission\, please <strong><a href="https://www.nasa.gov/press-release/nasa-invites-media-to-northrop-grumman-s-february-space-station-launch" target="_blank"><font color="#0066cc">click here</font></a></strong>.</span></span></span></span></p>\n
LOCATION:Bethany Beach Ocean Suites Lobby 99 Hollywood St Bethany Beach\, DE 19930
UID:e.2126.19683
SEQUENCE:3
DTSTAMP:20260426T020619Z
URL:http://business.thequietresorts.com/events/details/fire-ice-festival-nasa-wallops-island-programs-19683
END:VEVENT

END:VCALENDAR
