BEGIN:VCALENDAR
VERSION:2.0
PRODID:-//ChamberMaster//Event Calendar 2.0//EN
METHOD:PUBLISH
X-PUBLISHED-TTL:P3D
REFRESH-INTERVAL:P3D
CALSCALE:GREGORIAN
BEGIN:VEVENT
DTSTART:20200124T213000Z
DTEND:20200125T013000Z
X-MICROSOFT-CDO-ALLDAYEVENT:FALSE
SUMMARY:Fire & Ice Festival - Movies at the Millville Boardwalk
DESCRIPTION:Join us at the Millville Boardwalk for Movies at the Millville Boardwalk! Space Buddies and Space Jam will be played at the heated pavilion and get $1 off ice cream from Agape Creamery after the movie. Tickets are $5\, and there are 35 spots available. Bring your own chairs and blankets!\n\n\n\nSpace Buddies: 4:30 pm - 6:00 pm\n\nDisney's pups are back and take one small step for dog and one giant leap for dogkind.\n\nRating: G\n\n\n\nSpace Jam: 6:30 pm - 8:30 pm\n\nIn a desperate attempt to win a basketball match and earn their freedom\, the Looney Tunes seek the aid of retired basketball champion\, Michael Jordan\n\nRating: PG\n\n\n\nBe sure to follow The Quiet Resorts on Facebook and Instagram for updates throughout the weekend and visit fireandicede.com for all activities occurring throughout the weekend.
X-ALT-DESC;FMTTYPE=text/html:<p style="text-align: justify\;"><span style="font-size: 14px\;"><span style="font-family: arial\;"><span style="color: rgb(29\, 33\, 41)\; text-transform: none\; text-indent: 0px\; letter-spacing: normal\; font-style: normal\; font-weight: 400\; word-spacing: 0px\; float: none\; display: inline !important\; white-space: pre-wrap\; orphans: 2\; widows: 2\; background-color: rgb(255\, 255\, 255)\; -webkit-text-stroke-width: 0px\; font-variant-ligatures: normal\; font-variant-caps: normal\; text-decoration-style: initial\; text-decoration-color: initial\;">Join us at the Millville Boardwalk for Movies at the Millville Boardwalk! <em>Space Buddies</em> and <em>Space Jam</em> will be played at the heated pavilion and get $1 off&nbsp\;ice cream from Agape Creamery after the movie. Tickets are $5\, and there are 35 spots available. Bring your own chairs and blankets!</span><br />\n<br />\n<font color="#1d2129"><em>Space Buddies</em>: 4:30 pm - 6:00 pm</font><br />\n<font color="#1d2129">Disney&#39\;s pups are back and take one small step for dog and one giant leap for dogkind.</font><br />\n<font color="#1d2129">Rating: G</font><br />\n<br />\n<span style="color: rgb(29\, 33\, 41)\; text-transform: none\; text-indent: 0px\; letter-spacing: normal\; font-style: normal\; font-weight: 400\; word-spacing: 0px\; float: none\; display: inline !important\; white-space: pre-wrap\; orphans: 2\; widows: 2\; background-color: rgb(255\, 255\, 255)\; -webkit-text-stroke-width: 0px\; font-variant-ligatures: normal\; font-variant-caps: normal\; text-decoration-style: initial\; text-decoration-color: initial\;"><em>Space Jam</em>: 6:30 pm - 8:30 pm</span><br />\n<font color="#1d2129">In a desperate attempt to win a basketball match and earn their freedom\, the Looney Tunes seek the aid of retired basketball champion\, Michael Jordan</font><br />\n<font color="#1d2129">Rating: PG</font><br />\n<br />\nBe sure to follow The Quiet Resorts on <strong><a href="https://www.facebook.com/thequietresorts/" target="_blank"><font color="#0066cc">Facebook</font></a></strong> and <strong><a href="https://www.instagram.com/thequietresorts/" target="_blank"><font color="#0066cc">Instagram</font></a></strong> for updates throughout the weekend and&nbsp\;visit <strong><a href="https://fireandicede.com/" target="_blank"><font color="#0066cc">fireandicede.com</font></a></strong> for all activities occurring throughout the weekend.</span></span><br />\n<br />\n<br />\n<br />\n<br />\n&nbsp\;</p>\n
LOCATION:Millville Boardwalk 35287 Atlantic Ave Millville\, DE 19967
UID:e.2126.19664
SEQUENCE:3
DTSTAMP:20260426T021317Z
URL:http://business.thequietresorts.com/events/details/fire-ice-festival-movies-at-the-millville-boardwalk-19664
END:VEVENT

END:VCALENDAR
