BEGIN:VCALENDAR
VERSION:2.0
PRODID:-//ChamberMaster//Event Calendar 2.0//EN
METHOD:PUBLISH
X-PUBLISHED-TTL:P3D
REFRESH-INTERVAL:P3D
CALSCALE:GREGORIAN
BEGIN:VEVENT
DTSTART:20200125T223000Z
DTEND:20200126T003000Z
X-MICROSOFT-CDO-ALLDAYEVENT:FALSE
SUMMARY:Fire & Ice Festival Live Sculpture Demo
DESCRIPTION:Don't miss the live sculpture demonstration on the bandstand in downtown Bethany Beach\, presented by Bethany Beach Ocean Suites & Holiday Inn Express. Watch as 3\,000 pounds of ice are transformed into a detailed sculpture. The live sculpture demo will take place on Saturday\, January 25 from 5:30 pm   7:30 pm. The sculpture is created by Ice Labs and will follow our "Out of this Word" theme!\n\n\n\nBe sure to follow The Quiet Resorts on Facebook and Instagram for updates throughout the weekend and visit fireandicede.com for all activities occurring throughout the weekend.
X-ALT-DESC;FMTTYPE=text/html:<span style="text-align: left\; color: rgb(37\, 32\, 26)\; text-transform: none\; text-indent: 0px\; letter-spacing: normal\; font-family: arial\; font-size: 14px\; font-style: normal\; font-weight: 400\; word-spacing: 0px\; float: none\; display: inline !important\; white-space: normal\; orphans: 2\; widows: 2\; background-color: rgb(255\, 255\, 255)\; -webkit-text-stroke-width: 0px\; font-variant-ligatures: normal\; font-variant-caps: normal\; text-decoration-style: initial\; text-decoration-color: initial\;">Don&#39\;t miss the live sculpture demonstration on the bandstand in downtown Bethany Beach\, presented by<span>&nbsp\;</span></span><strong style="background: rgb(255\, 255\, 255)\; margin: 0px\; padding: 0px\; border-radius: 0px\; border: currentColor\; border-image: none\; left: auto\; top: auto\; width: auto\; height: auto\; text-align: left\; right: auto\; bottom: auto\; color: rgb(37\, 32\, 26)\; text-transform: none\; line-height: inherit\; text-indent: 0px\; letter-spacing: normal\; overflow: visible\; clear: none\; font-family: arial\; font-size: 14px\; font-style: normal\; font-weight: bolder\; text-decoration: none\; word-spacing: 0px\; vertical-align: baseline\; float: none\; display: inline\; white-space: normal\; visibility: inherit\; border-collapse: separate\; position: static\; z-index: auto\; table-layout: auto\; direction: inherit\; -ms-word-break: inherit\; -ms-text-overflow: clip\; max-height: none\; max-width: none\; content: normal\; box-sizing: content-box\; orphans: 2\; widows: 2\; empty-cells: show\; font-stretch: inherit\; opacity: 1\; box-shadow: none\; resize: none\; outline-offset: 0px\; -webkit-text-stroke-width: 0px\; font-variant-ligatures: normal\; font-variant-caps: normal\; font-variant-numeric: inherit\; font-variant-east-asian: inherit\; overflow-wrap: inherit\;"><a href="https://www.marriott.com/hotels/travel/rehri-bethany-beach-ocean-suites-residence-inn/" style="background: none\; font: inherit\; margin: 0px\; padding: 0px\; outline: 0px\; border-radius: 0px\; border: currentColor\; transition:0.2s\; border-image: none\; left: auto\; top: auto\; width: auto\; height: auto\; text-align: inherit\; right: auto\; bottom: auto\; color: rgb(83\, 116\, 153)\; text-transform: inherit\; text-indent: inherit\; letter-spacing: inherit\; overflow: visible\; clear: none\; text-decoration: none\; word-spacing: inherit\; vertical-align: baseline\; float: none\; display: inline\; white-space: inherit\; visibility: inherit\; border-collapse: separate\; position: static\; z-index: auto\; table-layout: auto\; direction: inherit\; -ms-word-break: inherit\; -ms-text-overflow: clip\; max-height: none\; max-width: none\; content: normal\; box-sizing: content-box\; empty-cells: show\; font-size-adjust: inherit\; font-stretch: inherit\; opacity: 1\; box-shadow: none\; resize: none\; outline-offset: 0px\; -webkit-tap-highlight-color: rgba(0\, 0\, 0\, 0.3)\; overflow-wrap: break-word\;" target="_blank">Bethany Beach Ocean Suites<span>&nbsp\;</span></a></strong><span style="text-align: left\; color: rgb(37\, 32\, 26)\; text-transform: none\; text-indent: 0px\; letter-spacing: normal\; font-family: arial\; font-size: 14px\; font-style: normal\; font-weight: 400\; word-spacing: 0px\; float: none\; display: inline !important\; white-space: normal\; orphans: 2\; widows: 2\; background-color: rgb(255\, 255\, 255)\; -webkit-text-stroke-width: 0px\; font-variant-ligatures: normal\; font-variant-caps: normal\; text-decoration-style: initial\; text-decoration-color: initial\;">&amp\;<span>&nbsp\;</span></span><strong style="background: rgb(255\, 255\, 255)\; margin: 0px\; padding: 0px\; border-radius: 0px\; border: currentColor\; border-image: none\; left: auto\; top: auto\; width: auto\; height: auto\; text-align: left\; right: auto\; bottom: auto\; color: rgb(37\, 32\, 26)\; text-transform: none\; line-height: inherit\; text-indent: 0px\; letter-spacing: normal\; overflow: visible\; clear: none\; font-family: arial\; font-size: 14px\; font-style: normal\; font-weight: bolder\; text-decoration: none\; word-spacing: 0px\; vertical-align: baseline\; float: none\; display: inline\; white-space: normal\; visibility: inherit\; border-collapse: separate\; position: static\; z-index: auto\; table-layout: auto\; direction: inherit\; -ms-word-break: inherit\; -ms-text-overflow: clip\; max-height: none\; max-width: none\; content: normal\; box-sizing: content-box\; orphans: 2\; widows: 2\; empty-cells: show\; font-stretch: inherit\; opacity: 1\; box-shadow: none\; resize: none\; outline-offset: 0px\; -webkit-text-stroke-width: 0px\; font-variant-ligatures: normal\; font-variant-caps: normal\; font-variant-numeric: inherit\; font-variant-east-asian: inherit\; overflow-wrap: inherit\;"><a href="https://www.ihg.com/holidayinnexpress/hotels/us/en/bethany-beach/bhnde/hoteldetail" style="background: none\; font: inherit\; margin: 0px\; padding: 0px\; outline: 0px\; border-radius: 0px\; border: currentColor\; transition:0.2s\; border-image: none\; left: auto\; top: auto\; width: auto\; height: auto\; text-align: inherit\; right: auto\; bottom: auto\; color: rgb(83\, 116\, 153)\; text-transform: inherit\; text-indent: inherit\; letter-spacing: inherit\; overflow: visible\; clear: none\; text-decoration: none\; word-spacing: inherit\; vertical-align: baseline\; float: none\; display: inline\; white-space: inherit\; visibility: inherit\; border-collapse: separate\; position: static\; z-index: auto\; table-layout: auto\; direction: inherit\; -ms-word-break: inherit\; -ms-text-overflow: clip\; max-height: none\; max-width: none\; content: normal\; box-sizing: content-box\; empty-cells: show\; font-size-adjust: inherit\; font-stretch: inherit\; opacity: 1\; box-shadow: none\; resize: none\; outline-offset: 0px\; -webkit-tap-highlight-color: rgba(0\, 0\, 0\, 0.3)\; overflow-wrap: break-word\;" target="_blank">Holiday Inn Express</a></strong><span style="text-align: left\; color: rgb(37\, 32\, 26)\; text-transform: none\; text-indent: 0px\; letter-spacing: normal\; font-family: arial\; font-size: 14px\; font-style: normal\; font-weight: 400\; word-spacing: 0px\; float: none\; display: inline !important\; white-space: normal\; orphans: 2\; widows: 2\; background-color: rgb(255\, 255\, 255)\; -webkit-text-stroke-width: 0px\; font-variant-ligatures: normal\; font-variant-caps: normal\; text-decoration-style: initial\; text-decoration-color: initial\;">. Watch as 3\,000 pounds of ice are transformed into a detailed sculpture. </span><span style="font-family: arial\;"><span style="color: rgb(29\, 33\, 41)\; text-transform: none\; text-indent: 0px\; letter-spacing: normal\; font-size: 14px\; font-style: normal\; font-weight: 400\; word-spacing: 0px\; float: none\; display: inline !important\; white-space: pre-wrap\; orphans: 2\; widows: 2\; background-color: rgb(255\, 255\, 255)\; -webkit-text-stroke-width: 0px\; font-variant-ligatures: normal\; font-variant-caps: normal\; text-decoration-style: initial\; text-decoration-color: initial\;">The live sculpture demo will take place on Saturday\, January 25 from 5:30 pm &ndash\; 7:30 pm. The sculpture is created by Ice Labs and will follow our &ldquo\;Out of this Word&rdquo\; theme!</span></span><br />\n<br />\n<span style="text-align: left\; color: rgb(37\, 32\, 26)\; text-transform: none\; text-indent: 0px\; letter-spacing: normal\; font-family: arial\; font-size: 14px\; font-style: normal\; font-weight: 400\; word-spacing: 0px\; float: none\; display: inline !important\; white-space: normal\; orphans: 2\; widows: 2\; background-color: rgb(255\, 255\, 255)\; -webkit-text-stroke-width: 0px\; font-variant-ligatures: normal\; font-variant-caps: normal\; text-decoration-style: initial\; text-decoration-color: initial\;">Be sure to follow The Quiet Resorts on <strong><a href="https://www.facebook.com/thequietresorts/" target="_blank">Facebook</a></strong> and <strong><a href="https://www.instagram.com/thequietresorts/" target="_blank">Instagram</a></strong> for updates throughout the weekend and visit <a href="https://fireandicede.com/" target="_blank"><strong>fireandicede.com</strong></a>&nbsp\;for all activities occurring throughout the weekend.</span>
LOCATION:Bethany Beach Bandstand
UID:e.2126.19663
SEQUENCE:3
DTSTAMP:20260426T020925Z
URL:http://business.thequietresorts.com/events/details/fire-ice-festival-live-sculpture-demo-19663
END:VEVENT

END:VCALENDAR
