BEGIN:VCALENDAR
VERSION:2.0
PRODID:-//ChamberMaster//Event Calendar 2.0//EN
METHOD:PUBLISH
X-PUBLISHED-TTL:P3D
REFRESH-INTERVAL:P3D
CALSCALE:GREGORIAN
BEGIN:VEVENT
DTSTART:20230127T170000Z
DTEND:20230129T010000Z
X-MICROSOFT-CDO-ALLDAYEVENT:FALSE
SUMMARY:Fire & Ice Festival - "Lights\, Camera\, Action!" - Town of Ocean View Happenings
DESCRIPTION:The Town of Ocean View is hosting a number of fun festival activities throughout the entire weekend. Take a trip to visit the beautiful John West Park in Ocean View\, located at 32 West Ave\, Ocean View\, DE 19970\, for even more sculptures\, movies\, tasty food\, and activities!\n\n\n\nFriday\, January 27th\n\nWinter Maze - 12:00 - 8:00 PM\n\nExplore the Labryinth-themed Winter Maze at John West Park\, sponsored by True North\, from day until dark.\n\n\n\nSmashmouth Burgers Food Truck - 12:00 - 8:00 PM\n\n"The best burgers aren't made. They're smashed!" Grab a delicious bite cooked to order from Smashmouth Burgers at John West Park on Friday and Saturday!\n\n\n\nTaco Reho Food Truck - 12:00 - 7:00 PM\n\nTacos\, Tacos\, Tacos - enjoy So Cal street food flavors while you're touring the Ice at John West Park on Friday\, from 12:00 - 7:00 PM.\n\n\n\nBeer Garden - 12:00 - 8:00 PM \n\nBeach Liquors will be sponsoring a Hitchcock-themed Beer Garden at John West Park. Proceeds will benefit Beebe Healthcare's South Coastal Emergency Department and Cancer Center. Otherside Beverage will be pouring Burley Oak Brewing Company and First State Brewing from 3:00 PM - 6:00 PM. Visit Beach Liquors to sign up for email updates and information on tastings!\n\nBe sure to stop by Beach Liquors\, 33012 Coastal Hwy.\, Bethany Beach\, on Friday from 3-6PM to enjoy a Steel Blu Tasting!\n\n\n\nLive Radio - 3:00 - 5:00 PM\n\nRadio host Dana McDonald from 97.5 The Wave will be covering the Fire and Ice Festival kickoff live on the radio from John West Park from 3:00 - 5:00 PM.\n\n\n\nLive Ice Demonstration - 5:00 - 6:00 pm \n\nThere will be a Live Ice Demonstration at 5:00 PM at the Gazebo sponsored by The Town of Ocean View. Watch as 1\,800 pounds of ice are masterfully transformed into a detailed sculpture by the incredible artists from The Ice God.\n\n\n\n"Walk of Fame" Ice Tour - 5:00 - 9:00 PM\n\nCheck out all the sculptures in town by taking a "Walk of Fame" Ice Tour! Pick up a festival map at 5:00 PM at the Information Tent to make sure you see them all! Watch as the ice sculptures created by The Ice God's talented artists are unveiled and illuminated with lights as the sun sets! \n\n\n\nClassic Movie Showing - 5:30PM\n\nSponsored by the Town of Ocean View\, grab some popcorn and enjoy a big screen showing of the 1946 Hitchcock classic spy film\, Notorious!\n\n\n\nTasting Tour: For info on our restaurants participating in the Tasting Tour and off-site ice sculpture\, click here.\n\n\n\n\n\nSaturday\, January 28th\n\nSmashmouth Burgers Food Truck - 11:00AM - 3:00 PM\n\n"The best burgers aren't made. They're smashed!" Grab a delicious bite cooked to order from Smashmouth Burgers at John West Park on Friday and Saturday!\n\n\n\nBeer Garden - 11:00AM - 4:00 PM \n\nBeach Liquors will be sponsoring a Hitchcock-themed at John West Park. Proceeds will benefit Beebe South Coastal Emergency Center and Cancer Center.  Dewey Beer Company will be pouring some delicious tastings from 12:00 PM - 3:00PM. Visit Beach Liquors to sign up for email updates and information on tastings! \n\nBe sure to stop by Beach Liquors\, 33012 Coastal Hwy.\, Bethany Beach\, on Saturday from 2-5PM to enjoy a Sagamore Tasting!\n\n\n\nOcean View Historical Society  - 12:00 - 3:00 PM\n\nLocated in John West Park\, the Hall's Store\, the historic first free-standing post office\, chicken house\, and 39 Central shops  will be open for visitors.\n\n\n\nFiona Food Truck - 11:00 - 3:00 PM\n\nEnjoy some tasty food from Kristina's Kitchen after you weave through the winter maze or listen to the live entertainment. Their catering truck\, Fiona\, will be at John West Park throughout the afternoon.\n\n\n\nLive Music Performance - 12:00 - 2:00 PM\n\nSponsored by the Town of Ocean View\, don't miss live music by Notes at the Beach\, an incredible piano and bass duo known for iconic performances of showtunes\, jazz\, contemporary\, and swing music. \n\n\n\nWinter Maze - 12:00 - 8:00 PM \n\nExplore the Labryinth-themed Winter Maze at John West Park\, sponsored by True North\, from day until dark.\n\n\n\nTasting Tour \n\nThe Tasting Tour continues with participating restaurants in the Quiet Resorts offering their signature Fire & Ice "Lights\, Camera\, Action!" themed cocktail.  The Fire and Ice Tasting Tour will continue throughout Saturday and Sunday at participating businesses. The ticketed portion of the Tour is sold out but visit here to see what specials will be available for all guests throughout the festival weekend as well as additional offsite ice sculptures.\n\n\n\nFor more information on Fire & Ice\, click here to view all weekend events!\n\n\n\nVolunteers Needed -  Sign-Up Here
X-ALT-DESC;FMTTYPE=text/html:<span style="font-size:14px\;"><span style="font-family:arial\;">The Town of Ocean View is hosting a number of fun festival activities throughout the entire weekend. Take a trip to visit the beautiful John West Park in Ocean View\, located at 32 West Ave\, Ocean View\, DE 19970\, for even more sculptures\, movies\, tasty food\, and activities!</span></span><br />\n<br />\n<strong><span style="font-family:arial\;"><span style="font-size:18px\;"><span style="color:#0000FF\;">Friday\, January 27th</span></span></span></strong><br />\n<span style="color: rgb(0\, 0\, 255)\; font-family: arial\; font-size: 16px\;">Winter Maze - 12:00 - 8:00 PM</span><br />\n<span style="font-size: 14px\;"><span style="font-family: arial\;">Explore the <em>Labryinth-</em>themed Winter Maze at John West Park\, sponsored by True North\, from day until dark.<br />\n<br />\n<span style="color:#0000FF\;"><span style="font-size:16px\;">Smashmouth Burgers Food Truck - 12:00 - 8:00 PM</span></span></span></span><br />\n<span style="color: rgb(51\, 51\, 51)\; font-family: arial\; font-size: 14px\; background-color: rgb(255\, 255\, 255)\;">&quot\;The best burgers aren&#39\;t made. They&#39\;re smashed!&quot\; Grab a delicious bite cooked to order from Smashmouth Burgers at John West Park on Friday and Saturday!</span><br />\n<br />\n<span style="color:#0000FF\;"><span style="font-size:16px\;">Taco Reho Food Truck - 12:00 - 7:00 PM</span></span><br />\nTacos\, Tacos\, Tacos - enjoy So Cal street food flavors while you&#39\;re touring the Ice at John West Park on Friday\, from 12:00 - 7:00 PM.<br />\n<br />\n<span style="color: rgb(0\, 0\, 255)\; font-family: arial\; font-size: 16px\;">Beer Garden - 12:00 - 8:00 PM&nbsp\;</span><br />\n<span style="font-size:14px\;"><span style="font-family:arial\;">Beach Liquors will be sponsoring a <em>Hitchcock-</em>themed Beer Garden</span></span><span style="font-family: arial\; font-size: 14px\;">&nbsp\;at John West Park. Proceeds will benefit Beebe Healthcare&#39\;s South Coastal Emergency Department and Cancer Center. <a href="https://www.instagram.com/otherside_beverage/">Otherside Beverage</a> will be pouring <a href="https://burleyoak.com/">Burley Oak Brewing Company</a>&nbsp\;and <a href="https://www.firststatebrewing.com/">First State Brewing</a>&nbsp\;from 3:00 PM - 6:00 PM. Visit <a href="https://beachliquors.com/">Beach Liquors</a> to sign up for email updates and information on tastings!</span><br />\n<strong style="color: rgb(51\, 51\, 51)\; font-family: arial\; font-size: 14px\; background-color: rgb(255\, 255\, 255)\;">Be sure to stop by Beach Liquors\, 33012 Coastal Hwy.\, Bethany Beach\, on Friday from 3-6PM to enjoy a Steel Blu Tasting!</strong><br />\n<br />\n<span style="font-family:arial\;"><span style="font-size:16px\;"><span style="color:#0000FF\;">Live Radio - 3:00 - 5:00 PM</span></span></span><br />\n<span style="font-family:arial\;"><span style="font-size:14px\;">Radio host Dana McDonald from 97.5 The Wave will be covering the Fire and Ice Festival kickoff live on the radio from John West Park from 3:00 - 5:00 PM.</span></span><br />\n<br />\n<span style="font-family:arial\;"><span style="font-size:18px\;"><span style="color:#0000FF\;"><span style="font-size:16px\;">Live Ice Demonstration - 5:00 - 6:00 pm&nbsp\;</span></span></span></span><br />\n<span style="font-family: &quot\;Helvetica Neue&quot\;\, Helvetica\, Arial\, sans-serif\; font-size: 15px\;"><span style="font-size:14px\;"><span style="font-family:arial\;">There will be a Live Ice Demonstration at 5:00 PM at the Gazebo sponsored by The Town of Ocean View. Watch as 1\,800 pounds of ice are masterfully transformed into a detailed sculpture by the incredible artists from&nbsp\;<a href="https://www.theicegod.com/">The Ice God</a>.</span></span></span><br />\n<br />\n<span style="color: rgb(0\, 0\, 255)\; font-family: arial\; font-size: 16px\;">&quot\;Walk of Fame&quot\; Ice Tour - 5:00 - 9:00 PM</span><br />\n<span style="font-family: &quot\;Helvetica Neue&quot\;\, Helvetica\, Arial\, sans-serif\; font-size: 15px\;"><span style="font-size:14px\;"><span style="font-family:arial\;">Check out all the sculptures in town by taking a &quot\;Walk of Fame&quot\; Ice Tour! Pick up a festival map at 5:00 PM at the Information Tent to make sure you see them all! Watch as the ice sculptures created by&nbsp\;<a href="https://www.theicegod.com/">The Ice God</a>&#39\;s talented artists&nbsp\;are unveiled and illuminated with lights as the sun sets!&nbsp\;</span></span></span><br />\n<br />\n<span style="font-family:arial\;"><font color="#0000ff"><span style="font-size: 16px\;">Classic Movie Showing - 5:30PM</span></font></span><br />\n<span style="font-size: 16px\;"><span style="font-size:14px\;">Sponsored by the Town of Ocean View\, grab some popcorn and enjoy a big screen showing of the 1946 Hitchcock classic spy film\, <em>Notorious</em>!</span></span><br />\n<br />\n<font color="#0000ff" face="arial"><span style="font-size: 16px\;">Tasting Tour:&nbsp\;</span></font><span style="color: rgb(51\, 51\, 51)\; font-family: sans-serif\, Arial\, Verdana\, &quot\;Trebuchet MS&quot\;\; font-size: 14px\; background-color: rgb(255\, 255\, 255)\;">For info on our restaurants participating in the Tasting Tour and off-site ice sculpture\, click&nbsp\;</span><a href="https://business.bethany-fenwick.org/events/details/lights-camera-action-weekend-walk-of-fame-sites-25083" style="color: rgb(7\, 130\, 193)\; font-family: sans-serif\, Arial\, Verdana\, &quot\;Trebuchet MS&quot\;\; font-size: 14px\; background-color: rgb(255\, 255\, 255)\;">here</a><span style="color: rgb(51\, 51\, 51)\; font-family: sans-serif\, Arial\, Verdana\, &quot\;Trebuchet MS&quot\;\; font-size: 14px\; background-color: rgb(255\, 255\, 255)\;">.</span><br style="color: rgb(51\, 51\, 51)\; font-family: sans-serif\, Arial\, Verdana\, &quot\;Trebuchet MS&quot\;\; font-size: 13px\;" />\n<br />\n<br />\n<strong><span style="font-size:14px\;"><span style="font-family:arial\;"><span style="font-size:18px\;"><span style="color:#0000FF\;">Saturday\, January 28th</span></span></span></span></strong><br />\n<span style="font-family: arial\;"><span style="color:#0000FF\;"><span style="font-size: 16px\;">Smashmouth Burgers Food Truck - 11:00AM - 3:00 PM</span></span><br />\n<span style="font-size: 14px\;">&quot\;The best burgers aren&#39\;t made. They&#39\;re smashed!&quot\; Grab a delicious bite cooked to order from Smashmouth Burgers at John West Park on Friday and Saturday!</span><br />\n<br />\n<span style="color:#0000FF\;"><span style="font-size: 16px\;">Beer Garden - 11:00AM - 4:00 PM&nbsp\;</span></span></span><br />\n<span style="color: rgb(51\, 51\, 51)\; font-family: sans-serif\, Arial\, Verdana\, &quot\;Trebuchet MS&quot\;\; font-size: 14px\;"><span style="font-family: arial\;">Beach Liquors will be sponsoring a&nbsp\;<em>Hitchcock-</em>themed</span></span><span style="color: rgb(51\, 51\, 51)\; font-family: arial\; font-size: 14px\;">&nbsp\;at John West Park. Proceeds will benefit Beebe South Coastal Emergency Center and Cancer Center.&nbsp\; Dewey Beer Company will be pouring some delicious tastings from 12:00 PM - 3:00PM. Visit&nbsp\;<a href="https://beachliquors.com/" style="color: rgb(7\, 130\, 193)\;">Beach Liquors</a>&nbsp\;to sign up for email updates and information on tastings!&nbsp\;<br />\n<strong>Be sure to stop by Beach Liquors\, 33012 Coastal Hwy.\, Bethany Beach\, on Saturday from 2-5PM to enjoy a Sagamore Tasting!</strong></span><br />\n<br />\n<span style="color:#0000FF\;"><span style="font-size:16px\;">Ocean View Historical Society&nbsp\; - 12:00 - 3:00 PM</span></span><br />\nLocated in John West Park\, the Hall&#39\;s Store\, the historic first free-standing post office\, chicken house\, and 39 Central shops&nbsp\; will be open for visitors.<br />\n<br />\n<span style="color:#0000FF\;"><font face="arial"><span style="font-size: 16px\;">Fiona Food Truck - 11:00 - 3:00 PM</span></font></span><br />\n<span style="font-size:14px\;"><span style="font-family:arial\;">Enjoy some tasty food from Kristina&#39\;s Kitchen after you weave through the winter maze or listen to the live entertainment. Their catering truck\, Fiona\, will be at John West Park throughout the afternoon.</span></span><br />\n<br />\n<span style="color: rgb(51\, 51\, 51)\; font-size: 13px\; font-family: arial\;"><span style="font-size: 16px\;"><span style="color: rgb(0\, 0\, 255)\;">Live Music Performance - 12:00 - 2:00 PM</span></span></span><br style="color: rgb(51\, 51\, 51)\; font-family: sans-serif\, Arial\, Verdana\, &quot\;Trebuchet MS&quot\;\; font-size: 13px\;" />\n<span style="color: rgb(51\, 51\, 51)\; font-family: sans-serif\, Arial\, Verdana\, &quot\;Trebuchet MS&quot\;\; font-size: 14px\;"><span style="font-family: arial\;">Sponsored by the Town of Ocean View\, don&#39\;t miss live music by&nbsp\;<a href="https://soundcloud.com/notesonthebeach">Notes at the Beach</a>\, an incredible piano and bass duo known for iconic performances of showtunes\, jazz\, contemporary\, and swing music.&nbsp\;</span></span><br />\n<br />\n<span style="color: rgb(0\, 0\, 255)\; font-family: arial\; font-size: 16px\;">Winter Maze - 12:00 - 8:00 PM&nbsp\;</span><br />\n<span style="color: rgb(51\, 51\, 51)\; font-family: arial\; font-size: 14px\; background-color: rgb(255\, 255\, 255)\;">Explore the&nbsp\;</span><em style="color: rgb(51\, 51\, 51)\; font-family: arial\; font-size: 14px\; background-color: rgb(255\, 255\, 255)\;">Labryinth-</em><span style="color: rgb(51\, 51\, 51)\; font-family: arial\; font-size: 14px\; background-color: rgb(255\, 255\, 255)\;">themed Winter Maze at John West Park\, sponsored by True North\, from day until dark.</span><br />\n<br />\n<span style="color: rgb(0\, 0\, 255)\; font-family: arial\; font-size: 16px\;">Tasting Tour&nbsp\;</span><br style="color: rgb(51\, 51\, 51)\; font-family: sans-serif\, Arial\, Verdana\, &quot\;Trebuchet MS&quot\;\; font-size: 13px\;" />\n<span style="color: rgb(51\, 51\, 51)\; font-family: sans-serif\, Arial\, Verdana\, &quot\;Trebuchet MS&quot\;\; font-size: 14px\;"><span style="font-family: arial\;">The Tasting Tour continues with participating restaurants in the Quiet Resorts offering their signature Fire &amp\; Ice &quot\;Lights\, Camera\, Action!&quot\; themed cocktail. &nbsp\;</span></span><span style="color: rgb(51\, 51\, 51)\; font-family: &quot\;Helvetica Neue&quot\;\, Helvetica\, Arial\, sans-serif\; font-size: 14px\;">The Fire and Ice Tasting Tour will continue throughout Saturday and Sunday at participating businesses. The ticketed portion of the Tour is sold out but visit <a href="https://business.bethany-fenwick.org/events/details/lights-camera-action-weekend-walk-of-fame-sites-25083">here </a>to see what specials will be available for all guests throughout the festival weekend as well as additional offsite ice sculptures.</span><br />\n<br />\n<strong><span style="color: rgb(51\, 51\, 51)\; font-family: arial\; font-size: 14px\; background-color: rgb(255\, 255\, 255)\;">For more information on Fire &amp\; Ice\, click&nbsp\;</span><a href="https://fireandicede.com/" style="color: rgb(7\, 130\, 193)\; font-family: arial\; font-size: 14px\; background-color: rgb(255\, 255\, 255)\;">here</a><span style="color: rgb(51\, 51\, 51)\; font-family: arial\; font-size: 14px\; background-color: rgb(255\, 255\, 255)\;">&nbsp\;to view all weekend events!</span></strong><br />\n<br />\n<a href="https://www.signupgenius.com/go/60B0B4CA9AB22A1FC1-2023" style="color: rgb(7\, 130\, 193)\; font-family: sans-serif\, Arial\, Verdana\, &quot\;Trebuchet MS&quot\;\; font-size: 13px\; background-color: rgb(255\, 255\, 255)\;"><span style="color: rgb(255\, 0\, 0)\;"><font face="arial"><span style="font-size: 16px\;">Volunteers Needed -&nbsp\;&nbsp\;Sign-Up Here</span></font></span></a>
LOCATION:John West Park 32 West Ave Ocean View\, DE 19970
UID:e.2126.24854
SEQUENCE:3
DTSTAMP:20260421T111915Z
URL:http://business.thequietresorts.com/events/details/fire-ice-festival-lights-camera-action-town-of-ocean-view-happenings-24854
END:VEVENT

END:VCALENDAR
