BEGIN:VCALENDAR
VERSION:2.0
PRODID:-//ChamberMaster//Event Calendar 2.0//EN
METHOD:PUBLISH
X-PUBLISHED-TTL:P3D
REFRESH-INTERVAL:P3D
CALSCALE:GREGORIAN
BEGIN:VEVENT
DTSTART:20230127T160000Z
DTEND:20230129T010000Z
X-MICROSOFT-CDO-ALLDAYEVENT:FALSE
SUMMARY:Fire & Ice Festival "Lights\, Camera\, Action!" - Town of Bethany Beach Happenings
DESCRIPTION:Movie magic\, ice\, music\, good food\, and a jaw-dropping live demonstration - Bethany Beach will be a prime location for a whole host of fun festival activities throughout the entire weekend. \n\n\n\nFriday\, January 27th\n\nIce Rink - 12:00 PM - 8:00PM\n\nLace up your skates- the ice rink returns! Sponsored by Bethany Beach Books & The Book Drop\, everyone is welcome to take a few laps on the 1\,800 square foot ice rink in downtown Bethany by the basketball courts in the playground. \n\n\n\nTasting Tour - All festival weekend\n\nThe Tasting Tour kicks off with participating restaurants in the Quiet Resorts offering their signature Fire & Ice "Lights. Camera. Action!" themed cocktail. Proceeds will benefit the South Coastal Emergency Department and Cancer Center at Beebe Healthcare as well as participating restaurants. To purchase tickets\, please click here.\n\n\n\nSaturday\, January 28th\n\n"Walk of Fame" Ice Tour - 5:00 PM - 9:00 PM\n\nStarting at 5:00 PM\, check out all the sculptures in town by taking a "Walk of Fame" on the Ice Tour! Pick up a festival map at the information tent to make sure you see them all! There is over 50\,000 pounds of ice coming to The Quiet Resorts\, all masterfully crafted by the artists from The Ice God! Watch as the ice sculptures are unveiled and illuminated with lights as the sun sets. For more information\, please click here.\n\n\n\nIce Rink - 12:00 PM - 9:00 PM\n\nLace up your skates- the ice rink returns! Sponsored by Bethany Beach Books & The Book Drop\, everyone is welcome to take a few laps on the ice in downtown Bethany. \n\n\n\nCascading Carlos - 1:00 PM - 5:00 PM\n\nEnjoy an incredible fire juggling show from Cascading Carlos. \n\n\n\nLive Ice Demonstration - 5:00 PM\n\nAt 5:00 PM The Ice God will host a Live Ice Demonstration at the stage on Hollywood Street sponsored by Bethany Beach Ocean Suites and Hotel Bethany Beach. Watch as 10 Blocks of ice are transformed into a detailed sculpture.\n\n\n\nMovie Night at the Bandstand - 5:30 PM - 7:30 PM\n\nWhile Jaws plays on the big screen at the bandstand\, don't miss the big reveal of the Bethany Beach Signature Ice Sculpture\, weighing in at 2\,400 pounds\, sponsored by the Town of Bethany Beach. \n\n\n\nTasting Tour - All festival weekend\n\nThe Tasting Tour will continue throughout Saturday and Sunday at participating businesses. Proceeds will benefit the South Coastal Emergency Department and Cancer Center at Beebe Healthcare as well as participating restaurants. Click here for more information.\n\n\n\nAdditional Business Specials\n\nSandy Pawz\n\nDog lovers - come on out! The deck outside Sandy Pawz will feature hot coffee\, hot chocolate\, and muffins available for purchase (from Sandy Pony) while you shop for your favorite pup. There will also be a chance to win two different Fire and Ice-themed raffle baskets. Every $10 spent at Sandy Pawz over the festival weekend will get you a chance to win!\n\n\n\nFor more info on Fire and Ice click here to check out our event webpage! \n\nFor info on our restaurants participating in the Tasting Tour and off-site ice sculpture\, click here.\n\n\n\nAdditional Accommodation Options\n\nThe Christian Conference Center: www.cccadisciples.org/events\n\n\n\nVolunteers Needed -  Sign-Up Here
X-ALT-DESC;FMTTYPE=text/html:<p><span style="font-size:14px\;"><span style="font-family:arial\;">Movie magic\, ice\, music\, good food\, and a jaw-dropping live demonstration&nbsp\;- Bethany Beach will be a prime location for&nbsp\;a whole host&nbsp\;of fun festival activities throughout the entire weekend.&nbsp\;</span></span><br />\n<br />\n<span style="font-family:arial\;"><span style="font-size:16px\;"><strong><span style="color:#0000FF\;"><span style="font-size:18px\;">Friday\, January 27th</span></span></strong><br />\n<span style="font-size:18px\;"><span style="color:#0000FF\;"><span style="font-size:16px\;">Ice Rink - 12:00 PM - 8:00PM</span></span><br />\n<span style="font-size:16px\;"><span style="font-size:14px\;">Lace up your skates- the ice rink returns! Sponsored by Bethany Beach Books &amp\; The Book Drop\, everyone is welcome to take a few laps on the 1\,800 square foot&nbsp\;ice rink in downtown Bethany by the basketball courts in the playground.&nbsp\;</span></span></span></span></span><br />\n<br />\n<span style="color: rgb(0\, 0\, 255)\; font-family: arial\; font-size: 16px\;">Tasting Tour - All festival weekend</span><br />\n<span style="font-family: &quot\;Helvetica Neue&quot\;\, Helvetica\, Arial\, sans-serif\; font-size: 15px\;"><span style="font-size:14px\;"><span style="font-family:arial\;">The Tasting Tour kicks off with participating restaurants in the Quiet Resorts offering their signature Fire &amp\; Ice &quot\;Lights. Camera. Action!&quot\;</span></span></span><span style="font-family: &quot\;Helvetica Neue&quot\;\, Helvetica\, Arial\, sans-serif\; font-size: 15px\;"><span style="font-size:14px\;"><span style="font-family:arial\;">&nbsp\;themed cocktail. Proceeds will benefit the South Coastal Emergency Department and Cancer Center at Beebe Healthcare as well as participating restaurants.&nbsp\;To purchase tickets\, please <a href="https://business.bethany-fenwick.org/events/details/fire-ice-festival-lights-camera-action-tasting-tour-24897" target="_blank">click here</a>.</span></span></span><br />\n<br />\n<strong><span style="color: rgb(0\, 0\, 255)\; font-family: arial\; font-size: 18px\;">Saturday\, January 28th</span></strong><br />\n<span style="color: rgb(0\, 0\, 255)\; font-family: arial\; font-size: 16px\;">&quot\;Walk of Fame&quot\; Ice Tour -&nbsp\;5:00 PM - 9:00 PM</span><br />\n<span style="font-family: &quot\;Helvetica Neue&quot\;\, Helvetica\, Arial\, sans-serif\; font-size: 15px\;"><span style="font-size:14px\;"><span style="font-family:arial\;">Starting at 5:00 PM\, check out all the sculptures&nbsp\;in town by taking a &quot\;Walk of Fame&quot\; on the Ice Tour! Pick up a festival map at the information tent to make sure you see them all! There is over 50\,000 pounds of ice coming to The Quiet Resorts\, all masterfully crafted by the artists from <a href="https://www.theicegod.com/">The Ice God</a>!&nbsp\;Watch as the ice sculptures are unveiled and illuminated with lights as the sun sets. For more information\, please <a href="https://fireandicede.com/" target="_blank">click here</a>.</span></span></span><br />\n<br />\n<span style="font-family: arial\; font-size: 18px\; background-color: rgb(255\, 255\, 255)\; color: rgb(0\, 0\, 255)\;"><span style="font-size: 16px\;">Ice Rink - 12:00 PM - 9:00 PM</span></span><br />\n<span style="color: rgb(51\, 51\, 51)\; font-family: arial\; background-color: rgb(255\, 255\, 255)\; font-size: 16px\;"><span style="font-size: 14px\;">Lace up your skates- the ice rink returns! Sponsored by Bethany Beach Books &amp\; The Book Drop\, everyone is welcome to take a few laps on the ice in downtown Bethany.&nbsp\;</span></span><br />\n<br />\n<span style="font-size: 14px\;"><span style="color:#0000FF\;"><span style="font-size:16px\;">Cascading Carlos - 1:00 PM - 5:00 PM</span></span><br />\nEnjoy an incredible fire juggling show from Cascading Carlos.&nbsp\;</span><br />\n<br />\n<span style="color: rgb(0\, 0\, 255)\; font-family: arial\; font-size: 16px\;">Live Ice Demonstration -&nbsp\;5:00&nbsp\;PM</span><br />\n<span style="font-family: &quot\;Helvetica Neue&quot\;\, Helvetica\, Arial\, sans-serif\; font-size: 15px\;"><span style="font-size:14px\;"><span style="font-family:arial\;">At 5:00 PM <a href="https://www.theicegod.com/">The Ice God</a>&nbsp\;will host a Live Ice Demonstration at the stage on Hollywood Street sponsored by Bethany Beach Ocean Suites and Hotel Bethany Beach. Watch as 10 Blocks of ice are transformed into a detailed sculpture.</span></span></span><br />\n<br />\n<span style="color: rgb(0\, 0\, 255)\; font-family: arial\; font-size: 16px\;">Movie Night&nbsp\;at the Bandstand - 5:30 PM - 7:30 PM</span><br />\n<span style="color: rgb(51\, 51\, 51)\; font-family: arial\; font-size: 14px\; background-color: rgb(255\, 255\, 255)\;">While <em>Jaws&nbsp\;</em>plays on the big screen at the bandstand\,</span><span style="font-family: &quot\;Helvetica Neue&quot\;\, Helvetica\, Arial\, sans-serif\; font-size: 15px\;"><span style="font-size:14px\;"><span style="font-family:arial\;">&nbsp\;don&#39\;t miss the big reveal of&nbsp\;the&nbsp\;Bethany Beach Signature Ice Sculpture\, weighing in at 2\,400 pounds\, sponsored by the Town of Bethany Beach.&nbsp\;</span></span></span><br />\n<br />\n<span style="font-family: &quot\;Helvetica Neue&quot\;\, Helvetica\, Arial\, sans-serif\; font-size: 15px\;"><span style="font-size:14px\;"><span style="font-family:arial\;"><span style="font-size:16px\;"><span style="color:#0000FF\;">Tasting Tour - All festival weekend</span></span><br />\nThe Tasting Tour&nbsp\;will continue throughout Saturday and Sunday at participating businesses. Proceeds will benefit the South Coastal Emergency Department and Cancer Center at Beebe Healthcare as well as participating restaurants. <a href="https://business.bethany-fenwick.org/events/details/fire-ice-festival-lights-camera-action-tasting-tour-24897">Click here</a> for more information.</span></span></span><br />\n<br />\n<font color="#0000ff"><span style="font-size: 16px\;"><b>Additional Business Specials</b><br />\n<span style="font-family:arial\;">Sandy Pawz</span></span></font><br />\n<span style="font-family:arial\;">Dog lovers - come on out! The deck outside Sandy Pawz will feature hot coffee\, hot chocolate\, and muffins available for purchase (from Sandy Pony)&nbsp\;while you shop for your favorite pup. There will also be a chance to win two different Fire and Ice-themed raffle baskets. Every $10 spent at Sandy Pawz over the festival weekend will get you a chance to win!</span><br />\n<br />\n<span style="font-size:14px\;">For more info on Fire and Ice click <a href="https://fireandicede.com/" target="_blank">here</a> to check out our event webpage!&nbsp\;<br />\nFor info on our restaurants participating in the Tasting Tour and off-site ice sculpture\, click <a href="https://business.bethany-fenwick.org/events/details/lights-camera-action-weekend-walk-of-fame-sites-25083">here</a>.<br />\n<br />\n<strong><span style="color:#0000FF\;"><span style="font-size:16px\;"><span style="font-family:arial\;">Additional Accommodation Options</span></span></span></strong></span><br />\nThe Christian Conference Center:&nbsp\;<span style="font-family:calibri\,sans-serif\;"><span style="font-size:11.0pt\;"><a href="http://www.cccadisciples.org/events" target="_blank">www.cccadisciples.org/events</a></span></span><br />\n<br />\n<a href="https://www.signupgenius.com/go/60B0B4CA9AB22A1FC1-2023"><span style="color:#FF0000\;"><font face="arial"><span style="font-size: 16px\;">Volunteers Needed -&nbsp\;&nbsp\;Sign-Up Here</span></font></span></a></p>\n
LOCATION:Downtown - Bethany Beach
UID:e.2126.24853
SEQUENCE:3
DTSTAMP:20260421T093536Z
URL:http://business.thequietresorts.com/events/details/fire-ice-festival-lights-camera-action-town-of-bethany-beach-happenings-24853
END:VEVENT

END:VCALENDAR
