BEGIN:VCALENDAR
VERSION:2.0
PRODID:-//ChamberMaster//Event Calendar 2.0//EN
METHOD:PUBLISH
X-PUBLISHED-TTL:P3D
REFRESH-INTERVAL:P3D
CALSCALE:GREGORIAN
BEGIN:VEVENT
DTSTART;VALUE=DATE:20230127
DTEND;VALUE=DATE:20230130
TRANSP:TRANSPARENT
X-MICROSOFT-CDO-ALLDAYEVENT:TRUE
SUMMARY:Fire & Ice Festival "Lights\, Camera\, Action!" - Tasting Tour SOLD-OUT
DESCRIPTION:Tasting Tour is SOLD-OUT\, and guests can still visit each location hosting ice sculptures\, amazing menus\, live music\, and themed cocktails throughout the weekend. \n\n\n\nJoin the Fire & Ice Drink Tasting Tour throughout the Festival weekend. Pre-purchase a Tasting Tour Card for $30 online. Visit all participating restaurants with your Tasting Tour Card to taste their signature Fire & Ice "Lights\, Camera\, Action!" themed cocktails. The card will be honored throughout the weekend. In addition to the drink tasting\, stay and view the unique ice sculptures\, and enjoy access to various exclusive food specials. \n\n\n\nOnline ticket sales will be available until January 25.- EVENT IS SOLD-OUT \n\n\n\nTasting Tour Card Pick-Up Details\n\nPick-up Location: John West Park Information Hub\n\nDates: Friday\, January 27th from 12 PM - 8 PM\n\n           Saturday 11:00 AM - 4:00 PM\n\nIf tickets are not sold out\, they will be available for purchase at the John West Park Info Hub beginning Friday\, January 27th from 12 PM - 8 PM\n\n\n\nWhat you Receive with a Tasting Tour Card\n\n	One complimentary 2 oz. taste from each participating restaurant\n	Exclusive food specials \n	Supports Beebe Healthcare's South Coastal Emergency Department and Cancer Center  \n\n*The 2022 Tasting Tour Event was a complete sellout last year. Please pre-purchase your tickets for 2023!*\n\n\n\nRestaurant Specials & Exclusive Offers\n\nSpecials will be posted as they are confirmed\n\n*You must have your Tasting Tour card with you to receive these specials*\n\n \n\nBethany Blues\n\n\n\nGood Earth Market \n\n\n\nHooked Up\n\n\n\nMango's\n\n\n	Live Entertainment\n\n	\n		 Saturday\, January 28\n		9:30 PM - 11:00 PM: 19th Street Band\n	\n	\n\n\n\n\nSignatures at Bayside\n\n\n\n\nThe Cottage Cafe\n\n\n	Appetizer\n\n	\n		Coconut Shrimp- house breaded coconut shrimp fried golden brown and served with a sweet thai chili sauce $15\n	\n	\n	Lunch\n	\n		Shrimp Po Boy- shrimp\, andouille\, tomato\, swiss\, and chipotle mayo on a toasted sub roll with hand cut fries and coleslaw $18\n	\n	\n	Dinner\n	\n		Shrimp and Grits- special recipe parmesan grits topped with a blend of green and red peppers\, yellow onion\, andouille sausage\, and grilled shrimp. Served with a side salad $18\n	\n	\n	Soup of the Day-\n	\n		Homemade Shrimp and Corn Chowder\n	\n	\n	Themed Desserts will be available \n\n\n\n\nOff the Hook \n\n\n\nThe Den at Bear Trap Dunes \n\n\n	Live Entertainment\n\n	\n		 Friday\, January 27\n		\n			5:00 - 8:00PM: Kuhn Dog\n		\n		\n	\n	\n	Menu Specials\n	\n		 Phil Lesh's Chop Salad\n		\n			 Chopped lettuce\, beets\, chicken\, bacon\, eggs\, tomato\, cheddar cheese\, avocado tossed in balsamic dressing\n		\n		\n		Garcia Chili Dogs\n		\n			 Jerry Garcia couldn't get enough! Two Chili Dogs and Fries\n		\n		\n		The Elvis Presley\n		\n			 So simple\, yet a staple. Peanut butter\, banana\, and bacon on toasted white bread.\n		\n		\n	\n	\n\n\nThe Salted Rim\n\n\n	Live Entertainment\n\n	\n		Friday\, January 27\n\n		\n			7:00 - 10:00PM:  Low Country \n		\n		\n		Saturday\, January 28\n		\n			2:00 - 6:00PM: Lowercase Blues \n			7:00 - 10:00PM: Lauren Glick Trio\n		\n		\n	\n	\n	Menu Specials\n	\n		Mach 10 - Chicken Enchilada Soup - $8\n		\n			Loaded with shredded chicken\, corn\, beans and vegetables topped with cheese\, scallions\, cilantro and crispy tortilla strips\n		\n		\n		Danger Zone - Prime Rib Grilled Cheese - $14\n		\n			Thin sliced slow roasted prime rib\, provolone\, thyme horseradish sauce and frizzled onions between 2 slices of toasted buttered thick sour dough bread.\n		\n		\n		Wing Man -  Tuna Poke Bowl - $15\n		\n			Ahi tuna in a sesame-soy marinade\, steamed rice\, seaweed salad\, edamame\, crisp carrots and cucumber\, fresh avocado & pickled ginger\n		\n		\n		The Goose - Personal Naan Flatbread - $14\n		\n			Refried beans\, melted Mexican cheese blend\, seasoned ground beef or chicken\, lettuce\, pico de gallo\, corn salsa\, fresh cilantro\, Mexican crema.\n		\n		\n		The Maverick - Lobster Rolls - $19\n		\n			Tender lobster\, all tail meat\, in a light lemon-mayo with lettuce\, served on a toasted split top brioche lobster bun.\n		\n		\n		BOB - Fried Oreo Cookies - $8\n		\n			Oreo cookies dipped in a sweet batter and deep fried\, topped with powdered sugar\, whipped cream and chocolate drizzle (5)\n		\n		\n	\n	\n\n\nMio Fratello
X-ALT-DESC;FMTTYPE=text/html:<span style="font-size:14px\;"><span style="font-family: sans-serif\, Arial\, Verdana\, " trebuchet=""><span style="font-family: arial\;"><strong><span style="color:#FF0000\;">Tasting Tour is SOLD-OUT\,</span></strong> and guests can still visit each location hosting ice sculptures\, amazing menus\, live music\, and themed cocktails throughout the weekend.&nbsp\;<br />\n<br />\nJoin the Fire &amp\; Ice Drink Tasting Tour throughout the Festival weekend. Pre-purchase a Tasting Tour Card for $30 online. Visit all participating restaurants with your Tasting Tour Card to taste their signature Fire &amp\; Ice &quot\;Lights\, Camera\, Action!&quot\; themed cocktails. The card will be honored throughout the weekend. In addition to the drink tasting\, stay and view the unique ice sculptures\, and enjoy access to various exclusive food specials.&nbsp\;</span></span><br style="color: inherit\; font: inherit\; letter-spacing: inherit\; text-align: inherit\; text-indent: inherit\; text-transform: inherit\; white-space: inherit\; word-spacing: inherit\; box-sizing: content-box\; inset: auto\; clear: none\; content: normal\; direction: inherit\; display: inline\; empty-cells: show\; float: none\; margin: 0px\; max-height: none\; max-width: none\; min-height: initial\; min-width: initial\; opacity: 1\; outline-offset: 0px\; overflow: visible\; padding: 0px\; position: static\; resize: none\; table-layout: auto\; text-overflow: clip\; vertical-align: baseline\; visibility: inherit\; word-break: inherit\; overflow-wrap: inherit\; z-index: auto\; background-image: none\; background-position: initial\; background-size: initial\; background-repeat: initial\; background-attachment: initial\; background-origin: initial\; background-clip: initial\; border: none\; border-collapse: separate\; border-radius: 0px\; height: auto\; width: auto\;" />\n<br style="color: inherit\; font: inherit\; letter-spacing: inherit\; text-align: inherit\; text-indent: inherit\; text-transform: inherit\; white-space: inherit\; word-spacing: inherit\; box-sizing: content-box\; inset: auto\; clear: none\; content: normal\; direction: inherit\; display: inline\; empty-cells: show\; float: none\; margin: 0px\; max-height: none\; max-width: none\; min-height: initial\; min-width: initial\; opacity: 1\; outline-offset: 0px\; overflow: visible\; padding: 0px\; position: static\; resize: none\; table-layout: auto\; text-overflow: clip\; vertical-align: baseline\; visibility: inherit\; word-break: inherit\; overflow-wrap: inherit\; z-index: auto\; background-image: none\; background-position: initial\; background-size: initial\; background-repeat: initial\; background-attachment: initial\; background-origin: initial\; background-clip: initial\; border: none\; border-collapse: separate\; border-radius: 0px\; height: auto\; width: auto\;" />\n<span style="font-family: Arial\; box-sizing: content-box\; inset: auto\; clear: none\; content: normal\; direction: inherit\; empty-cells: show\; font-variant-numeric: inherit\; font-variant-east-asian: inherit\; font-stretch: inherit\; line-height: inherit\; margin: 0px\; max-height: none\; max-width: none\; min-height: initial\; min-width: initial\; opacity: 1\; outline-offset: 0px\; overflow: visible\; padding: 0px\; position: static\; resize: none\; table-layout: auto\; text-overflow: clip\; vertical-align: baseline\; visibility: inherit\; word-break: inherit\; overflow-wrap: inherit\; z-index: auto\; background-image: none\; background-position: initial\; background-size: initial\; background-repeat: initial\; background-attachment: initial\; background-origin: initial\; background-clip: initial\; border: none\; border-collapse: separate\; border-radius: 0px\; height: auto\; width: auto\; box-shadow: none\;"><span style="font-family: arial\; box-sizing: content-box\; inset: auto\; clear: none\; content: normal\; direction: inherit\; empty-cells: show\; font-style: inherit\; font-variant: inherit\; font-weight: inherit\; font-stretch: inherit\; letter-spacing: inherit\; line-height: inherit\; margin: 0px\; max-height: none\; max-width: none\; min-height: initial\; min-width: initial\; opacity: 1\; outline-offset: 0px\; overflow: visible\; padding: 0px\; position: static\; resize: none\; table-layout: auto\; text-align: inherit\; text-indent: inherit\; text-overflow: clip\; text-transform: inherit\; vertical-align: baseline\; visibility: inherit\; white-space: inherit\; word-break: inherit\; word-spacing: inherit\; overflow-wrap: inherit\; z-index: auto\; background-image: none\; background-position: initial\; background-size: initial\; background-repeat: initial\; background-attachment: initial\; background-origin: initial\; background-clip: initial\; border: none\; border-collapse: separate\; border-radius: 0px\; height: auto\; width: auto\; box-shadow: none\;">Online ticket sales will be available until January 25.-<span style="color:#FF0000\;"> EVENT IS SOLD-OUT&nbsp\;</span></span></span></span><br />\n<br />\n<span style="font-family: arial\; font-size: 14px\; background-color: rgb(255\, 255\, 255)\;"><strong>Tasting Tour Card Pick-Up Details</strong><br />\nPick-up Location: John West Park Information Hub<br />\nDates: Friday\, January 27th from 12 PM - 8 PM<br />\n&nbsp\; &nbsp\; &nbsp\; &nbsp\; &nbsp\; &nbsp\;Saturday 11:00 AM - 4:00 PM</span><br />\n<span style="font-size:14px\;"><span style="color:#FF0000\;"><strong>If tickets are not sold out\, they will be available for purchase at the John West Park Info Hub beginning Friday\, January 27th from 12 PM - 8 PM</strong></span><br />\n<br font-size:="" style="color: rgb(51\, 51\, 51)\; font-family: sans-serif\, Arial\, Verdana\, " trebuchet="" />\n<span style="font-family: Arial\; box-sizing: content-box\; inset: auto\; clear: none\; content: normal\; direction: inherit\; empty-cells: show\; font-variant-numeric: inherit\; font-variant-east-asian: inherit\; font-stretch: inherit\; line-height: inherit\; margin: 0px\; max-height: none\; max-width: none\; min-height: initial\; min-width: initial\; opacity: 1\; outline-offset: 0px\; overflow: visible\; padding: 0px\; position: static\; resize: none\; table-layout: auto\; text-overflow: clip\; vertical-align: baseline\; visibility: inherit\; word-break: inherit\; overflow-wrap: inherit\; z-index: auto\; background-image: none\; background-position: initial\; background-size: initial\; background-repeat: initial\; background-attachment: initial\; background-origin: initial\; background-clip: initial\; border: none\; border-collapse: separate\; border-radius: 0px\; height: auto\; width: auto\; box-shadow: none\;"><span style="font-family: arial\; box-sizing: content-box\; inset: auto\; clear: none\; content: normal\; direction: inherit\; empty-cells: show\; font-style: inherit\; font-variant: inherit\; font-weight: inherit\; font-stretch: inherit\; letter-spacing: inherit\; line-height: inherit\; margin: 0px\; max-height: none\; max-width: none\; min-height: initial\; min-width: initial\; opacity: 1\; outline-offset: 0px\; overflow: visible\; padding: 0px\; position: static\; resize: none\; table-layout: auto\; text-align: inherit\; text-indent: inherit\; text-overflow: clip\; text-transform: inherit\; vertical-align: baseline\; visibility: inherit\; white-space: inherit\; word-break: inherit\; word-spacing: inherit\; overflow-wrap: inherit\; z-index: auto\; background-image: none\; background-position: initial\; background-size: initial\; background-repeat: initial\; background-attachment: initial\; background-origin: initial\; background-clip: initial\; border: none\; border-collapse: separate\; border-radius: 0px\; height: auto\; width: auto\; box-shadow: none\;"><span style="font-family: inherit\; box-sizing: content-box\; inset: auto\; clear: none\; content: normal\; direction: inherit\; empty-cells: show\; font-variant-numeric: inherit\; font-variant-east-asian: inherit\; font-stretch: inherit\; line-height: inherit\; margin: 0px\; max-height: none\; max-width: none\; min-height: initial\; min-width: initial\; opacity: 1\; outline-offset: 0px\; overflow: visible\; padding: 0px\; position: static\; resize: none\; table-layout: auto\; text-align: inherit\; text-overflow: clip\; vertical-align: baseline\; visibility: inherit\; word-break: inherit\; overflow-wrap: inherit\; z-index: auto\; background-image: none\; background-position: initial\; background-size: initial\; background-repeat: initial\; background-attachment: initial\; background-origin: initial\; background-clip: initial\; border: none\; border-collapse: separate\; border-radius: 0px\; height: auto\; width: auto\; box-shadow: none\;"><strong>What you Receive with a Tasting Tour Card</strong></span></span></span></span>\n<ul font-size:="" style="padding: 0px 40px\; color: rgb(51\, 51\, 51)\; font-family: sans-serif\, Arial\, Verdana\, " trebuchet="">\n	<li><span style="font-size:14px\;"><span style="font-family: arial\;">One complimentary 2 oz. taste&nbsp\;from each participating restaurant</span></span></li>\n	<li><span style="font-size:14px\;"><span style="font-family: arial\;">Exclusive food specials&nbsp\;</span></span></li>\n	<li><span style="font-size:14px\;"><span style="font-family: arial\;">Supports&nbsp\;</span></span><span style="color: rgb(37\, 32\, 26)\; font-family: arial\; font-size: 14px\;">Beebe Healthcare&#39\;s South Coastal Emergency Department and Cancer Center&nbsp\;</span><span style="font-size:14px\;"><span style="font-family: arial\;">&nbsp\;</span></span></li>\n</ul>\n<span style="font-size:14px\;"><span style="font-family: arial\;"><strong>*The 2022 Tasting Tour Event was a complete sellout last year. Please pre-purchase your tickets for 2023!*</strong></span></span><br />\n<br />\n<span style="font-size:14px\;"><span style="font-family:arial\;"><font style="font-size: 13px\;"><b>Restaurant Specials &amp\; Exclusive Offers</b><br />\nSpecials will be posted as they are confirmed<br />\n<em>*You must have your Tasting Tour card with you to receive these specials*</em></font></span></span>\n\n<div font-size:="" line-height:="" style="color: rgb(51\, 51\, 51)\; font-family: sans-serif\, Arial\, Verdana\, " trebuchet="">&nbsp\;</div>\n\n<div style="line-height: normal\;"><span style="font-size:14px\;"><span style="font-family: arial\, sans-serif\;"><strong>Bethany Blues</strong></span></span></div>\n\n<div style="line-height: normal\;"><br />\n<span style="font-size:14px\;"><span style="color: rgb(34\, 34\, 34)\;"><span style="font-family: arial\, sans-serif\;"><strong>Good Earth Market&nbsp\;</strong></span></span></span></div>\n\n<div style="line-height: normal\;"><br />\n<span style="font-size:14px\;"><strong>Hooked Up</strong></span><br />\n<br />\n<span style="font-family:arial\;"><span style="font-size:14px\;"><strong>Mango&#39\;s</strong></span></span></div>\n\n<ul>\n	<li style="line-height: normal\;"><span style="font-size:12px\;">Live Entertainment</span>\n\n	<ul>\n		<li style="line-height: normal\;"><span style="font-size:12px\;">&#8203\;Saturday\, January 28</span></li>\n		<li style="line-height: normal\;"><span style="font-size:12px\;">9:30 PM - 11:00 PM: 19th Street Band</span></li>\n	</ul>\n	</li>\n</ul>\n\n<div style="line-height: normal\;"><br />\n<span style="font-size:14px\;"><strong><span style="color: rgb(34\, 34\, 34)\;"><span style="font-family: arial\, sans-serif\;">Signatures at Bayside</span></span></strong></span></div>\n\n<div style="line-height: normal\;">\n<div font-size:="" line-height:="" style="font-family: sans-serif\, Arial\, Verdana\, " trebuchet=""><br />\n<span style="color: rgb(51\, 51\, 51)\; font-size: 14px\;"><strong><span style="color: rgb(34\, 34\, 34)\;"><span style="font-family: arial\, sans-serif\;">The Cottage Cafe</span></span></strong></span></div>\n\n<ul>\n	<li style="font-family: sans-serif\, Arial\, Verdana\, "><span style="font-size:12px\;"><span style="font-family:arial\;"><strong>Appetizer</strong></span></span>\n\n	<ul>\n		<li style="font-family: sans-serif\, Arial\, Verdana\, "><span style="font-size:12px\;"><span style="font-family:arial\;">Coconut Shrimp- house breaded coconut shrimp fried golden brown and served with a sweet thai chili sauce $15</span></span></li>\n	</ul>\n	</li>\n	<li style="font-family: sans-serif\, Arial\, Verdana\, "><strong>Lunch</strong>\n	<ul>\n		<li style="font-family: sans-serif\, Arial\, Verdana\, "><span style="font-size:12px\;"><span style="font-family:arial\;">Shrimp Po Boy- shrimp\, andouille\, tomato\, swiss\, and chipotle mayo on a toasted sub roll with hand cut fries and coleslaw $18</span></span></li>\n	</ul>\n	</li>\n	<li style="font-family: sans-serif\, Arial\, Verdana\, "><span style="font-size:12px\;"><span style="font-family:arial\;"><strong>Dinner</strong></span></span>\n	<ul>\n		<li style="font-family: sans-serif\, Arial\, Verdana\, "><span style="font-size:12px\;"><span style="font-family:arial\;">Shrimp and Grits- special recipe parmesan grits topped with a blend of green and red peppers\, yellow onion\, andouille sausage\, and grilled shrimp. Served with a side salad $18</span></span></li>\n	</ul>\n	</li>\n	<li style="font-family: sans-serif\, Arial\, Verdana\, "><span style="font-size:12px\;"><span style="font-family:arial\;"><strong>Soup of the Day</strong>-</span></span>\n	<ul>\n		<li style="font-family: sans-serif\, Arial\, Verdana\, "><span style="font-size:12px\;"><span style="font-family:arial\;">Homemade Shrimp and Corn Chowder</span></span></li>\n	</ul>\n	</li>\n	<li style="font-family: sans-serif\, Arial\, Verdana\, "><strong><span style="font-size:12px\;"><span style="font-family:arial\;">Themed Desserts will be available&nbsp\;</span></span></strong></li>\n</ul>\n\n<div font-size:="" line-height:="" style="font-family: sans-serif\, Arial\, Verdana\, " trebuchet=""><br />\n<span style="color: rgb(51\, 51\, 51)\; font-size: 14px\;"><span style="font-family: arial\;"><strong>Off the Hook&nbsp\;</strong></span></span><br />\n<br />\n<span style="color: rgb(51\, 51\, 51)\; font-size: 14px\;"><strong>The Den at Bear Trap Dunes&nbsp\;</strong></span></div>\n\n<ul>\n	<li font-size:="" line-height:="" style="font-family: sans-serif\, Arial\, Verdana\, " trebuchet=""><strong>Live<span style="font-family:arial\;"> Ent<span style="font-size:12px\;">ertainm</span></span><span style="font-size:12px\;">e</span>nt</strong>\n\n	<ul>\n		<li font-size:="" line-height:="" style="font-family: sans-serif\, Arial\, Verdana\, " trebuchet="">&nbsp\;Friday\, January 27\n		<ul>\n			<li font-size:="" line-height:="" style="font-family: sans-serif\, Arial\, Verdana\, " trebuchet="">5:00 - 8:00PM: Kuhn Dog</li>\n		</ul>\n		</li>\n	</ul>\n	</li>\n	<li font-size:="" line-height:="" style="font-family: sans-serif\, Arial\, Verdana\, " trebuchet=""><strong>Menu Specials</strong>\n	<ul>\n		<li font-size:="" line-height:="" style="font-family: sans-serif\, Arial\, Verdana\, " trebuchet=""><strong>&#8203\;</strong>Phil Lesh&#39\;s Chop Salad\n		<ul>\n			<li font-size:="" line-height:="" style="font-family: sans-serif\, Arial\, Verdana\, " trebuchet="">&#8203\;Chopped lettuce\, beets\, chicken\, bacon\, eggs\, tomato\, cheddar cheese\, avocado tossed in balsamic dressing</li>\n		</ul>\n		</li>\n		<li font-size:="" line-height:="" style="font-family: sans-serif\, Arial\, Verdana\, " trebuchet="">Garcia Chili Dogs\n		<ul>\n			<li font-size:="" line-height:="" style="font-family: sans-serif\, Arial\, Verdana\, " trebuchet="">&#8203\;Jerry Garcia couldn&#39\;t get enough! Two Chili Dogs and Fries</li>\n		</ul>\n		</li>\n		<li font-size:="" line-height:="" style="font-family: sans-serif\, Arial\, Verdana\, " trebuchet="">The Elvis Presley\n		<ul>\n			<li font-size:="" line-height:="" style="font-family: sans-serif\, Arial\, Verdana\, " trebuchet="">&#8203\;So simple\, yet a staple. Peanut butter\, banana\, and bacon on toasted white bread.</li>\n		</ul>\n		</li>\n	</ul>\n	</li>\n</ul>\n\n<div font-size:="" line-height:="" style="font-family: sans-serif\, Arial\, Verdana\, " trebuchet=""><span style="font-size: 14px\;"><span style="font-family: arial\;"><strong style="">The Salted Rim</strong></span></span></div>\n\n<ul>\n	<li font-size:="" line-height:="" style="font-family: sans-serif\, Arial\, Verdana\, " trebuchet=""><strong>Live Entertainment</strong>\n\n	<ul>\n		<li font-size:="" line-height:="" style="font-family: sans-serif\, Arial\, Verdana\, " trebuchet=""><strong>Friday\, January 27</strong>\n\n		<ul>\n			<li font-size:="" line-height:="" style="font-family: sans-serif\, Arial\, Verdana\, " trebuchet="">7:00 - 10:00PM:&nbsp\;&nbsp\;Low Country&nbsp\;</li>\n		</ul>\n		</li>\n		<li font-size:="" line-height:="" style="font-family: sans-serif\, Arial\, Verdana\, " trebuchet=""><strong>Saturday\, January 28</strong>\n		<ul>\n			<li font-size:="" line-height:="" style="font-family: sans-serif\, Arial\, Verdana\, " trebuchet="">2:00 - 6:00PM: Lowercase Blues&nbsp\;</li>\n			<li font-size:="" line-height:="" style="font-family: sans-serif\, Arial\, Verdana\, " trebuchet="">7:00 - 10:00PM: Lauren Glick Trio</li>\n		</ul>\n		</li>\n	</ul>\n	</li>\n	<li font-size:="" line-height:="" style="font-family: sans-serif\, Arial\, Verdana\, " trebuchet=""><strong>Menu Specials</strong>\n	<ul>\n		<li><strong>Mach 10 - Chicken Enchilada Soup</strong> - $8\n		<ul>\n			<li>Loaded with shredded chicken\, corn\, beans and vegetables topped with cheese\, scallions\, cilantro and crispy tortilla strips</li>\n		</ul>\n		</li>\n		<li><strong>Danger Zone - Prime Rib Grilled Cheese</strong> - $14\n		<ul>\n			<li>Thin sliced slow roasted prime rib\, provolone\, thyme horseradish sauce and frizzled onions between 2 slices of toasted buttered thick sour dough bread.</li>\n		</ul>\n		</li>\n		<li><strong>Wing Man - &nbsp\;Tuna Poke Bowl</strong> - $15\n		<ul>\n			<li>Ahi tuna in a sesame-soy marinade\, steamed rice\, seaweed salad\, edamame\, crisp carrots and cucumber\, fresh avocado &amp\; pickled ginger</li>\n		</ul>\n		</li>\n		<li><strong>The Goose</strong> - <strong>Personal Naan Flatbread</strong> - $14\n		<ul>\n			<li>Refried beans\, melted Mexican cheese blend\, seasoned ground beef or chicken\, lettuce\, pico de gallo\, corn salsa\, fresh cilantro\, Mexican crema.</li>\n		</ul>\n		</li>\n		<li><strong>The Maverick</strong> - <strong>Lobster Rolls</strong> - $19\n		<ul>\n			<li>Tender lobster\, all tail meat\, in a light lemon-mayo with lettuce\, served on a toasted split top brioche lobster bun.</li>\n		</ul>\n		</li>\n		<li><strong>BOB</strong> - <strong>Fried Oreo Cookies</strong> - $8\n		<ul style="list-style-type:circle\;">\n			<li>Oreo cookies dipped in a sweet batter and deep fried\, topped with powdered sugar\, whipped cream and chocolate drizzle (5)</li>\n		</ul>\n		</li>\n	</ul>\n	</li>\n</ul>\n\n<div font-size:="" line-height:="" style="font-family: sans-serif\, Arial\, Verdana\, " trebuchet=""><span style="font-size: 14px\;"><span style="font-family: arial\;"><strong style="">Mio Fratello</strong></span></span><br />\n<br />\n<br />\n&nbsp\;</div>\n</div>\n
LOCATION:Participating restaurants.
UID:e.2126.24897
SEQUENCE:3
DTSTAMP:20260421T093404Z
URL:http://business.thequietresorts.com/events/details/fire-ice-festival-lights-camera-action-tasting-tour-sold-out-24897
END:VEVENT

END:VCALENDAR
