BEGIN:VCALENDAR
VERSION:2.0
PRODID:-//ChamberMaster//Event Calendar 2.0//EN
METHOD:PUBLISH
X-PUBLISHED-TTL:P3D
REFRESH-INTERVAL:P3D
CALSCALE:GREGORIAN
BEGIN:VEVENT
DTSTART;VALUE=DATE:20230127
DTEND;VALUE=DATE:20230130
TRANSP:TRANSPARENT
X-MICROSOFT-CDO-ALLDAYEVENT:TRUE
SUMMARY:Fire & Ice Festival "Lights\, Camera\, Action!" - Salted Vines Vineyard & Winery Happenings
DESCRIPTION:Stop by Salted Vines Vineyard & Winery\, located at 32512 Blackwater Rd. in Frankford\, for live music\, a live sculpture demo\, wine tastings\, and more. Friday will be a big red-carpet-kickoff with the "Walk of Fame" Ice Tour\, featuring a 900 pound ice luge that you won't want to miss.  \n\n\n\nFriday\, January 27th\n\nIce Luge - 12:00 - 9:00 PM\n\nCheck out our 900 pound ice luge that will be revealed on Friday!\n\n\n\nFood Truck - 2:00 - 9:00 PM\n\nEnjoy some delicious food at the Fiona Catering Truck from Kristina's Kitchen! \n\n\n\nLive Music with DJ Scott - 4:00 - 9:00 PM\n\nSponsored by Tansy Warner\, DJ Scott will be onsite keeping the spirit of festivities flying high all afternoon and evening.\n\n\n\n"Walk of Fame" Ice Tour - 5:00 PM - 9:00 PM\n\nStarting at 5:00 PM\, check out the "Walk of Fame" sculptures on the Ice Tour! Pick up a festival map at the information tent to make sure you see them all! There is over 50\,000 pounds of ice coming to The Quiet Resorts\, all masterfully crafted by the artists from The Ice God! Watch as the ice sculptures are unveiled and illuminated with lights as the sun sets.\n\n\n\nA portion of sales will be donated to Santa's Letters\, a local charity committed to bringing "joy to the lives of countless families and help to change lives\, spread love\, and create a ripple effect throughout our generous community."\n\n*Overflow parking will be available around the back of the building. Volunteers will be onsite Friday evening to assist*\n\n\n\nSaturday\, January 28th\n\nLive Music\n\nEnjoy live music and a drink at Salted Vines while Tim Jaudon performs on the patio from 1 PM - 4 PM.\n\n\n\nSunday\, January 29th\n\nLive Music\n\nEnd your festival weekend by coming to enjoy a drink at Salted Vines while Kyle Offidani performs music on the patio from 1 PM - 4 PM\n\n\n\n\n\nTasting Tour\n\nThe Tasting Tour kicks off with participating restaurants in the Quiet Resorts offering their signature Fire & Ice "Lights\, Camera\, Action!" themed cocktail. To purchase tickets\, please click here.\n\n\n\nFor more information and activities happening during the Fire & Ice Festival\, click here to view the weekend events! \n\nFor information about the restaurants participating in the Tasting Tour and other off-site ice sculptures\, click here\n\n\n\nVolunteers Needed -  Sign-Up Here
X-ALT-DESC;FMTTYPE=text/html:<span style="font-family:arial\;"><span style="font-size:14px\;">Stop by Salted Vines Vineyard &amp\; Winery\, located at 32512 Blackwater Rd. in Frankford\, for live music\, a live sculpture demo\, wine tastings\, and more. Friday will be a big red-carpet-kickoff with the &quot\;Walk of Fame&quot\; Ice Tour\, featuring a 900 pound ice luge that you won&#39\;t want to miss.&nbsp\;&nbsp\;</span></span><br />\n<br />\n<span style="font-family:arial\;"><strong><span style="color:#0000FF\;"><span style="font-size:16px\;">Friday\, January 27th</span></span></strong><br />\n<span style="color:#0000FF\;"><span style="font-size:16px\;">Ice Luge - 12:00 - 9:00 PM</span></span><br />\nCheck out our 900 pound ice luge that will be revealed on Friday!</span><br />\n<br />\n<span style="font-size:16px\;"><span style="font-family: arial\;"><span style="color:#0000FF\;">Food Truck - 2:00 - 9:00 PM</span></span></span><br />\n<span style="font-size:14px\;"><span style="font-family:arial\;">Enjoy some delicious food at the Fiona Catering Truck from <a href="https://www.kristinaskitchen19.com/">Kristina&#39\;s Kitchen</a>!&nbsp\;</span></span><br />\n<br />\n<span style="font-family:arial\;"><span style="font-size:14px\;"><span style="font-size:16px\;"><span style="color:#0000FF\;">Live Music with DJ Scott - 4:00 - 9:00 PM</span><br />\n<span style="font-size:14px\;">Sponsored by Tansy Warner\, DJ Scott will be onsite keeping the spirit of festivities flying high all afternoon and evening.</span></span></span></span><br />\n<br />\n<span style="background-color: rgb(255\, 255\, 255)\; color: rgb(0\, 0\, 255)\; font-family: arial\; font-size: 16px\;">&quot\;Walk of Fame&quot\; Ice Tour - 5:00 PM - 9:00 PM</span><br style="color: rgb(51\, 51\, 51)\; font-family: sans-serif\, Arial\, Verdana\, &quot\;Trebuchet MS&quot\;\; font-size: 13px\; background-color: rgb(255\, 255\, 255)\;" />\n<span style="color: rgb(51\, 51\, 51)\; background-color: rgb(255\, 255\, 255)\; font-family: &quot\;Helvetica Neue&quot\;\, Helvetica\, Arial\, sans-serif\; font-size: 15px\;"><span style="font-size: 14px\;"><span style="font-family: arial\;">Starting at 5:00 PM\, check out the &quot\;Walk of Fame&quot\; sculptures on the Ice Tour! Pick up a festival map at the information tent to make sure you see them all! There is over 50\,000 pounds of ice coming to The Quiet Resorts\, all masterfully crafted by the artists from&nbsp\;<a href="https://www.theicegod.com/" style="color: rgb(7\, 130\, 193)\;">The Ice God</a>!&nbsp\;Watch as the ice sculptures are unveiled and illuminated with lights as the sun sets.</span></span></span><br />\n<br />\n<span style="box-sizing: content-box\; inset: auto\; clear: none\; content: normal\; direction: inherit\; empty-cells: show\; font-variant-numeric: inherit\; font-variant-east-asian: inherit\; font-stretch: inherit\; font-size: 14px\; line-height: inherit\; margin: 0px\; max-height: none\; max-width: none\; min-height: initial\; min-width: initial\; opacity: 1\; outline-offset: 0px\; overflow: visible\; padding: 0px\; position: static\; resize: none\; table-layout: auto\; text-overflow: clip\; vertical-align: baseline\; visibility: inherit\; word-break: inherit\; overflow-wrap: inherit\; z-index: auto\; background-image: none\; background-position: initial\; background-size: initial\; background-repeat: initial\; background-attachment: initial\; background-origin: initial\; background-clip: initial\; border-width: initial\; border-style: none\; border-color: initial\; border-collapse: separate\; border-image: none 100% 1 0 / 1 / 0 stretch\; border-radius: 0px\; height: auto\; width: auto\; box-shadow: none\;">A portion of sales will be donated to <a href="https://www.santaslettersinc.com/">Santa&#39\;s Letters</a>\,&nbsp\;a local charity committed to&nbsp\;</span><span style="font-size:14px\;"><span style="color: rgb(41\, 47\, 51)\; font-family: avenir-lt-w01_35-light1475496\, avenir-lt-w05_35-light\, sans-serif\; text-align: center\;">bringing &quot\;joy to the lives of countless families and help to change lives\, spread love\, and create a ripple effect throughout our generous community.&quot\;</span></span><br />\n<strong><span style="font-size:11px\;">*Overflow parking will be available around the back of the building. Volunteers will be onsite Friday evening to assist*</span></strong><br />\n<br />\n<strong><span style="color:#0000FF\;"><span style="font-size:16px\;">Saturday\, January 28th</span></span></strong><br />\n<span style="color:#0000FF\;"><span style="font-size:16px\;">Live Music</span></span><br />\n<span style="font-size:16px\;"><span style="font-size:14px\;">Enjoy live music and a drink at Salted Vines while Tim Jaudon performs on the patio from 1 PM - 4 PM.</span><br />\n<br />\n<span style="color:#0000FF\;"><strong>Sunday\, January 29th</strong></span></span><br />\n<span style="font-size:14px\;"><span style="font-size:16px\;"><span style="font-family:arial\;"><span style="color:#0000FF\;">Live Music</span></span></span><br />\nEnd your festival weekend by coming to enjoy a drink at Salted Vines while Kyle Offidani performs music on the patio from 1 PM - 4 PM</span><br />\n<br />\n<br />\n<span style="background-color: rgb(255\, 255\, 255)\; color: rgb(0\, 0\, 255)\; font-family: arial\; font-size: 16px\;">Tasting Tour</span><br style="color: rgb(51\, 51\, 51)\; font-family: sans-serif\, Arial\, Verdana\, &quot\;Trebuchet MS&quot\;\; font-size: 13px\; background-color: rgb(255\, 255\, 255)\;" />\n<span style="color: rgb(51\, 51\, 51)\; background-color: rgb(255\, 255\, 255)\; font-family: &quot\;Helvetica Neue&quot\;\, Helvetica\, Arial\, sans-serif\; font-size: 15px\;"><span style="font-size: 14px\;"><span style="font-family: arial\;">The Tasting Tour kicks off with participating restaurants in the Quiet Resorts offering their signature Fire &amp\; Ice &quot\;Lights\, Camera\, Action!&quot\;</span></span></span><span style="color: rgb(51\, 51\, 51)\; background-color: rgb(255\, 255\, 255)\; font-family: &quot\;Helvetica Neue&quot\;\, Helvetica\, Arial\, sans-serif\; font-size: 15px\;"><span style="font-size: 14px\;"><span style="font-family: arial\;">&nbsp\;themed cocktail. To purchase tickets\, please&nbsp\;<a href="https://business.bethany-fenwick.org/events/details/fire-ice-festival-lights-camera-action-tasting-tour-24897" style="color: rgb(7\, 130\, 193)\;" target="_blank">click here</a>.</span></span></span><br />\n<br />\n<span style="box-sizing: content-box\; inset: auto\; clear: none\; content: normal\; direction: inherit\; empty-cells: show\; font-variant-numeric: inherit\; font-variant-east-asian: inherit\; font-stretch: inherit\; font-size: 14px\; line-height: inherit\; margin: 0px\; max-height: none\; max-width: none\; min-height: initial\; min-width: initial\; opacity: 1\; outline-offset: 0px\; overflow: visible\; padding: 0px\; position: static\; resize: none\; table-layout: auto\; text-overflow: clip\; vertical-align: baseline\; visibility: inherit\; word-break: inherit\; overflow-wrap: inherit\; z-index: auto\; background-image: none\; background-position: initial\; background-size: initial\; background-repeat: initial\; background-attachment: initial\; background-origin: initial\; background-clip: initial\; border-width: initial\; border-style: none\; border-color: initial\; border-collapse: separate\; border-image: none 100% 1 0 / 1 / 0 stretch\; border-radius: 0px\; height: auto\; width: auto\; box-shadow: none\;">For more information and activities happening during the Fire &amp\; Ice Festival\, click&nbsp\;</span><span style="font-size:14px\;"><span style="font-family:arial\;"><a href="https://fireandicede.com/" style="box-sizing: content-box\; text-decoration-line: none\; transition: all 0.2s ease 0s\; background-image: none\; background-position: initial\; background-size: initial\; background-repeat: initial\; background-attachment: initial\; background-origin: initial\; background-clip: initial\; outline: none 0px\; -webkit-tap-highlight-color: rgba(0\, 0\, 0\, 0.3)\; inset: auto\; clear: none\; content: normal\; direction: inherit\; display: inline\; empty-cells: show\; float: none\; font-variant-numeric: inherit\; font-variant-east-asian: inherit\; font-stretch: inherit\; line-height: inherit\; margin: 0px\; max-height: none\; max-width: none\; min-height: initial\; min-width: initial\; opacity: 1\; outline-offset: 0px\; overflow: visible\; padding: 0px\; position: static\; resize: none\; table-layout: auto\; text-overflow: clip\; vertical-align: baseline\; visibility: inherit\; word-break: inherit\; overflow-wrap: break-word\; z-index: auto\; border-width: initial\; border-style: none\; border-color: initial\; border-collapse: separate\; border-image: none 100% 1 0 / 1 / 0 stretch\; border-radius: 0px\; height: auto\; width: auto\; box-shadow: none\;" target="_blank">here</a></span></span><span style="box-sizing: content-box\; inset: auto\; clear: none\; content: normal\; direction: inherit\; empty-cells: show\; font-variant-numeric: inherit\; font-variant-east-asian: inherit\; font-stretch: inherit\; font-size: 14px\; line-height: inherit\; margin: 0px\; max-height: none\; max-width: none\; min-height: initial\; min-width: initial\; opacity: 1\; outline-offset: 0px\; overflow: visible\; padding: 0px\; position: static\; resize: none\; table-layout: auto\; text-overflow: clip\; vertical-align: baseline\; visibility: inherit\; word-break: inherit\; overflow-wrap: inherit\; z-index: auto\; background-image: none\; background-position: initial\; background-size: initial\; background-repeat: initial\; background-attachment: initial\; background-origin: initial\; background-clip: initial\; border-width: initial\; border-style: none\; border-color: initial\; border-collapse: separate\; border-image: none 100% 1 0 / 1 / 0 stretch\; border-radius: 0px\; height: auto\; width: auto\; box-shadow: none\;">&nbsp\;to view the weekend events!&nbsp\;<br />\nFor information about the restaurants participating in the Tasting Tour and other off-site ice sculptures\, click <a href="https://business.bethany-fenwick.org/events/details/lights-camera-action-weekend-walk-of-fame-sites-25083">here</a></span><br />\n<br />\n<a href="https://www.signupgenius.com/go/60B0B4CA9AB22A1FC1-2023" style="color: rgb(7\, 130\, 193)\; font-family: sans-serif\, Arial\, Verdana\, &quot\;Trebuchet MS&quot\;\; font-size: 13px\; background-color: rgb(255\, 255\, 255)\;"><span style="color: rgb(255\, 0\, 0)\;"><font face="arial"><span style="font-size: 16px\;">Volunteers Needed -&nbsp\;&nbsp\;Sign-Up Here</span></font></span></a>
LOCATION:Salted Vines Vineyard & Winery 32512 Blackwater Rd Frankford\, DE 19945
UID:e.2126.24850
SEQUENCE:3
DTSTAMP:20260421T095003Z
URL:http://business.thequietresorts.com/events/details/fire-ice-festival-lights-camera-action-salted-vines-vineyard-winery-happenings-24850
END:VEVENT

END:VCALENDAR
