BEGIN:VCALENDAR
VERSION:2.0
PRODID:-//ChamberMaster//Event Calendar 2.0//EN
METHOD:PUBLISH
X-PUBLISHED-TTL:P3D
REFRESH-INTERVAL:P3D
CALSCALE:GREGORIAN
BEGIN:VEVENT
DTSTART;VALUE=DATE:20230127
DTEND;VALUE=DATE:20230129
TRANSP:TRANSPARENT
X-MICROSOFT-CDO-ALLDAYEVENT:TRUE
SUMMARY:Fire & Ice Festival - "Lights\, Camera\, Action!" - Millville Boardwalk Happenings
DESCRIPTION:Enjoy dazzling ice sculptures\, toasty bonfires\, Disney Karaoke\, a live demonstration\, children's arcade games at Captains Quarters\, Lighthouse Mini Golf\, and a featured "Lights\, Camera\, Action!" themed ice cream from Agape Creamery! This is the place to be for the kickoff to a full weekend of movie magic and fun for the whole family. Proceeds will benefit the Millville Volunteer Fire Company.\n\n\n\nFriday\, January 27th\n\nLive Demonstration: 4:00 PM\n\nSponsored by State Farm Agent Billy Reese\, watch as the movie Cars is brought to life by the artists from The Ice God.\n\n\n\n"Walk of Fame" Ice Tour - 5:00 - 9:00 pm\n\nStarting at 5:00 PM\, check out all the sculptures in town by taking a "Walk of Fame" on the Ice Tour! Pick up a festival map at the information tent to make sure you see them all. Millville Boardwalk will be the spot you won't want the kids to miss! There is over 50\,000 pounds of ice coming to the The Quiet Resorts\, all masterfully crafted by the artists from The Ice God! Watch as thousands of pounds of ice are transformed into some of your favorite memories from the big screen. For more information\, please click here. \n\n\n\nMovies on the Boards - 5 PM - 9 PM   \n\nEnjoy your ice cream or s'more while watching a movie on the Millville Boardwalk. Frozen I and Frozen II will be playing between 5 PM and 9 PM!\n\n\n\nLive Entertainment - 5 PM -  9 PM\n\nMeet Elsa\, from Frozen\, and get a picture taken with her and a beautiful 1\,800 pound ice scene from the movie. "Let it go" by joining the fun for a night of Disney Karaoke in the Lodge! Karaoke and photo opportunities with Elsa will be from 5PM-9PM on Friday\, January 27th.\n\n\n\nBonfires and S'mores: 4 PM - 8 PM  \n\nStay warm by enjoying some s'mores and bonfire managed by and benefitting Millville Volunteer Fire Department. There will also be a fire truck on site for all of the kids to explore!\n\n\n\nIce Cream Specials\n\nThe movie magic continues with special twists to Agape Creamery's ice cream flavors including special flavors specially made for Festival Weekend: \n\n\n	Olaf's Cookie Special\n	Lightning McQueen's Ka-Chow\n	Weekend at Brownies\n\n\nFor info on our restaurants participating in the Tasting Tour and off-site ice sculpture\, click here.\n\n\n\nVolunteers Needed -  Sign-Up Here
X-ALT-DESC;FMTTYPE=text/html:<p><span style="background-color: rgb(255\, 255\, 255)\; font-family: &quot\;Helvetica Neue&quot\;\, Helvetica\, Arial\, sans-serif\; font-size: 15px\;"><span style="font-family: arial\;"><span style="font-size:14px\;">Enjoy&nbsp\;dazzling ice sculptures\, toasty bonfires\, Disney Karaoke\, a live demonstration\, children&#39\;s&nbsp\;arcade games at Captains Quarters\,&nbsp\;Lighthouse Mini Golf\, and a featured &quot\;Lights\,&nbsp\;Camera\,&nbsp\;Action!&quot\;&nbsp\;themed ice cream from Agape Creamery! This is the place to be for the kickoff to a full weekend of movie magic and fun for the whole family. Proceeds will benefit the Millville Volunteer Fire Company.</span></span></span><br />\n<br />\n<font color="#0000ff" face="arial"><span style="font-size: 18px\;"><span style="font-family:arial\;"><strong>Friday\, January 27th</strong></span></span></font><br />\n<span style="font-family: arial\; font-size: 14px\; color: rgb(0\, 0\, 255)\;"><span style="font-size: 16px\;">Live Demonstration: 4:00 PM</span></span><br style="color: rgb(51\, 51\, 51)\; font-family: arial\; font-size: 14px\;" />\n<span style="color: rgb(51\, 51\, 51)\; font-family: arial\; font-size: 14px\; background-color: rgb(255\, 255\, 255)\;">Sponsored by State Farm Agent Billy Reese\, watch as the movie&nbsp\;</span><em style="color: rgb(51\, 51\, 51)\; font-family: arial\; font-size: 14px\;">Cars&nbsp\;</em><span style="color: rgb(51\, 51\, 51)\; font-family: arial\; font-size: 14px\; background-color: rgb(255\, 255\, 255)\;">is brought to life by the artists from&nbsp\;</span><a href="https://www.theicegod.com/" style="color: rgb(7\, 130\, 193)\; font-family: arial\; font-size: 14px\;">The Ice God</a><span style="color: rgb(51\, 51\, 51)\; font-family: arial\; font-size: 14px\; background-color: rgb(255\, 255\, 255)\;">.</span><br />\n<br />\n<font color="#0000ff" face="arial"><span style="font-size: 18px\;"><span style="font-family:arial\;"><span style="font-size:16px\;">&quot\;Walk of Fame&quot\; Ice Tour - 5:00 - 9:00 pm</span></span></span></font><br />\n<span style="font-family: arial\; font-size: 14px\;">Starting at 5:00 PM\, check out all the sculptures in town by taking a &quot\;Walk of Fame&quot\; on the Ice Tour! Pick up a festival map at the information tent to make sure you see them all. Millville Boardwalk will be the spot you won&#39\;t want the kids to miss! There is over 50\,000 pounds of ice coming to the The Quiet Resorts\, all masterfully crafted by the artists from <a href="https://www.theicegod.com/">The Ice God</a>! Watch as&nbsp\;thousands of&nbsp\;pounds of&nbsp\;ice are transformed into some of your favorite memories from the big screen. For more information\, please <a href="https://fireandicede.com/">click here</a>.&nbsp\;<br />\n<br />\n<span style="color:#0000FF\;"><span style="font-size:16px\;">Movies on the Boards - 5 PM - 9 PM&nbsp\; &nbsp\;</span></span><br />\nEnjoy your ice cream or s&#39\;more while watching a movie on the Millville Boardwalk. Frozen I and Frozen II will be playing between 5 PM and 9 PM!<br />\n<br />\n<span style="font-size:16px\;"><span style="color:#0000FF\;">Live Entertainment -&nbsp\;5 PM - &nbsp\;9 PM</span></span></span><br />\n<span style="font-family: arial\; font-size: 14px\; background-color: rgb(255\, 255\, 255)\;">Meet Elsa\, from&nbsp\;</span><em style="color: rgb(51\, 51\, 51)\; font-family: arial\; font-size: 14px\; background-color: rgb(255\, 255\, 255)\;">Frozen\,&nbsp\;</em><span style="font-family: arial\; font-size: 14px\; background-color: rgb(255\, 255\, 255)\;">and get a picture taken with her and a beautiful 1\,800 pound ice scene from the movie.&nbsp\;<em>&quot\;Let it go&quot\;</em> by joining the fun for a night of Disney Karaoke in the Lodge! Karaoke and photo opportunities&nbsp\;with Elsa will be from 5PM-9PM on Friday\, January 27th.</span><br />\n<br />\n<span style="font-family: arial\; font-size: 14px\;"><span style="font-size:16px\;"><span style="color:#0000FF\;">Bonfires&nbsp\;and S&#39\;mores: 4&nbsp\;PM - 8&nbsp\;PM&nbsp\;&nbsp\;</span></span></span><br />\n<span style="font-family: arial\; font-size: 14px\; background-color: rgb(255\, 255\, 255)\;">Stay warm by enjoying some s&#39\;mores and&nbsp\;bonfire managed&nbsp\;by and benefitting&nbsp\;Millville Volunteer Fire Department. There will also be a fire truck on site for all of the kids to explore!<br />\n<br />\n<span style="color:#0000FF\;"><span style="font-size:16px\;">Ice Cream Specials</span></span></span><br />\n<font face="arial"><span style="font-size: 14px\;">The movie magic continues with special twists to&nbsp\;Agape Creamery&#39\;s ice cream flavors including special flavors specially made for Festival Weekend:&nbsp\;</span></font></p>\n\n<ul>\n	<li>Olaf&#39\;s Cookie Special</li>\n	<li>Lightning McQueen&#39\;s Ka-Chow</li>\n	<li>Weekend at Brownies</li>\n</ul>\n\n<p><span style="color: rgb(51\, 51\, 51)\; font-family: sans-serif\, Arial\, Verdana\, &quot\;Trebuchet MS&quot\;\; font-size: 14px\; background-color: rgb(255\, 255\, 255)\;">For info on our restaurants participating in the Tasting Tour and off-site ice sculpture\, click&nbsp\;</span><a href="https://business.bethany-fenwick.org/events/details/lights-camera-action-weekend-walk-of-fame-sites-25083" style="color: rgb(7\, 130\, 193)\; font-family: sans-serif\, Arial\, Verdana\, &quot\;Trebuchet MS&quot\;\; font-size: 14px\; background-color: rgb(255\, 255\, 255)\;">here</a><span style="color: rgb(51\, 51\, 51)\; font-family: sans-serif\, Arial\, Verdana\, &quot\;Trebuchet MS&quot\;\; font-size: 14px\; background-color: rgb(255\, 255\, 255)\;">.</span><br />\n<br />\n<a href="https://www.signupgenius.com/go/60B0B4CA9AB22A1FC1-2023" style="color: rgb(7\, 130\, 193)\; font-family: sans-serif\, Arial\, Verdana\, &quot\;Trebuchet MS&quot\;\; font-size: 13px\; background-color: rgb(255\, 255\, 255)\;"><span style="color: rgb(255\, 0\, 0)\;"><font face="arial"><span style="font-size: 16px\;">Volunteers Needed -&nbsp\;&nbsp\;Sign-Up Here</span></font></span></a></p>\n
LOCATION:Millville Boardwalk 35287 Atlantic Ave. Millville\, DE 19967
UID:e.2126.24849
SEQUENCE:3
DTSTAMP:20260423T092255Z
URL:http://business.thequietresorts.com/events/details/fire-ice-festival-lights-camera-action-millville-boardwalk-happenings-24849
END:VEVENT

END:VCALENDAR
