BEGIN:VCALENDAR
VERSION:2.0
PRODID:-//ChamberMaster//Event Calendar 2.0//EN
METHOD:PUBLISH
X-PUBLISHED-TTL:P3D
REFRESH-INTERVAL:P3D
CALSCALE:GREGORIAN
BEGIN:VEVENT
DTSTART:20240126T160000Z
DTEND:20240128T010000Z
X-MICROSOFT-CDO-ALLDAYEVENT:FALSE
SUMMARY:Fire & Ice Festival "Into the Wild" - Town of Bethany Beach Happenings
DESCRIPTION:Friday\, January 26th\n\nKids Inflatables - 3:00 PM - 7:00PM\n\nFun for children of all ages\, bring the family to Bethany Beach to enjoy a fun afternoon on inflatable slides\, obstacle courses\, and bounce houses\, sponsored by Bethany Beach Books and The Book Drop. The inflatables area will be located in the fenced area by the Christian Church Conference Center (15 N. Pennsylvania Ave\, Bethany Beach). *Suggested donation for entry fee for event beneficiary. There will be something for all ages but certain age/height limits will apply to some of the activities.\n\n\n\nMovie on the Bandstand: 5:00 PM - 7:00 PM\n\nGrab a pair of 3D glasses and enjoy the show! DeepSea 3D will be playing on the Bandstand. Sponsored by the Town of Bethany Beach\, you'll love this fun way to dive "Into the Deep" at the beach!\n\n\n\nBeach Bonfire & S'more: 6:00 PM - 8:00 PM - Canceled due to closed beach access! Additional details to come. \n\nHead down to the beach to warm up by a bonfire\, sponsored by the Town of Bethany Beach. *Beach/Weather contingent.  What's a bonfire without s'mores! Pick up a pre-packaged marshmallow\, graham cracker and chocolate\, sponsored by Su Casa that will be available for pick-up at the dune entryway on Saturday\, starting at 6pm. \n\n\n\nTasting Tour - All festival weekend\n\nThe Tasting Tour kicks off with participating restaurants in the Quiet Resorts offering their signature Fire & Ice "Into the Wild" themed cocktail. Proceeds will benefit the South Coastal Emergency Department and Cancer Center at Beebe Healthcare as well as participating restaurants. To purchase tickets\, please click here.\n\n\n\nSaturday\, January 27th\n\nLive Radio with Dan Gaffney- 9:00 AM - 12:00 PM\n\nDan Gaffney from Delaware 105.9 will be broadcasting live near the Flagpole in downtown Bethany Beach on Saturday morning.\n\n\n\nKids Inflatables - 11:00 AM - 7:00PM\n\nFun for children of all ages\, bring the family to Bethany Beach to enjoy a fun afternoon on inflatable slides\, obstacle courses\, and bounce houses\, sponsored by Bethany Beach Books and The Book Drop. Saturday inflatables will also include a mechanical shark! The inflatables area will be located in the fenced area by the Christian Church Conference Center (15 N. Pennsylvania Ave\, Bethany Beach). *Suggested donation for entry fee for event beneficiary. There will be something for all ages but certain age/height limits will apply to some of the activities.\n\n\n\nCascading Carlos- 1:00 PM - 4:00 PM\n\nSponsored by Heather's Home Works\, Cascading Carlos will return as a festival favorite. A talented professional juggler that brings a fun experience for all. Stand back and watch his incredible performance or give juggling a try and interact with his fun props!\n\n\n\nLive Ice Carving Demonstrations\n\nThere will be two live ice carving demonstrations in Bethany Beach this year. Watch as legendary sculptor\, Angelito\, from The Ice God carves two gigantic walls of ice into intricate masterpieces! See below for times and locations of each demo!\n\n\n	4:00 PM at Bethany Beach Ocean Suites. Sponsored by BBOS and Hotel Bethany Beach\, watch from the boardwalk stage at Hollywood Street as the sculpture comes to life. \n	6:00 PM on the Bandstand. Sponsored by the Town of Bethany Beach\, this finale sculpture will "wow" the crowd with an exciting finale to the "Into the Wild" theme for the festival weekend. \n\n\nFestival Ice Tour - 5:00 PM - 9:00 PM\n\nStarting at 5:00 PM on Saturday\, check out all the sculptures in town by taking an adventure on the "Into the Wild" Ice Tour! Bethany Beach will feature an "Into the Deep" aspect of this year's tour with sculptures highlighting water animals and deep sea creatures. Pick up a festival map at the information tent to make sure you see them all!\n\n\n\nThere is over 60\,000 pounds of ice coming to The Quiet Resorts\, all masterfully crafted by the artists from The Ice God! Watch as the ice sculptures are unveiled and illuminated with lights as the sun sets. For more information\, please click here.\n\n\n\nTasting Tour - All festival weekend\n\nThe Tasting Tour will continue throughout Saturday and Sunday at participating businesses. Proceeds will benefit the South Coastal Emergency Department and Cancer Center at Beebe Healthcare as well as participating restaurants. Click here for more information.\n\n\n\nAdditional Business Specials\n\nSandy Pawz: 8 N. Pennsylvania Ave.\n\nSaturday (1/27) - any item with a shark tag is 20% off! Also\, for every $10 spent\, customers can enter their name into a raffle to win a prize\n\n\n\nFor more info on Fire and Ice and all sculpture locations\, click here! \n\nFor info on our restaurants participating in the Tasting Tour and tickets\, click here.\n\n\n\nAccommodation Options: Click here!\n\n\n\nWant to sponsor your own ice sculpture? This year\, community members are invited to team up to sponsor their own ice to support Believe in Tomorrow Children's Foundation!\n\nClick here for a downloadable Community Ice Sponsor Form!\n\n\n\nVolunteers Needed for Bethany Beach-  Sign-Up Here\n\nFor additional Fire & Ice Festival Volunteer Opportunities - Sign-Up Here
X-ALT-DESC;FMTTYPE=text/html:<p><span style="font-family:arial\;"><strong style="font-size: 16px\;"><span style="color:#0000FF\;"><span style="font-size:18px\;">Friday\, January 26th</span></span></strong></span><br />\n<span style="color: rgb(51\, 51\, 51)\; font-size: 13px\; background-color: rgb(255\, 255\, 255)\; font-family: arial\;"><span style="color: rgb(0\, 0\, 255)\;"><span style="font-size: 16px\;">Kids Inflatables - 3:00 PM - 7:00PM</span></span></span><br style="color: rgb(51\, 51\, 51)\; font-family: sans-serif\, Arial\, Verdana\, &quot\;Trebuchet MS&quot\;\; font-size: 13px\; background-color: rgb(255\, 255\, 255)\;" />\n<span style="color: rgb(51\, 51\, 51)\; font-family: arial\; font-size: 14px\; background-color: rgb(255\, 255\, 255)\;">Fun for children of all ages\, bring the family to Bethany Beach to enjoy a&nbsp\;fun afternoon on inflatable slides\, obstacle courses\, and bounce houses\, sponsored by Bethany Beach Books and The Book Drop.&nbsp\;The inflatables area will be&nbsp\;located in the fenced area by the Christian Church Conference Center (15 N. Pennsylvania Ave\, Bethany Beach). *Suggested donation for entry fee for event beneficiary. There will be something for all ages but certain age/height limits will apply to some of the activities.</span><br />\n<br />\n<span style="font-family:arial\;"><span style="font-size: 16px\; color: rgb(0\, 0\, 255)\;">Movie on the Bandstand: 5:00 PM - 7:00 PM</span><br />\n<span style="font-size: 14px\;">Grab a pair of 3D glasses and enjoy the show! DeepSea 3D will be playing on the Bandstand. Sponsored by the Town of Bethany Beach\, you&#39\;ll love this fun way to dive &quot\;Into the Deep&quot\; at the beach!</span><br />\n<br />\n<span style="color:#0000FF\;"><span style="font-size: 16px\;">Beach Bonfire &amp\; S&#39\;more: 6:00 PM - 8:00 PM -&nbsp\;</span></span><span style="font-size: 16px\;"><span style="color:#FF0000\;">Canceled due to closed beach access! Additional details to come.&nbsp\;</span></span><br />\n<span style="font-size: 14px\;">Head down to the beach to warm up by a&nbsp\;bonfire\, sponsored by the Town of Bethany Beach. *Beach/Weather contingent.&nbsp\; What&#39\;s a bonfire without s&#39\;mores! Pick up a pre-packaged marshmallow\, graham cracker and chocolate\, sponsored by Su Casa that will be available for pick-up at the dune entryway on Saturday\, starting at 6pm.&nbsp\;</span></span><br />\n<br />\n<span style="color: rgb(0\, 0\, 255)\; font-family: arial\; font-size: 16px\;">Tasting Tour - All festival weekend</span><br />\n<span style="font-family: &quot\;Helvetica Neue&quot\;\, Helvetica\, Arial\, sans-serif\; font-size: 15px\;"><span style="font-size:14px\;"><span style="font-family:arial\;">The Tasting Tour kicks off with participating restaurants in the Quiet Resorts offering their signature Fire &amp\; Ice &quot\;Into the Wild&quot\; themed cocktail</span></span></span><span style="font-family: &quot\;Helvetica Neue&quot\;\, Helvetica\, Arial\, sans-serif\; font-size: 15px\;"><span style="font-size:14px\;"><span style="font-family:arial\;">. Proceeds will benefit the South Coastal Emergency Department and Cancer Center at Beebe Healthcare as well as participating restaurants.&nbsp\;To purchase tickets\, please <a href="https://business.bethany-fenwick.org/events/details/fire-ice-festival-into-the-wild-tasting-tour-26928">click here</a>.</span></span></span><br />\n<br />\n<strong><span style="color: rgb(0\, 0\, 255)\; font-family: arial\; font-size: 18px\;">Saturday\, January 27th</span></strong><br />\n<span style="background-color: rgb(255\, 255\, 255)\; font-family: arial\;"><span style="color:#0000FF\;"><span style="font-size: 16px\;">Live Radio with Dan Gaffney- 9:00 AM - 12:00 PM</span></span><br />\n<span style="font-size: 14px\;">Dan Gaffney from Delaware 105.9&nbsp\;will be broadcasting live near&nbsp\;the Flagpole in downtown Bethany Beach on Saturday morning.</span><br />\n<br />\n<span style="color:#0000FF\;"><span style="font-size: 16px\;">Kids Inflatables - 11:00 AM - 7:00PM</span></span></span><br style="color: rgb(51\, 51\, 51)\; font-family: sans-serif\, Arial\, Verdana\, &quot\;Trebuchet MS&quot\;\; font-size: 13px\; background-color: rgb(255\, 255\, 255)\;" />\n<span style="color: rgb(51\, 51\, 51)\; font-family: arial\; font-size: 14px\; background-color: rgb(255\, 255\, 255)\;">Fun for children of all ages\, bring the family to Bethany Beach to enjoy a&nbsp\;fun afternoon on inflatable slides\, obstacle courses\, and bounce houses\, sponsored by Bethany Beach Books and The Book Drop. Saturday&nbsp\;inflatables will also include a mechanical shark! The inflatables area will be&nbsp\;located in the fenced area by the Christian Church Conference Center (15 N. Pennsylvania Ave\, Bethany Beach). *Suggested donation for entry fee for event beneficiary. There will be something for all ages but certain age/height limits will apply to some of the activities.</span><br />\n<br />\n<span style="font-family:arial\;"><span style="font-size: 14px\;"><span style="font-size:16px\;"><span style="color:#0000FF\;">Cascading Carlos- 1:00 PM - 4:00 PM</span></span></span></span><br />\n<span style="font-family: arial\; font-size: 16px\;"><span style="font-size:14px\;">Sponsored by Heather&#39\;s Home Works\, Cascading Carlos will return as a festival favorite. A talented professional juggler that brings a fun experience for all. Stand back and watch his incredible performance or give juggling a try and interact with his fun props!</span><br />\n<br />\n<span style="color:#0000FF\;">Live Ice Carving Demonstrations</span><br />\n<span style="font-size:14px\;">There will be two live ice carving demonstrations in Bethany Beach this year. Watch as legendary sculptor\, Angelito\,&nbsp\;from The Ice God carves two gigantic&nbsp\;walls of ice&nbsp\;into&nbsp\;intricate masterpieces! See below for times and locations of each demo!</span></span></p>\n\n<ul>\n	<li><span style="font-size:16px\;"><span style="color:#0000FF\;">4:00 PM at&nbsp\;Bethany Beach Ocean Suites</span>.</span> <span style="font-family:arial\;"><span style="font-size:14px\;">Sponsored by BBOS and Hotel Bethany Beach\, watch from the boardwalk stage at Hollywood Street&nbsp\;as the sculpture comes to life.&nbsp\;</span></span></li>\n	<li><span style="font-family: arial\; font-size: 16px\;"><span style="font-size:14px\;"><span style="font-size:16px\;"><span style="color:#0000FF\;">6:00 PM on the Bandstand</span></span>. Sponsored by the Town of Bethany Beach\, this finale sculpture will &quot\;wow&quot\; the crowd with an exciting finale to the &quot\;Into the Wild&quot\; theme for the festival weekend.&nbsp\;</span></span></li>\n</ul>\n\n<p><span style="font-family: arial\; font-size: 16px\;"><span style="color:#0000FF\;">Festival Ice Tour -&nbsp\;5:00 PM - 9:00 PM</span></span><br />\n<span style="font-family: &quot\;Helvetica Neue&quot\;\, Helvetica\, Arial\, sans-serif\; font-size: 15px\;"><span style="font-size:14px\;"><span style="font-family:arial\;">Starting at 5:00 PM on Saturday\, check out all the sculptures&nbsp\;in town by taking an adventure&nbsp\;on the &quot\;Into the Wild&quot\; Ice Tour! Bethany Beach will feature an &quot\;Into the Deep&quot\; aspect of this year&#39\;s tour with sculptures highlighting water animals and deep sea creatures. Pick up a festival map at the information tent to make sure you see them all!<br />\n<br />\nThere is over 60\,000 pounds of ice coming to The Quiet Resorts\, all masterfully crafted by the artists from <a href="https://www.theicegod.com/">The Ice God</a>!&nbsp\;Watch as the ice sculptures are unveiled and illuminated with lights as the sun sets. For more information\, please <a href="https://fireandicede.com/" target="_blank">click here</a>.</span></span></span><br />\n<br />\n<span style="font-family: &quot\;Helvetica Neue&quot\;\, Helvetica\, Arial\, sans-serif\; font-size: 15px\;"><span style="font-size:14px\;"><span style="font-family:arial\;"><span style="font-size:16px\;"><span style="color:#0000FF\;">Tasting Tour - All festival weekend</span></span><br />\nThe Tasting Tour&nbsp\;will continue throughout Saturday and Sunday at participating businesses. Proceeds will benefit the South Coastal Emergency Department and Cancer Center at Beebe Healthcare as well as participating restaurants. <a href="https://business.bethany-fenwick.org/events/details/fire-ice-festival-into-the-wild-tasting-tour-26928">Click here for more information</a>.</span></span></span><br />\n<br />\n<em><font color="#0000ff"><span style="font-size: 16px\;"><b>Additional Business Specials</b></span></font><br />\n<u><font face="arial">Sandy Pawz: 8 N. Pennsylvania Ave.</font></u><br />\nSaturday (1/27) - any item with a shark tag is 20% off! Also\, for every $10 spent\, customers can enter their name into a raffle to win a prize<br />\n<br />\n<span style="font-size:14px\;">For more info on Fire and Ice and all sculpture locations\, click <a href="https://fireandicede.com/" target="_blank">here</a>!&nbsp\;<br />\nFor info on our restaurants participating in the Tasting Tour and tickets\, click <a href="https://business.bethany-fenwick.org/events/details/fire-ice-festival-into-the-wild-tasting-tour-26928">here</a>.<br />\n<br />\n<strong><span style="color:#0000FF\;"><span style="font-size:16px\;"><span style="font-family:arial\;">Accommodation Options: <a href="https://fireandicede.com/plan-your-stay/">Click here!</a></span></span></span></strong></span><br />\n<br />\n<strong><span style="font-size:14px\;"><span style="color:#0000FF\;">Want to sponsor your own ice sculpture? This year\, community members are invited to team up to sponsor their own ice to support Believe in Tomorrow Children&#39\;s Foundation!<br />\n<a href="https://chambermaster.blob.core.windows.net/userfiles/UserFiles/chambers/2126/File/Fire_Ice/2024/IndividualSponsorForm202413-compressed.pdf">Click here for a downloadable Community Ice Sponsor Form!</a></span></span></strong><br />\n<br />\n<a href="https://www.signupgenius.com/go/60B0B4CA9AB22A1FC1-46947095-2024"><span style="color:#FF0000\;"><font face="arial"><span style="font-size: 16px\;">Volunteers Needed for Bethany Beach-&nbsp\;&nbsp\;Sign-Up Here</span></font></span></a><br />\n<a href="https://business.bethany-fenwick.org/events/details/fire-ice-into-the-wild-volunteer-page-27391"><span style="color:#FF0000\;"><font face="arial"><span style="font-size: 16px\;">For additional Fire &amp\; Ice Festival Volunteer Opportunities - Sign-Up Here</span></font></span></a></em></p>\n
LOCATION:Downtown Bethany Beach
UID:e.2126.26929
SEQUENCE:3
DTSTAMP:20260420T140400Z
URL:http://business.thequietresorts.com/events/details/fire-ice-festival-into-the-wild-town-of-bethany-beach-happenings-26929
END:VEVENT

END:VCALENDAR
