BEGIN:VCALENDAR
VERSION:2.0
PRODID:-//ChamberMaster//Event Calendar 2.0//EN
METHOD:PUBLISH
X-PUBLISHED-TTL:P3D
REFRESH-INTERVAL:P3D
CALSCALE:GREGORIAN
BEGIN:VEVENT
DTSTART;VALUE=DATE:20240126
DTEND;VALUE=DATE:20240128
TRANSP:TRANSPARENT
X-MICROSOFT-CDO-ALLDAYEVENT:TRUE
SUMMARY:Fire & Ice Festival "Into the Wild" - Penguin Pond Skating Rink
DESCRIPTION:Stop by Lord's Landscaping and grab a pair of skates for the 2024 Skating Rink\, located at 35577 Atlantic Avenue in Millville. Sponsored by SavvyDerm Skin Clinic and Lord's Landscaping\, the 1\,800 square foot synthetic ice rink will be fun for the whole family!  \n\n\n\n$5 cash donation suggested for 30-minute skating session\n\n*Includes skate rentals\n\n*Ages 5+ permitted\n\n\n\n*All proceeds will be received by the Bethany- Fenwick Area Chamber of Commerce to benefit the Lord Baltimore PTO. Thanks in advance to all of the Lord Baltimore PTO adult and student volunteers!*\n\n\n\nFriday\, January 26th\n\nSkating Rink: 4:00PM - 8:00PM\n\nCome enjoy the fun ambiance of Lord's Landscaping at the Fire & Ice Festival Ice Rink. Must be age 5+ to skate! See pricing for details.\n\n\n\n"Skate with Friends" Schedule:\n\n4:00 PM - Phillip C. Showell Elementary School\n\n5:00 PM - John M. Clayton Elementary School\n\n6:00 PM - SDSA and Selbyville Middle School\n\n7:00 PM - Lord Baltimore Elementary\n\n\n\nTaste Events Food: 4:00 - 8:00PM\n\nEnjoy delicious eats from Taste Events. A portion of proceeds will be donated to the Bethany-Fenwick Area Chamber of Commerce on behalf of the Lord Baltimore PTO.\n\n\n\n\n\nSaturday\, January 27th\n\nSkating Rink: 10:00AM - 4:00PM\n\nCome enjoy the fun ambiance of Lord's Landscaping at the Fire & Ice Festival Ice Rink. Must be age 5+ to skate. See pricing for details!\n\n\n\nLive Music with DJ Baull: 10:00AM - 4:00PM\n\nEnjoy some tunes while you skate by DJ Baull\, sponsored by the Chamber.\n\n\n\nTaste Events Food: 10:00 AM - 4:00 PM\n\nEnjoy delicious eats from Taste Events. A portion of proceeds will be donated to the Bethany-Fenwick Area Chamber of Commerce on behalf of the Lord Baltimore PTO.\n\n\n\nLearn more about other Festival Happenings for the entire weekend by visiting www.fireandicede.com!\n\n\n\nVolunteers Needed -  Sign-Up Here
X-ALT-DESC;FMTTYPE=text/html:<span style="font-family:arial\;"><span style="font-size:14px\;">Stop by Lord&#39\;s Landscaping and grab a pair of skates for the 2024 Skating Rink\, located at 35577 Atlantic Avenue in Millville. Sponsored by SavvyDerm Skin Clinic and Lord&#39\;s Landscaping\, the 1\,800 square foot synthetic ice rink will be fun for the whole family!&nbsp\;&nbsp\;</span></span><br />\n<br />\n<strong>$5 cash donation suggested for 30-minute skating session<br />\n*Includes skate rentals<br />\n*Ages 5+ permitted<br />\n<br />\n*All proceeds will be received by the Bethany- Fenwick Area Chamber of Commerce to benefit the Lord Baltimore PTO. Thanks in advance to all of the Lord Baltimore PTO adult and student volunteers!*</strong><br />\n<br />\n<span style="font-family:arial\;"><span style="color:#0000FF\;"><strong><span style="font-size:16px\;">Friday\, January 26th</span></strong><br />\n<span style="font-size:16px\;">Skating Rink: 4:00PM - 8:00PM</span></span><br />\nCome enjoy the fun ambiance of Lord&#39\;s Landscaping at the Fire &amp\; Ice Festival Ice Rink. Must be age 5+ to skate! See pricing for details.</span><br />\n<br />\n<strong><font face="arial"><span style="font-size: 14px\;">&quot\;Skate with Friends&quot\; Schedule:</span></font><br />\n4:00 PM - Phillip C. Showell Elementary School<br />\n5:00 PM - John M. Clayton Elementary School<br />\n6:00 PM - SDSA and Selbyville Middle School<br />\n7:00 PM - Lord Baltimore Elementary</strong><br />\n<br />\n<span style="font-size:16px\;"><font color="#0000ff" face="arial">Taste Events Food: 4:00 - 8:00PM</font><br />\n<span style="font-size:14px\;">Enjoy delicious eats from Taste Events. A portion of proceeds will be donated to the Bethany-Fenwick Area Chamber of Commerce on behalf of the Lord Baltimore PTO.</span></span><br />\n<br />\n<br />\n<span style="color:#0000FF\;"><strong><span style="font-size:16px\;">Saturday\, January 27th</span></strong></span><br />\n<span style="font-family: arial\; font-size: 13px\; background-color: rgb(255\, 255\, 255)\; color: rgb(0\, 0\, 255)\;"><span style="font-size: 16px\;">Skating Rink: 10:00AM - 4:00PM</span></span><br style="color: rgb(51\, 51\, 51)\; font-family: arial\; font-size: 13px\; background-color: rgb(255\, 255\, 255)\;" />\n<span style="color: rgb(51\, 51\, 51)\; font-family: arial\; font-size: 13px\; background-color: rgb(255\, 255\, 255)\;">Come enjoy the fun ambiance of Lord&#39\;s Landscaping at the Fire &amp\; Ice Festival Ice Rink. Must be age 5+ to skate. See pricing for details!</span><br />\n<br />\n<span style="color:#0000FF\;"><span style="font-family: arial\; font-size: 13px\; background-color: rgb(255\, 255\, 255)\;"><span style="font-size:16px\;">Live Music with DJ Baull: 10:00AM - 4:00PM</span></span></span><br />\n<span style="font-family: arial\; font-size: 13px\; background-color: rgb(255\, 255\, 255)\;"><span style="font-size:16px\;"><span style="font-size:12px\;"><span style="font-size:14px\;">Enjoy some tunes while you skate by DJ Baull\, sponsored by the Chamber.</span></span></span></span><br />\n<br />\n<font color="#0000ff"><span style="font-size: 16px\;">Taste Events Food: 10:00 AM - 4:00 PM</span></font><br />\n<span style="color: rgb(51\, 51\, 51)\; font-family: sans-serif\, Arial\, Verdana\, &quot\;Trebuchet MS&quot\;\; background-color: rgb(255\, 255\, 255)\; font-size: 14px\;">Enjoy delicious eats from Taste Events.&nbsp\;A portion of proceeds will be donated to the Bethany-Fenwick Area Chamber of Commerce on behalf of the Lord Baltimore PTO.</span><br />\n<br />\n<span helvetica="" style="background-color: rgb(255\, 255\, 255)\; font-family: "><span style="font-family: arial\;"><span style="font-size: 14px\;">Learn more about other Festival Happenings for the entire weekend by visiting <a href="http://www.fireandicede.com">www.fireandicede.com</a>!</span></span></span><br />\n<br />\n<a href="https://www.signupgenius.com/go/60B0B4CA9AB22A1FC1-46684201-2024"><span style="color:#B22222\;"><font face="arial"><span style="font-size: 16px\;">Volunteers Needed -&nbsp\;&nbsp\;Sign-Up Here</span></font></span></a>
LOCATION:Lord's Landscaping 35577 Atlantic Ave. Millville\, DE 19967
UID:e.2126.27053
SEQUENCE:3
DTSTAMP:20260420T134212Z
URL:http://business.thequietresorts.com/events/details/fire-ice-festival-into-the-wild-penguin-pond-skating-rink-27053
END:VEVENT

END:VCALENDAR
