BEGIN:VCALENDAR
VERSION:2.0
PRODID:-//ChamberMaster//Event Calendar 2.0//EN
METHOD:PUBLISH
X-PUBLISHED-TTL:P3D
REFRESH-INTERVAL:P3D
CALSCALE:GREGORIAN
BEGIN:VEVENT
DTSTART:20200125T140000Z
DTEND:20200125T170000Z
X-MICROSOFT-CDO-ALLDAYEVENT:FALSE
SUMMARY:Fire & Ice Festival - Face Painting at County Bank
DESCRIPTION:Stop by County Bank in Millville for face painting provided by Canvas on the MOVE!\n\n\n\nFire & Ice Festival - Millville Activities\n\nFor the full list of activities occurring throughout Millville\, please click here.\n\n\n\nFire & Ice Festival\n\nFor the full list of activities occurring throughout the weekend\, please click here.\n\n\n\nBe sure to follow The Quiet Resorts on Facebook and Instagram for updates throughout the weekend and visit fireandicede.com for all activities occurring throughout the weekend.
X-ALT-DESC;FMTTYPE=text/html:<span style="font-family: arial\;"><span style="color: rgb(29\, 33\, 41)\; text-transform: none\; text-indent: 0px\; letter-spacing: normal\; font-size: 14px\; font-style: normal\; font-weight: 400\; word-spacing: 0px\; float: none\; display: inline !important\; white-space: pre-wrap\; orphans: 2\; widows: 2\; background-color: rgb(255\, 255\, 255)\; -webkit-text-stroke-width: 0px\; font-variant-ligatures: normal\; font-variant-caps: normal\; text-decoration-style: initial\; text-decoration-color: initial\;">Stop by County Bank in Millville for face painting provided by Canvas on the MOVE!</span><br />\n<br />\n<span style="color: rgb(0\, 0\, 205)\;"><span style="text-transform: none\; text-indent: 0px\; letter-spacing: normal\; font-size: 14px\; font-style: normal\; font-weight: 400\; word-spacing: 0px\; float: none\; display: inline !important\; white-space: pre-wrap\; orphans: 2\; widows: 2\; background-color: rgb(255\, 255\, 255)\; -webkit-text-stroke-width: 0px\; font-variant-ligatures: normal\; font-variant-caps: normal\; text-decoration-style: initial\; text-decoration-color: initial\;"><span style="font-size: 16px\;">Fire &amp\; Ice Festival - Millville Activities</span></span></span><br />\n<span style="color: rgb(29\, 33\, 41)\; text-transform: none\; text-indent: 0px\; letter-spacing: normal\; font-size: 14px\; font-style: normal\; font-weight: 400\; word-spacing: 0px\; float: none\; display: inline !important\; white-space: pre-wrap\; orphans: 2\; widows: 2\; background-color: rgb(255\, 255\, 255)\; -webkit-text-stroke-width: 0px\; font-variant-ligatures: normal\; font-variant-caps: normal\; text-decoration-style: initial\; text-decoration-color: initial\;">For the full list of activities occurring throughout Millville\, please <strong><a href="http://business.bethany-fenwick.org/events/details/fire-ice-festival-town-of-millville-signature-ice-slide-19667" target="_blank">click here</a></strong>.</span><br />\n<br />\n<span style="color: rgb(0\, 0\, 205)\;"><span style="text-transform: none\; text-indent: 0px\; letter-spacing: normal\; font-size: 14px\; font-style: normal\; font-weight: 400\; word-spacing: 0px\; float: none\; display: inline !important\; white-space: pre-wrap\; orphans: 2\; widows: 2\; background-color: rgb(255\, 255\, 255)\; -webkit-text-stroke-width: 0px\; font-variant-ligatures: normal\; font-variant-caps: normal\; text-decoration-style: initial\; text-decoration-color: initial\;"><span style="font-size: 16px\;">Fire &amp\; Ice Festival</span></span></span><br />\n<span style="color: rgb(29\, 33\, 41)\; text-transform: none\; text-indent: 0px\; letter-spacing: normal\; font-size: 14px\; font-style: normal\; font-weight: 400\; word-spacing: 0px\; float: none\; display: inline !important\; white-space: pre-wrap\; orphans: 2\; widows: 2\; background-color: rgb(255\, 255\, 255)\; -webkit-text-stroke-width: 0px\; font-variant-ligatures: normal\; font-variant-caps: normal\; text-decoration-style: initial\; text-decoration-color: initial\;">For the full list of activities occurring throughout the weekend\, please <strong><a href="http://business.bethany-fenwick.org/events/details/fire-ice-festival-out-of-this-world-17245" target="_blank">click here</a></strong>.</span></span><br />\n<br />\n<span style="font-size: 14px\;"><span style="font-family: arial\;"><span style="color: rgb(29\, 33\, 41)\; text-transform: none\; text-indent: 0px\; letter-spacing: normal\; font-style: normal\; font-weight: 400\; word-spacing: 0px\; float: none\; display: inline !important\; white-space: pre-wrap\; orphans: 2\; widows: 2\; background-color: rgb(255\, 255\, 255)\; -webkit-text-stroke-width: 0px\; font-variant-ligatures: normal\; font-variant-caps: normal\; text-decoration-style: initial\; text-decoration-color: initial\;">Be sure to follow The Quiet Resorts on <strong><a href="https://www.facebook.com/thequietresorts/" target="_blank"><font color="#0066cc">Facebook</font></a></strong> and <strong><a href="https://www.instagram.com/thequietresorts/" target="_blank"><font color="#0066cc">Instagram</font></a></strong> for updates throughout the weekend and visit <strong><a href="https://fireandicede.com/info/" target="_blank"><font color="#0066cc">fireandicede.com</font></a></strong> for all activities occurring throughout the weekend.</span></span></span>
LOCATION:County Bank 36754 Old Mill Rd Millville\, DE 19967
UID:e.2126.19673
SEQUENCE:3
DTSTAMP:20260426T021230Z
URL:http://business.thequietresorts.com/events/details/fire-ice-festival-face-painting-at-county-bank-19673
END:VEVENT

END:VCALENDAR
