BEGIN:VCALENDAR
VERSION:2.0
PRODID:-//ChamberMaster//Event Calendar 2.0//EN
METHOD:PUBLISH
X-PUBLISHED-TTL:P3D
REFRESH-INTERVAL:P3D
CALSCALE:GREGORIAN
BEGIN:VEVENT
DTSTART:20200125T170000Z
DTEND:20200125T210000Z
X-MICROSOFT-CDO-ALLDAYEVENT:FALSE
SUMMARY:Fire & Ice Festival - Cascading Carlos
DESCRIPTION:Stop by the Bethany Beach Bandstand to watch Cascading Carlos. Sponsored by Custom Mechanical\, this amazing juggler will cause jaws to drop! While you're watching the performance\, check out the Town of Bethany Beach Signature Ice Feature!\n\n\n\nCarlos has achieved a milestone: On November 18th 2017 he received his official Guinness World Record certificate for throwing a diabolo 78.5 feet high and catching it (Diabolo is a popular juggling prop also known as a Chinese yoyo). The record he broke was 65 feet.\n\n\n\nBe sure to follow The Quiet Resorts on Facebook and Instagram for updates throughout the weekend and visit fireandicede.com for all activities occurring throughout the weekend.
X-ALT-DESC;FMTTYPE=text/html:<span style="font-family: arial\;"><span style="color: rgb(29\, 33\, 41)\; text-transform: none\; text-indent: 0px\; letter-spacing: normal\; font-size: 14px\; font-style: normal\; font-weight: 400\; word-spacing: 0px\; float: none\; display: inline !important\; white-space: pre-wrap\; orphans: 2\; widows: 2\; background-color: rgb(255\, 255\, 255)\; -webkit-text-stroke-width: 0px\; font-variant-ligatures: normal\; font-variant-caps: normal\; text-decoration-style: initial\; text-decoration-color: initial\;">Stop by the Bethany Beach Bandstand to watch Cascading Carlos. Sponsored by Custom Mechanical\, this amazing juggler will cause jaws to drop! While you&#39\;re watching the performance\, check out the Town of Bethany Beach Signature Ice Feature!</span><br style="color: rgb(29\, 33\, 41)\; text-transform: none\; text-indent: 0px\; letter-spacing: normal\; font-family: Helvetica\, Arial\, sans-serif\; font-size: 14px\; font-style: normal\; font-weight: 400\; word-spacing: 0px\; white-space: pre-wrap\; orphans: 2\; widows: 2\; background-color: rgb(255\, 255\, 255)\; -webkit-text-stroke-width: 0px\; font-variant-ligatures: normal\; font-variant-caps: normal\; text-decoration-style: initial\; text-decoration-color: initial\;" />\n<br style="color: rgb(29\, 33\, 41)\; text-transform: none\; text-indent: 0px\; letter-spacing: normal\; font-family: Helvetica\, Arial\, sans-serif\; font-size: 14px\; font-style: normal\; font-weight: 400\; word-spacing: 0px\; white-space: pre-wrap\; orphans: 2\; widows: 2\; background-color: rgb(255\, 255\, 255)\; -webkit-text-stroke-width: 0px\; font-variant-ligatures: normal\; font-variant-caps: normal\; text-decoration-style: initial\; text-decoration-color: initial\;" />\n<span style="color: rgb(29\, 33\, 41)\; text-transform: none\; text-indent: 0px\; letter-spacing: normal\; font-size: 14px\; font-style: normal\; font-weight: 400\; word-spacing: 0px\; float: none\; display: inline !important\; white-space: pre-wrap\; orphans: 2\; widows: 2\; background-color: rgb(255\, 255\, 255)\; -webkit-text-stroke-width: 0px\; font-variant-ligatures: normal\; font-variant-caps: normal\; text-decoration-style: initial\; text-decoration-color: initial\;">Carlos has achieved a milestone: On November 18th 2017 he received his official Guinness World Record certificate for throwing a diabolo 78.5 feet high and catching it (Diabolo is a popular juggling prop also known as a Chinese yoyo). The record he broke was 65 feet.<br />\n<br />\nBe sure to follow The Quiet Resorts on <strong><a href="https://www.facebook.com/thequietresorts/" target="_blank">Facebook</a></strong> and <strong><a href="https://www.instagram.com/thequietresorts/" target="_blank">Instagram</a></strong> for updates throughout the weekend and visit <strong><a href="https://fireandicede.com/info/" target="_blank">fireandicede.com</a></strong> for all activities occurring throughout the weekend.</span></span>
LOCATION:Bethany Beach Bandstand
UID:e.2126.19672
SEQUENCE:3
DTSTAMP:20260426T020833Z
URL:http://business.thequietresorts.com/events/details/fire-ice-festival-cascading-carlos-19672
END:VEVENT

END:VCALENDAR
