BEGIN:VCALENDAR
VERSION:2.0
PRODID:-//ChamberMaster//Event Calendar 2.0//EN
METHOD:PUBLISH
X-PUBLISHED-TTL:P3D
REFRESH-INTERVAL:P3D
CALSCALE:GREGORIAN
BEGIN:VEVENT
DTSTART:20200124T150000Z
DTEND:20200126T010000Z
X-MICROSOFT-CDO-ALLDAYEVENT:FALSE
SUMMARY:Fire & Ice Festival - Carl M. Freeman Signature Feature
DESCRIPTION:Carl M. Freeman Signature Ice Sculpture\n\nStop by Bear Trap Dunes to see the Carl M. Freeman Signature Ice Sculpture! Provided by Ice Labs\, the Signature Ice Sculpture will be created with over 30 blocks of ice and follow the "Out of this World" theme. The feature will be open throughout the festival weekend under an inflatable tent and lit up to be viewed all day.\n\n\n\nAdditional Activities in Ocean View\n\nWhile in town viewing the signature ice sculpture\, make sure to stop by and check out the other fun activities occurring in Bethany Beach throughout the weekend.\n\n\n\nFriday\, January 24\n\nStargazing with Kevin Manning at Bear Trap Dunes- 5:00 pm - 7:00 pm\nSaturday\, January 25\n\n"Astronomy for Everyone": Size & Scale of the Universe- 10:00 am - 11:30 am\n\nSunday\, January 26\n\n\n\nBe sure to follow The Quiet Resorts on Facebook and Instagram for updates throughout the weekend and visit fireandicede.com for all activities occurring throughout the weekend.
X-ALT-DESC;FMTTYPE=text/html:<span style="font-size: 14px\;"><span style="font-family: arial\;"><span style="font-size: 16px\;"><span style="color: rgb(0\, 0\, 205)\;">Carl M. Freeman Signature Ice Sculpture</span></span><br />\n<span style="color: rgb(29\, 33\, 41)\; text-transform: none\; text-indent: 0px\; letter-spacing: normal\; font-style: normal\; font-weight: 400\; word-spacing: 0px\; float: none\; display: inline !important\; white-space: pre-wrap\; orphans: 2\; widows: 2\; background-color: rgb(255\, 255\, 255)\; -webkit-text-stroke-width: 0px\; font-variant-ligatures: normal\; font-variant-caps: normal\; text-decoration-style: initial\; text-decoration-color: initial\;">Stop by Bear Trap Dunes to see the Carl M. Freeman Signature Ice Sculpture! Provided by Ice Labs\, the Signature Ice Sculpture will be created with over 30 blocks of ice and follow the &quot\;Out of this World&quot\; theme. </span><font color="#1d2129">The feature will be open throughout the festival weekend under an inflatable tent and lit up to be viewed all day.</font><br />\n<br />\n<span style="font-size: 16px\;"><span style="color: rgb(0\, 0\, 205)\;"><span style="text-transform: none\; text-indent: 0px\; letter-spacing: normal\; font-style: normal\; font-weight: 400\; word-spacing: 0px\; float: none\; display: inline !important\; white-space: pre-wrap\; orphans: 2\; widows: 2\; background-color: rgb(255\, 255\, 255)\; -webkit-text-stroke-width: 0px\; font-variant-ligatures: normal\; font-variant-caps: normal\; text-decoration-style: initial\; text-decoration-color: initial\;">Additional Activities in&nbsp\;Ocean View</span></span></span><br />\n<span style="text-transform: none\; text-indent: 0px\; letter-spacing: normal\; font-style: normal\; font-weight: 400\; word-spacing: 0px\; float: none\; display: inline !important\; white-space: pre-wrap\; orphans: 2\; widows: 2\; background-color: rgb(255\, 255\, 255)\; -webkit-text-stroke-width: 0px\; font-variant-ligatures: normal\; font-variant-caps: normal\; text-decoration-style: initial\; text-decoration-color: initial\;">While in town viewing the signature ice sculpture\, make sure to stop by and check out the other fun activities occurring in Bethany Beach throughout the weekend.</span><br />\n<br />\n<span style="color: rgb(29\, 33\, 41)\; text-transform: none\; text-indent: 0px\; letter-spacing: normal\; font-style: normal\; font-weight: 400\; word-spacing: 0px\; float: none\; display: inline !important\; white-space: pre-wrap\; orphans: 2\; widows: 2\; background-color: rgb(255\, 255\, 255)\; -webkit-text-stroke-width: 0px\; font-variant-ligatures: normal\; font-variant-caps: normal\; text-decoration-style: initial\; text-decoration-color: initial\;"><span style="font-size: 16px\;"><strong><font color="#333333">Friday\, January 24</font></strong><br />\n<font color="#333333"><span style="font-size: 14px\;">Stargazing with Kevin Manning at Bear Trap Dunes- 5:00 pm - 7:00 pm</span></font></span></span></span></span>\n<hr /><span style="font-size: 14px\;"><span style="font-family: arial\;"><span style="color: rgb(29\, 33\, 41)\; text-transform: none\; text-indent: 0px\; letter-spacing: normal\; font-style: normal\; font-weight: 400\; word-spacing: 0px\; float: none\; display: inline !important\; white-space: pre-wrap\; orphans: 2\; widows: 2\; background-color: rgb(255\, 255\, 255)\; -webkit-text-stroke-width: 0px\; font-variant-ligatures: normal\; font-variant-caps: normal\; text-decoration-style: initial\; text-decoration-color: initial\;"><span style="font-size: 16px\;"><strong>Saturday\, January 25</strong><br />\n<span style="font-size: 14px\;">&quot\;Astronomy for Everyone&quot\;: Size &amp\; Scale of the Universe- 10:00 am - 11:30 am</span></span></span></span></span>\n\n<hr /><span style="font-size: 14px\;"><span style="font-family: arial\;"><span style="font-size: 16px\;"><span style="color: rgb(29\, 33\, 41)\; text-transform: none\; text-indent: 0px\; letter-spacing: normal\; font-style: normal\; font-weight: 400\; word-spacing: 0px\; float: none\; display: inline !important\; white-space: pre-wrap\; orphans: 2\; widows: 2\; background-color: rgb(255\, 255\, 255)\; -webkit-text-stroke-width: 0px\; font-variant-ligatures: normal\; font-variant-caps: normal\; text-decoration-style: initial\; text-decoration-color: initial\;"><strong>Sunday\, January 26</strong></span></span><br />\n<br />\n<span style="color: rgb(29\, 33\, 41)\; text-transform: none\; text-indent: 0px\; letter-spacing: normal\; font-style: normal\; font-weight: 400\; word-spacing: 0px\; float: none\; display: inline !important\; white-space: pre-wrap\; orphans: 2\; widows: 2\; background-color: rgb(255\, 255\, 255)\; -webkit-text-stroke-width: 0px\; font-variant-ligatures: normal\; font-variant-caps: normal\; text-decoration-style: initial\; text-decoration-color: initial\;">Be sure to follow The Quiet Resorts on <strong><a href="https://www.facebook.com/thequietresorts/" target="_blank"><font color="#0066cc">Facebook</font></a></strong> and <strong><a href="https://www.instagram.com/thequietresorts/" target="_blank"><font color="#0066cc">Instagram</font></a></strong> for updates throughout the weekend and visit <strong><a href="https://fireandicede.com/info/" target="_blank"><font color="#0066cc">fireandicede.com</font></a></strong> for all activities occurring throughout the weekend.</span></span></span><br />\n<br />\n&nbsp\;
LOCATION:Bear Trap Dunes 7 Club House Dr Ocean View\, DE 19970
UID:e.2126.19670
SEQUENCE:3
DTSTAMP:20260426T020950Z
URL:http://business.thequietresorts.com/events/details/fire-ice-festival-carl-m-freeman-signature-feature-19670
END:VEVENT

END:VCALENDAR
