BEGIN:VCALENDAR
VERSION:2.0
PRODID:-//ChamberMaster//Event Calendar 2.0//EN
METHOD:PUBLISH
X-PUBLISHED-TTL:P3D
REFRESH-INTERVAL:P3D
CALSCALE:GREGORIAN
BEGIN:VEVENT
DTSTART:20200125T170000Z
DTEND:20200125T210000Z
X-MICROSOFT-CDO-ALLDAYEVENT:FALSE
SUMMARY:Fire & Ice Festival - Block Party at Lord's Landscaping
DESCRIPTION:Block Party at Lord's Landscaping\n\nCome out to Lord's Landscaping for the Fire & Ice Block Party! There will be music\, food\, a bonfire\, roast hot dogs\, a huge ice slide\, and more! Parking will be available across the street at the Fire Department.\n\n\n\nActivities\n\n"Day Time Telescopes" with Kevin Manning- 12:00 pm - 4:00 pm\n\nCorn Hole Boards provided by All About U Salon- 12:00 pm - 8:00 pm\n\nGuest appearances by Anna and Elsa\n\nMusic provided by DJ Wood- 2:00 pm - 8:00 pm\n\nBonfire and s'mores provided by Miranda\, Hardt & O'Leary Contracting\, LLC\n\n\n\nFood\n\nHot dogs\, hamburgers\, chips\, soda and water provided by the Ladies Auxillary at their heated tent\n\nHot chocolate bar provided by 3 Blonde Bakes & Bethany Beverage Company- 12:00 pm - 8:00 pm\n\nSoup bar provided by Cedar Land & Sea Kitchen\n\nSweet treats provided by One Coastal\n\nSnow cones provided by Mariner's Bethel Youth Group\n\n\n\nTown of Millville Signature Ice Slide\n\nWhile you are enjoying the block party\, be sure to check out the Town of Millville Signature Piece located at Lord's Landscaping! For more information on the ice slide and events occurring in Millville\, please click here.\n\n\n\nMake sure to follow The Quiet Resorts on Facebook and Instagram for updates and visit fireandicede.com for the full list of activities throughout the weekend.
X-ALT-DESC;FMTTYPE=text/html:<font face="Helvetica"><font color="#1d2129"><span style="text-transform: none\; text-indent: 0px\; letter-spacing: normal\; font-size: 14px\; font-style: normal\; font-weight: 400\; word-spacing: 0px\; float: none\; display: inline !important\; white-space: pre-wrap\; orphans: 2\; widows: 2\; background-color: rgb(255\, 255\, 255)\; -webkit-text-stroke-width: 0px\; font-variant-ligatures: normal\; font-variant-caps: normal\; text-decoration-style: initial\; text-decoration-color: initial\;"><strong><span style="font-size: 16px\;">Block Party at Lord&#39\;s Landscaping</span></strong><br />\nCome&nbsp\;out to Lord&#39\;s Landscaping for the Fire &amp\; Ice Block Party! There will be music\, food\, a bonfire\, roast hot dogs\, a huge ice slide\, and more! Parking will be available across the street at the Fire Department.<br />\n<br />\nActivities<br />\n&quot\;Day Time Telescopes&quot\; with Kevin Manning- 12:00 pm - 4:00 pm<br />\nCorn Hole Boards provided by All About&nbsp\;U Salon- 12:00 pm - 8:00 pm<br />\nGuest appearances by Anna and Elsa</span><br />\n<span style="font-size: 14px\;"><span style="font-family: arial\;">Music provided by DJ Wood- 2:00 pm - 8:00 pm<br />\nBonfire and s&#39\;mores provided by Miranda\, Hardt &amp\; O&#39\;Leary Contracting\, LLC<br />\n<br />\nFood<br />\nHot dogs\, hamburgers\, chips\, soda and water provided by the Ladies Auxillary at their heated tent<br />\nHot chocolate bar provided by 3 Blonde Bakes &amp\; Bethany Beverage Company- 12:00 pm - 8:00 pm<br />\nSoup bar provided by Cedar Land &amp\; Sea Kitchen<br />\nSweet treats provided by One Coastal<br />\nSnow cones provided by Mariner&#39\;s Bethel Youth Group</span></span></font></font><br />\n<br style="color: rgb(29\, 33\, 41)\; text-transform: none\; text-indent: 0px\; letter-spacing: normal\; font-family: Helvetica\, Arial\, sans-serif\; font-size: 14px\; font-style: normal\; font-weight: 400\; word-spacing: 0px\; white-space: pre-wrap\; orphans: 2\; widows: 2\; background-color: rgb(255\, 255\, 255)\; -webkit-text-stroke-width: 0px\; font-variant-ligatures: normal\; font-variant-caps: normal\; text-decoration-style: initial\; text-decoration-color: initial\;" />\n<span style="font-family: arial\;"><span style="font-size: 14px\;">Town of Millville Signature Ice Slide</span></span><br style="color: rgb(29\, 33\, 41)\; text-transform: none\; text-indent: 0px\; letter-spacing: normal\; font-family: Helvetica\, Arial\, sans-serif\; font-size: 14px\; font-style: normal\; font-weight: 400\; word-spacing: 0px\; white-space: pre-wrap\; orphans: 2\; widows: 2\; background-color: rgb(255\, 255\, 255)\; -webkit-text-stroke-width: 0px\; font-variant-ligatures: normal\; font-variant-caps: normal\; text-decoration-style: initial\; text-decoration-color: initial\;" />\n<span style="color: rgb(29\, 33\, 41)\; text-transform: none\; text-indent: 0px\; letter-spacing: normal\; font-family: Helvetica\, Arial\, sans-serif\; font-size: 14px\; font-style: normal\; font-weight: 400\; word-spacing: 0px\; float: none\; display: inline !important\; white-space: pre-wrap\; orphans: 2\; widows: 2\; background-color: rgb(255\, 255\, 255)\; -webkit-text-stroke-width: 0px\; font-variant-ligatures: normal\; font-variant-caps: normal\; text-decoration-style: initial\; text-decoration-color: initial\;">While you are enjoying the block party\, be sure to check out the Town of Millville Signature Piece located at Lord&#39\;s Landscaping! For more information on the ice slide and events occurring in Millville\, please <strong><a href="http://business.bethany-fenwick.org/events/details/fire-ice-festival-town-of-millville-signature-ice-slide-19667" target="_blank">click here</a></strong>.</span><br />\n<br />\n<span style="font-size: 14px\;"><span style="font-family: arial\;">Make sure to follow The Quiet Resorts on <strong><a href="https://www.facebook.com/thequietresorts/" target="_blank">Facebook</a></strong> and <strong><a href="https://www.instagram.com/thequietresorts/" target="_blank">Instagram</a></strong> for updates and&nbsp\;visit <strong><a href="https://fireandicede.com/" target="_blank">fireandicede.com</a></strong> for the full list of activities throughout the weekend.</span></span>
LOCATION:Lord's Landscaping 35577 Atlantic Ave Millville\, DE 19967
UID:e.2126.19662
SEQUENCE:3
DTSTAMP:20260426T034738Z
URL:http://business.thequietresorts.com/events/details/fire-ice-festival-block-party-at-lord-s-landscaping-19662
END:VEVENT

END:VCALENDAR
