BEGIN:VCALENDAR
VERSION:2.0
PRODID:-//ChamberMaster//Event Calendar 2.0//EN
METHOD:PUBLISH
X-PUBLISHED-TTL:P3D
REFRESH-INTERVAL:P3D
CALSCALE:GREGORIAN
BEGIN:VEVENT
DTSTART:20200124T220000Z
DTEND:20200126T010000Z
X-MICROSOFT-CDO-ALLDAYEVENT:FALSE
SUMMARY:Fire & Ice Festival - Bethany Beach Sculpture Walking Tour
DESCRIPTION:Fire & Ice Sculpture Walking Tour\n\nCheck out all the sculptures in town by taking a tour! Pick up a festival map to make sure you see them all! We have 28 tons of ice coming to The Quiet Resorts  4x more ice than last year! The walking tour will begin at 5:00 pm on Friday and Saturday night. Watch the ice sculptures are unveiled and illuminated with lights!\n\n\n\nTown of Bethany Beach Signature Ice Feature\n\nStop by the Bethany Beach Bandstand to see the Bethany Beach Signature Ice Sculpture! For more information about the Town of Bethany Beach Ice Sculpture and events occurring throughout Bethany Beach\, please click here.\n\n\n\nFire & Ice Festival\n\nFor all activities occurring throughout the Fire & Ice Festival\, please click here.
X-ALT-DESC;FMTTYPE=text/html:<span style="font-size: 14px\;"><span style="font-family: arial\;"><span style="font-size: 16px\;"><span style="color: rgb(0\, 0\, 205)\;">Fire &amp\; Ice Sculpture Walking Tour</span></span><br />\n<span style="color: rgb(51\, 51\, 51)\; text-transform: none\; text-indent: 0px\; letter-spacing: normal\; font-style: normal\; font-weight: 400\; word-spacing: 0px\; float: none\; display: inline !important\; white-space: normal\; orphans: 2\; widows: 2\; background-color: rgb(255\, 255\, 255)\; -webkit-text-stroke-width: 0px\; font-variant-ligatures: normal\; font-variant-caps: normal\; text-decoration-style: initial\; text-decoration-color: initial\;">Check out all the sculptures in town by taking a tour! Pick up a festival map to make sure you see them all! We have 28 tons of ice coming to The Quiet Resorts&hellip\; 4x more ice than last year! The walking tour will begin at&nbsp\;5:00 pm on Friday and Saturday night. Watch the ice sculptures are unveiled and illuminated with lights!</span><br />\n<br />\n<span style="color: rgb(0\, 0\, 205)\;"><span style="text-transform: none\; text-indent: 0px\; letter-spacing: normal\; font-style: normal\; font-weight: 400\; word-spacing: 0px\; float: none\; display: inline !important\; white-space: normal\; orphans: 2\; widows: 2\; background-color: rgb(255\, 255\, 255)\; -webkit-text-stroke-width: 0px\; font-variant-ligatures: normal\; font-variant-caps: normal\; text-decoration-style: initial\; text-decoration-color: initial\;"><span style="font-size: 16px\;">Town of Bethany Beach Signature Ice Feature</span></span></span></span></span><br />\n<span style="font-size: 14px\;"><span style="font-family: arial\;"><span style="color: rgb(29\, 33\, 41)\; text-transform: none\; text-indent: 0px\; letter-spacing: normal\; font-style: normal\; font-weight: 400\; word-spacing: 0px\; float: none\; display: inline !important\; white-space: pre-wrap\; orphans: 2\; widows: 2\; background-color: rgb(255\, 255\, 255)\; -webkit-text-stroke-width: 0px\; font-variant-ligatures: normal\; font-variant-caps: normal\; text-decoration-style: initial\; text-decoration-color: initial\;">Stop by the Bethany Beach Bandstand to see the Bethany Beach Signature Ice Sculpture! For more information about the Town of Bethany Beach Ice Sculpture and events occurring throughout Bethany Beach\, please <strong><a href="http://business.bethany-fenwick.org/events/details/fire-ice-festival-signature-ice-sculpture-of-bethany-beach-19666" target="_blank">click here</a></strong>.</span><br />\n<br />\n<span style="color: rgb(0\, 0\, 205)\;"><span style="text-transform: none\; text-indent: 0px\; letter-spacing: normal\; font-style: normal\; font-weight: 400\; word-spacing: 0px\; float: none\; display: inline !important\; white-space: pre-wrap\; orphans: 2\; widows: 2\; background-color: rgb(255\, 255\, 255)\; -webkit-text-stroke-width: 0px\; font-variant-ligatures: normal\; font-variant-caps: normal\; text-decoration-style: initial\; text-decoration-color: initial\;"><span style="font-size: 16px\;">Fire &amp\; Ice Festival</span></span></span><br />\n<span style="color: rgb(29\, 33\, 41)\; text-transform: none\; text-indent: 0px\; letter-spacing: normal\; font-style: normal\; font-weight: 400\; word-spacing: 0px\; float: none\; display: inline !important\; white-space: pre-wrap\; orphans: 2\; widows: 2\; background-color: rgb(255\, 255\, 255)\; -webkit-text-stroke-width: 0px\; font-variant-ligatures: normal\; font-variant-caps: normal\; text-decoration-style: initial\; text-decoration-color: initial\;"><span style="font-size: 16px\;"><span style="font-size: 14px\;">For all activities occurring throughout the Fire &amp\; Ice Festival\, please <strong><a href="http://business.bethany-fenwick.org/events/details/fire-ice-festival-out-of-this-world-17245" target="_blank">click here</a></strong>.</span></span></span></span></span><br />\n<br />\n&nbsp\;
LOCATION:Downtown Bethany Beach
UID:e.2126.20044
SEQUENCE:3
DTSTAMP:20260426T034533Z
URL:http://business.thequietresorts.com/events/details/fire-ice-festival-bethany-beach-sculpture-walking-tour-20044
END:VEVENT

END:VCALENDAR
