BEGIN:VCALENDAR
VERSION:2.0
PRODID:-//ChamberMaster//Event Calendar 2.0//EN
METHOD:PUBLISH
X-PUBLISHED-TTL:P3D
REFRESH-INTERVAL:P3D
CALSCALE:GREGORIAN
BEGIN:VEVENT
DTSTART:20210226T220000Z
DTEND:20210228T010000Z
X-MICROSOFT-CDO-ALLDAYEVENT:FALSE
SUMMARY:Fire & Ice "Delmarvalous" Festival - John West Park Walking Tour
DESCRIPTION:Take a walking tour through the beautiful John West Park in Ocean View\, located at 32 West Ave\, Ocean View\, DE 19970! Sculptures will be available for viewing beginning at 5:00 pm. Be sure to grab a festival map at the Information tent to see them all! Watch as the sculptures are revealed and lit up through the night.\n\n\n\nFire & Ice Festival\n\nFor all activities occurring throughout the Fire & Ice Festival\, please click here.
X-ALT-DESC;FMTTYPE=text/html:<span style="color: rgb(51\, 51\, 51)\; font-family: &quot\;Helvetica Neue&quot\;\, Helvetica\, Arial\, sans-serif\; font-size: 15px\; background-color: rgb(255\, 255\, 255)\;">Take a walking tour through the beautiful John West Park in Ocean View\, located at&nbsp\;</span><strong style="box-sizing: border-box\; color: rgb(51\, 51\, 51)\; font-family: &quot\;Helvetica Neue&quot\;\, Helvetica\, Arial\, sans-serif\; font-size: 15px\; background-color: rgb(255\, 255\, 255)\; outline: none !important\;">32 West Ave\, Ocean View\, DE 19970</strong><span style="color: rgb(51\, 51\, 51)\; font-family: &quot\;Helvetica Neue&quot\;\, Helvetica\, Arial\, sans-serif\; font-size: 15px\; background-color: rgb(255\, 255\, 255)\;">! Sculptures will be available for viewing beginning at 5:00 pm. Be sure to grab a festival map at the Information tent to see them all! Watch as the sculptures are revealed and lit up through the night.</span><br />\n<br />\n<span style="font-family: arial\; font-size: 14px\; background-color: rgb(255\, 255\, 255)\; color: rgb(0\, 0\, 205)\;"><span style="white-space: pre-wrap\;"><span style="font-size: 16px\;">Fire &amp\; Ice Festival</span></span></span><br style="color: rgb(51\, 51\, 51)\; font-family: arial\; font-size: 14px\; background-color: rgb(255\, 255\, 255)\;" />\n<span style="font-family: arial\; font-size: 14px\; color: rgb(29\, 33\, 41)\; white-space: pre-wrap\; background-color: rgb(255\, 255\, 255)\;"><span style="font-size: 16px\;"><span style="font-size: 14px\;">For all activities occurring throughout the Fire &amp\; Ice Festival\, please <strong><a href="https://business.bethany-fenwick.org/events/details/fire-ice-festival-delmarvalous-21843" style="color: rgb(7\, 130\, 193)\;" target="_blank">click here</a></strong>.</span></span></span><br />\n&nbsp\;
LOCATION:John West Park - 32 West Avenue Ocean View\, DE 19970
UID:e.2126.21887
SEQUENCE:3
DTSTAMP:20260425T014903Z
URL:http://business.thequietresorts.com/events/details/fire-ice-delmarvalous-festival-john-west-park-walking-tour-21887
END:VEVENT

END:VCALENDAR
