BEGIN:VCALENDAR
VERSION:2.0
PRODID:-//ChamberMaster//Event Calendar 2.0//EN
METHOD:PUBLISH
X-PUBLISHED-TTL:P3D
REFRESH-INTERVAL:P3D
CALSCALE:GREGORIAN
BEGIN:VEVENT
DTSTART:20210226T220000Z
DTEND:20210228T010000Z
X-MICROSOFT-CDO-ALLDAYEVENT:FALSE
SUMMARY:Fire & Ice "Delmarvalous" Festival - Delmarva Juice & Java
DESCRIPTION:Explore Fenwick Shores offering a personal wine tasting & chef's gourmet charcuterie featuring Delmarva's favorite Salted Vines Winery . Check out the ice sculpture on the pool deck with illuminated lights & torches while sitting around the fire pit and enjoy a cup of java & sweets  from local High Tide Coffee. Both experiences are $30 per person and available 5-8pm Friday & Saturday. Proceeds will benefit Justin's Beach House.\n\n\n\nThe wine tasting provided by Salted Vines Winery will be in the Fenwick Shores lobby\, followed by coffee in the hotel pool area.\n\n\n\nFire & Ice Festival\n\nFor all activities occurring throughout the Fire & Ice Festival\, please click here.
X-ALT-DESC;FMTTYPE=text/html:<span style="font-family:calibri\,sans-serif\;"><span style="font-size:12.0pt\;"><span style="font-size:14px\;"><span style="font-family:arial\;">Explore Fenwick Shores offering a personal wine tasting &amp\; chef&#39\;s gourmet charcuterie featuring Delmarva&#39\;s favorite Salted Vines Winery . Check out the ice sculpture on the pool deck with illuminated lights &amp\; torches while sitting around the fire pit and enjoy a cup of java &amp\; sweets &nbsp\;from local High Tide Coffee. Both experiences are $30 per person and available 5-8pm Friday &amp\; Saturday.</span></span>&nbsp\;</span></span><span style="font-family:arial\;"><span style="font-size:14px\;">Proceeds will benefit <strong><a href="http://justinjennings.org/" target="_blank">Justin&#39\;s Beach House</a></strong>.<br />\n<br />\nThe wine tasting provided by Salted Vines Winery will be in the Fenwick Shores lobby\, followed by coffee in the hotel pool area.</span></span><br />\n<br />\n<span style="font-size:14px\;"><strong><span style="font-family: arial\; box-sizing: content-box\; inset: auto\; clear: none\; content: normal\; direction: inherit\; empty-cells: show\; font-variant-numeric: inherit\; font-variant-east-asian: inherit\; font-stretch: inherit\; line-height: inherit\; margin: 0px\; max-height: none\; max-width: none\; min-height: initial\; min-width: initial\; opacity: 1\; outline-offset: 0px\; overflow: visible\; padding: 0px\; position: static\; resize: none\; table-layout: auto\; text-overflow: clip\; vertical-align: baseline\; visibility: inherit\; word-break: inherit\; overflow-wrap: inherit\; z-index: auto\; background-image: none\; background-position: initial\; background-size: initial\; background-repeat: initial\; background-attachment: initial\; background-origin: initial\; background-clip: initial\; border: none\; border-collapse: separate\; border-radius: 0px\; height: auto\; width: auto\; box-shadow: none\;"><span style="font-family: inherit\; box-sizing: content-box\; inset: auto\; clear: none\; content: normal\; direction: inherit\; empty-cells: show\; font-variant-numeric: inherit\; font-variant-east-asian: inherit\; font-stretch: inherit\; line-height: inherit\; margin: 0px\; max-height: none\; max-width: none\; min-height: initial\; min-width: initial\; opacity: 1\; outline-offset: 0px\; overflow: visible\; padding: 0px\; position: static\; resize: none\; table-layout: auto\; text-align: inherit\; text-overflow: clip\; vertical-align: baseline\; visibility: inherit\; white-space: pre-wrap\; word-break: inherit\; overflow-wrap: inherit\; z-index: auto\; background-image: none\; background-position: initial\; background-size: initial\; background-repeat: initial\; background-attachment: initial\; background-origin: initial\; background-clip: initial\; border: none\; border-collapse: separate\; border-radius: 0px\; height: auto\; width: auto\; box-shadow: none\;"><span style="font-family: inherit\; box-sizing: content-box\; inset: auto\; clear: none\; content: normal\; direction: inherit\; empty-cells: show\; font-style: inherit\; font-variant: inherit\; font-weight: inherit\; font-stretch: inherit\; letter-spacing: inherit\; line-height: inherit\; margin: 0px\; max-height: none\; max-width: none\; min-height: initial\; min-width: initial\; opacity: 1\; outline-offset: 0px\; overflow: visible\; padding: 0px\; position: static\; resize: none\; table-layout: auto\; text-align: inherit\; text-indent: inherit\; text-overflow: clip\; text-transform: inherit\; vertical-align: baseline\; visibility: inherit\; white-space: inherit\; word-break: inherit\; word-spacing: inherit\; overflow-wrap: inherit\; z-index: auto\; background: none\; border: none\; border-collapse: separate\; border-radius: 0px\; height: auto\; width: auto\; box-shadow: none\;">Fire &amp\; Ice Festival</span></span></span></strong></span><br style="font-family: arial\; box-sizing: content-box\; inset: auto\; clear: none\; color: rgb(37\, 32\, 26)\; content: normal\; direction: inherit\; display: inline\; empty-cells: show\; float: none\; font-variant-numeric: inherit\; font-variant-east-asian: inherit\; font-stretch: inherit\; font-size: 14px\; line-height: inherit\; margin: 0px\; max-height: none\; max-width: none\; min-height: initial\; min-width: initial\; opacity: 1\; outline-offset: 0px\; overflow: visible\; padding: 0px\; position: static\; resize: none\; table-layout: auto\; text-overflow: clip\; vertical-align: baseline\; visibility: inherit\; word-break: inherit\; overflow-wrap: inherit\; z-index: auto\; background-image: none\; background-position: initial\; background-size: initial\; background-repeat: initial\; background-attachment: initial\; background-origin: initial\; background-clip: initial\; border: none\; border-collapse: separate\; border-radius: 0px\; height: auto\; width: auto\;" />\n<span style="font-family: arial\; box-sizing: content-box\; inset: auto\; clear: none\; color: rgb(29\, 33\, 41)\; content: normal\; direction: inherit\; empty-cells: show\; font-variant-numeric: inherit\; font-variant-east-asian: inherit\; font-stretch: inherit\; font-size: 14px\; line-height: inherit\; margin: 0px\; max-height: none\; max-width: none\; min-height: initial\; min-width: initial\; opacity: 1\; outline-offset: 0px\; overflow: visible\; padding: 0px\; position: static\; resize: none\; table-layout: auto\; text-overflow: clip\; vertical-align: baseline\; visibility: inherit\; white-space: pre-wrap\; word-break: inherit\; overflow-wrap: inherit\; z-index: auto\; background-image: none\; background-position: initial\; background-size: initial\; background-repeat: initial\; background-attachment: initial\; background-origin: initial\; background-clip: initial\; border: none\; border-collapse: separate\; border-radius: 0px\; height: auto\; width: auto\; box-shadow: none\;">For all activities occurring throughout the Fire &amp\; Ice Festival\, please <span style="font-family: inherit\; box-sizing: content-box\; font-weight: bolder\; inset: auto\; clear: none\; color: inherit\; content: normal\; direction: inherit\; empty-cells: show\; font-style: inherit\; font-variant: inherit\; font-stretch: inherit\; font-size: inherit\; letter-spacing: inherit\; line-height: inherit\; margin: 0px\; max-height: none\; max-width: none\; min-height: initial\; min-width: initial\; opacity: 1\; outline-offset: 0px\; overflow: visible\; padding: 0px\; position: static\; resize: none\; table-layout: auto\; text-align: inherit\; text-indent: inherit\; text-overflow: clip\; text-transform: inherit\; vertical-align: baseline\; visibility: inherit\; white-space: inherit\; word-break: inherit\; word-spacing: inherit\; overflow-wrap: inherit\; z-index: auto\; background: none\; border: none\; border-collapse: separate\; border-radius: 0px\; height: auto\; width: auto\; box-shadow: none\;"><a href="https://business.bethany-fenwick.org/events/details/fire-ice-festival-delmarvalous-21843" style="font: inherit\; box-sizing: content-box\; color: rgb(83\, 116\, 153)\; text-decoration-line: none\; transition: all 0.2s ease 0s\; background: none\; outline: none 0px\; -webkit-tap-highlight-color: rgba(0\, 0\, 0\, 0.3)\; inset: auto\; clear: none\; content: normal\; direction: inherit\; display: inline\; empty-cells: show\; float: none\; letter-spacing: inherit\; margin: 0px\; max-height: none\; max-width: none\; min-height: initial\; min-width: initial\; opacity: 1\; outline-offset: 0px\; overflow: visible\; padding: 0px\; position: static\; resize: none\; table-layout: auto\; text-align: inherit\; text-indent: inherit\; text-overflow: clip\; text-transform: inherit\; vertical-align: baseline\; visibility: inherit\; white-space: inherit\; word-break: inherit\; word-spacing: inherit\; overflow-wrap: break-word\; z-index: auto\; border: none\; border-collapse: separate\; border-radius: 0px\; height: auto\; width: auto\; box-shadow: none\;" target="_blank">click here</a></span>.</span>
LOCATION:Fenwick Shores 1501 Coastal Hwy Fenwick Island\, DE 19944
UID:e.2126.21888
SEQUENCE:3
DTSTAMP:20260425T014508Z
URL:http://business.thequietresorts.com/events/details/fire-ice-delmarvalous-festival-delmarva-juice-java-21888
END:VEVENT

END:VCALENDAR
