BEGIN:VCALENDAR
VERSION:2.0
PRODID:-//ChamberMaster//Event Calendar 2.0//EN
METHOD:PUBLISH
X-PUBLISHED-TTL:P3D
REFRESH-INTERVAL:P3D
CALSCALE:GREGORIAN
BEGIN:VEVENT
DTSTART:20240126T160000Z
DTEND:20240128T020000Z
X-MICROSOFT-CDO-ALLDAYEVENT:FALSE
SUMMARY:Fire & Ice Festival "Into the Wild" - Town of Ocean View Happenings
DESCRIPTION:The Town of Ocean View is hosting a number of fun Fire & Ice festival activities throughout the entire weekend. Take a trip to the beautiful John West Park in Ocean View for fun Oregon Trail- themed festivities and ice sculptures\, located at 32 West Ave\, Ocean View\, DE 19970\, for even more sculptures\, live ice carving demonstration\, tasty food\, and activities!\n\n\n\nFriday\, January 26th\n\nFood Trucks - 12:00 - 8:00 PM\n\nGrab a delicious bite at John West Park on Friday and Saturday!\n\nTaco Reho and Smashmouth Burgers will be on site from 12:00 - 8:00PM. Troop 281 will also be managing the Chuck Wagon - grilling up a good old fashioned camp meal.\n\n\n\nKids Inflatable Winter Maze - 12:00 - 8:00 pm\n\nSponsored by True North\, children are invited to wind through a huge inflatable maze  in John West Park on Friday only during Fire & Ice Weekend! *Volunteers will be stationed at entrance of maze to provide safety guideline upon entry. \n\n\n\nBeer Garden - 12:00 - 8:00 PM \n\nBeach Liquors will be sponsoring  the Trading Post- themed Beer Garden at John West Park. The Beer Garden will offer indoor/outdoor seating options! Take a load off and enjoy a drink in the 900 sq. foot inflatable pub or grab a seat outside by a relaxing fire pit.  Proceeds will benefit Beebe Healthcare's South Coastal Emergency Department and Cancer Center through it's partnership with the Bethany-Fenwick Area Chamber of Commerce.\n\n\n\nLive Ice Carving Demonstration - 3:00 - 4:00 pm \n\nThere will be a Live Ice Carving Demonstration at 3:00 PM at the Gazebo sponsored by The Town of Ocean View. Watch as 1\,800 pounds of ice are masterfully transformed into a detailed sculpture by the incredible artists from The Ice God.\n\n\n\n"Into the Wild" Ice Tour - 3:00 - 9:00 PM\n\nCheck out all the sculptures in town by taking a "Into the Wild" Ice Tour! Pick up a festival map at the Information Tent to make sure you see them all! Watch as the ice sculptures created by The Ice God's talented artists are unveiled and illuminated with lights as the sun sets! \n\n\n\nLive Radio with Dana McDonald: 3:00 - 5:00 PM\n\nDana McDonald from 97.1 The Wave will be broadcasting live from the gazebo in John West Park.\n\n\n\nTasting Tour: All Festival Weekend!\n\nFor info on our restaurants participating in the Tasting Tour and off-site ice sculptures\, click here.\n\n\n\nMore details to come!\n\n\n\nSaturday\, January 27th\n\nFood Trucks - 11:00 AM - 4:00 PM\n\nGrab a delicious bite to eat in John West Park and view the ice in the daylight!\n\nVendors on site include Changing Mains and Taco Reho! Troop 281 will be managing the "Chuck Wagon\," grilling up hotdogs for a good old fashioned camp meal..\n\n\n\nBeer Garden - 11:00 AM - 4:00 PM \n\nBeach Liquors will be sponsoring The Trading Post-themed beer garden at John West Park. Proceeds will benefit Beebe South Coastal Emergency Center and Cancer Center through its partnership with the Bethany-Fenwick Area Chamber of Commerce.  Visit Beach Liquors to sign up for email updates and information on tastings! \n\n\n\nPony Rides for Kids - 11:00AM - 2:00PM\n\nTake a ride on the Pony Express at John West Park's Oregon Trail-themed Fire & Ice location. Sponsored by True North\, children are invited to take a pony ride\, provided by Saddle Up Stables. Signed waiver will be required onsite by guardian. \n\n\n\nHistorical Village of Ocean View - 12:00 - 3:00 PM\n\nThe Historic Village is adjacent to John West Park and includes the replica of Hall's Store and Visitors Center. It was also Ocean's View first Post Office\, the nation's first broiler chicken house\, and the 1860's Tunnel West House. All will be open for visitors to explore!\n\n\n\nLive Music Performance - 12:00 - 3:00 PM\n\nSponsored by the Town of Ocean View\, enjoy a live music performance by Homestead Bluegrass in the pavilion near the Beer Garden!\n\n\n\nTasting Tour \n\nThe Tasting Tour features participating restaurants in the Quiet Resorts offering their signature Fire & Ice "Into the Wild" themed cocktail.  The Fire and Ice Tasting Tour will continue throughout Saturday and Sunday at participating businesses. Click here for more information and participating restaurant specials.\n\n\n\nFor more information on Fire & Ice\, click here to view all weekend events!\n\n\n\nVolunteers Needed -  Click to volunteer at the JWP Info Tent\, Inflatable Maze\, and other support roles!\n\nVolunteers Needed - Click to volunteer at the JWP Beer Garden
X-ALT-DESC;FMTTYPE=text/html:<span style="font-size:14px\;"><span style="font-family:arial\;">The Town of Ocean View is hosting a number of fun Fire &amp\; Ice festival activities throughout the entire weekend. Take a trip to the beautiful <strong>John West Park</strong> in Ocean View for fun Oregon Trail- themed festivities and ice sculptures\, located at 32 West Ave\, Ocean View\, DE 19970\, for even more sculptures\, live ice carving demonstration\, tasty food\, and activities!</span></span><br />\n<br />\n<strong><span style="font-family:arial\;"><span style="font-size:18px\;"><span style="color:#0000FF\;">Friday\, January 26th</span></span></span></strong><br />\n<span style="font-family: arial\;"><span style="font-size: 14px\; color: rgb(0\, 0\, 255)\;"><span style="font-size:16px\;">Food Trucks - 12:00 - 8:00 PM</span></span></span><br />\n<span style="color: rgb(51\, 51\, 51)\; font-family: arial\; font-size: 14px\; background-color: rgb(255\, 255\, 255)\;">Grab a delicious bite at John West Park on Friday and Saturday!</span><br />\nTaco Reho and Smashmouth Burgers will be on site from 12:00 - 8:00PM. Troop 281 will also be managing the Chuck Wagon - grilling up a good old fashioned camp meal.<br />\n<br />\n<span style="font-size:16px\;"><font color="#0000ff" face="arial"><span style="background-color: rgb(255\, 255\, 255)\;">Kids Inflatable Winter Maze - 12:00 - 8:00 pm</span></font></span><br />\nSponsored by True North\, children are invited to wind through a huge inflatable maze&nbsp\; in John West Park on Friday only during Fire &amp\; Ice Weekend! *Volunteers will be stationed at entrance of maze to provide safety guideline upon entry.&nbsp\;<br />\n<br />\n<span style="color: rgb(0\, 0\, 255)\; font-family: arial\; font-size: 16px\;">Beer Garden - 12:00 - 8:00 PM&nbsp\;</span><br />\n<span style="font-size:14px\;"><span style="font-family:arial\;">Beach Liquors will be sponsoring&nbsp\; the Trading Post- themed&nbsp\;Beer Garden</span></span><span style="font-family: arial\; font-size: 14px\;">&nbsp\;at John West Park. The Beer Garden will offer indoor/outdoor seating options! Take a load off and enjoy a drink in the 900 sq. foot inflatable pub or grab a seat outside by a relaxing fire pit.&nbsp\; Proceeds will benefit Beebe Healthcare&#39\;s South Coastal Emergency Department and Cancer Center through it&#39\;s partnership with the Bethany-Fenwick Area Chamber of Commerce.</span><br />\n<br />\n<span style="font-family:arial\;"><span style="font-size:18px\;"><span style="color:#0000FF\;"><span style="font-size:16px\;">Live Ice Carving Demonstration - 3:00 - 4:00 pm&nbsp\;</span></span></span></span><br />\n<span font-size:="" helvetica="" style="font-family: "><span style="font-size:14px\;"><span style="font-family:arial\;">There will be a Live Ice Carving Demonstration at 3:00 PM at the Gazebo sponsored by The Town of Ocean View. Watch as 1\,800 pounds of ice are masterfully transformed into a detailed sculpture by the incredible artists from&nbsp\;<a href="https://www.theicegod.com/">The Ice God</a>.</span></span></span><br />\n<br />\n<span style="color: rgb(0\, 0\, 255)\; font-family: arial\; font-size: 16px\;">&quot\;Into the Wild&quot\; Ice Tour - 3:00 - 9:00 PM</span><br />\n<span font-size:="" helvetica="" style="font-family: "><span style="font-size:14px\;"><span style="font-family:arial\;">Check out all the sculptures in town by taking a &quot\;Into the Wild&quot\; Ice Tour! Pick up a festival map at the Information Tent to make sure you see them all! Watch as the ice sculptures created by&nbsp\;<a href="https://www.theicegod.com/">The Ice God</a>&#39\;s talented artists&nbsp\;are unveiled and illuminated with lights as the sun sets!&nbsp\;</span></span></span><br />\n<br />\n<span style="font-size:16px\;"><span style="color:#0000FF\;">Live Radio with Dana McDonald: 3:00 - 5:00 PM</span></span><br />\nDana McDonald from 97.1 The Wave will be broadcasting live from the gazebo in John West Park.<br />\n<br />\n<font color="#0000ff" face="arial"><span style="font-size: 16px\;">Tasting Tour: All Festival Weekend!</span></font><br />\n<span background-color:="" font-size:="" style="color: rgb(51\, 51\, 51)\; font-family: sans-serif\, Arial\, Verdana\, " trebuchet="">For info on our restaurants participating in the Tasting Tour and off-site ice sculptures\, click&nbsp\;</span><a href="https://business.bethany-fenwick.org/events/details/fire-ice-festival-into-the-wild-tasting-tour-26928">here</a><span background-color:="" font-size:="" style="color: rgb(51\, 51\, 51)\; font-family: sans-serif\, Arial\, Verdana\, " trebuchet="">.</span><br font-size:="" style="color: rgb(51\, 51\, 51)\; font-family: sans-serif\, Arial\, Verdana\, " trebuchet="" />\n<br />\n<span style="color:#0000FF\;"><span style="font-size:16px\;">More details to come!</span></span><br />\n<br />\n<strong><span style="font-size:14px\;"><span style="font-family:arial\;"><span style="font-size:18px\;"><span style="color:#0000FF\;">Saturday\, January 27th</span></span></span></span></strong><br />\n<span style="font-family: arial\;"><span style="color:#0000FF\;"><span style="font-size: 16px\;">Food Trucks - 11:00 AM - 4:00 PM</span></span><br />\nGrab a delicious bite to eat in John West Park and view the ice in the daylight!<br />\nVendors on site include Changing Mains and Taco Reho! Troop 281 will be managing the &quot\;Chuck Wagon\,&quot\; grilling up hotdogs for a good old fashioned camp meal..<br />\n<br />\n<span style="color:#0000FF\;"><span style="font-size: 16px\;">Beer Garden - 11:00 AM - 4:00 PM&nbsp\;</span></span></span><br />\n<span font-size:="" style="color: rgb(51\, 51\, 51)\; font-family: sans-serif\, Arial\, Verdana\, " trebuchet=""><span style="font-family: arial\;">Beach Liquors will be sponsoring The Trading Post<em>-</em>themed beer garden</span></span><span style="color: rgb(51\, 51\, 51)\; font-family: arial\; font-size: 14px\;">&nbsp\;at John West Park. Proceeds will benefit Beebe South Coastal Emergency Center and Cancer Center through its partnership with the Bethany-Fenwick Area Chamber of Commerce.&nbsp\; Visit&nbsp\;<a href="https://beachliquors.com/" style="color: rgb(7\, 130\, 193)\;">Beach Liquors</a>&nbsp\;to sign up for email updates and information on tastings!&nbsp\;</span><br />\n<br />\n<span style="font-size:16px\;"><font color="#0000ff" face="sans-serif\, Arial\, Verdana\, Trebuchet MS"><span style="background-color: rgb(255\, 255\, 255)\;">Pony Rides for Kids - 11:00AM - 2:00PM</span></font></span><br />\nTake a ride on the Pony Express at John West Park&#39\;s Oregon Trail-themed Fire &amp\; Ice location. Sponsored by True North\, children are invited to take a pony ride\, provided by Saddle Up Stables. Signed waiver will be required onsite by guardian.&nbsp\;<br />\n<br />\n<span style="color:#0000FF\;"><span style="font-size:16px\;">Historical Village of Ocean View - 12:00 - 3:00 PM</span></span><br />\n<span background-color:="" font-size:="" style="color: rgb(51\, 51\, 51)\; font-family: sans-serif\, Arial\, Verdana\, " trebuchet="">The Historic Village is adjacent to John West Park and includes the replica of Hall&#39\;s Store and Visitors Center. It was also Ocean&#39\;s View first Post Office\, the nation&#39\;s first broiler chicken house\, and the 1860&#39\;s Tunnel West House. All will be open for visitors to explore!</span><br />\n<br />\n<span style="color: rgb(51\, 51\, 51)\; font-size: 13px\; font-family: arial\;"><span style="font-size: 16px\;"><span style="color: rgb(0\, 0\, 255)\;">Live Music Performance - 12:00 - 3:00 PM</span></span></span><br font-size:="" style="color: rgb(51\, 51\, 51)\; font-family: sans-serif\, Arial\, Verdana\, " trebuchet="" />\n<span font-size:="" style="color: rgb(51\, 51\, 51)\; font-family: sans-serif\, Arial\, Verdana\, " trebuchet=""><span style="font-family: arial\;">Sponsored by the Town of Ocean View\, enjoy a live music performance by Homestead Bluegrass in the pavilion near the Beer Garden!</span></span><br />\n<br />\n<span style="color: rgb(0\, 0\, 255)\; font-family: arial\; font-size: 16px\;">Tasting Tour&nbsp\;</span><br font-size:="" style="color: rgb(51\, 51\, 51)\; font-family: sans-serif\, Arial\, Verdana\, " trebuchet="" />\n<span font-size:="" style="color: rgb(51\, 51\, 51)\; font-family: sans-serif\, Arial\, Verdana\, " trebuchet=""><span style="font-family: arial\;">The Tasting Tour features participating restaurants in the Quiet Resorts offering their signature Fire &amp\; Ice &quot\;Into the Wild&quot\; themed cocktail. &nbsp\;</span></span><span font-size:="" helvetica="" style="color: rgb(51\, 51\, 51)\; font-family: ">The Fire and Ice Tasting Tour will continue throughout Saturday and Sunday at participating businesses. <a href="https://business.bethany-fenwick.org/events/details/fire-ice-festival-into-the-wild-tasting-tour-26928">Click here for more information and participating restaurant specials.</a></span><br />\n<br />\n<strong><span style="color: rgb(51\, 51\, 51)\; font-family: arial\; font-size: 14px\; background-color: rgb(255\, 255\, 255)\;">For more information on Fire &amp\; Ice\, click&nbsp\;</span><a href="https://fireandicede.com/" style="color: rgb(7\, 130\, 193)\; font-family: arial\; font-size: 14px\; background-color: rgb(255\, 255\, 255)\;">here</a><span style="color: rgb(51\, 51\, 51)\; font-family: arial\; font-size: 14px\; background-color: rgb(255\, 255\, 255)\;">&nbsp\;to view all weekend events!</span></strong><br />\n<br />\n<a href="https://www.signupgenius.com/go/60B0B4CA9AB22A1FC1-46885006-2024"><u><span style="color:#FF0000\;"><span style="font-size:14px\;"><font face="arial">Volunteers Needed -&nbsp\; Click</font></span>&nbsp\;to volunteer at the JWP Info Tent\, Inflatable Maze\, and other support roles!</span></u></a><br />\n<a href="https://www.signupgenius.com/go/60B0B4CA9AB22A1FC1-46685858-2024">Volunteers Needed - Click to volunteer at the JWP Beer Garden</a>
LOCATION:John West Park 32 West Ave Ocean View\, DE 19970
UID:e.2126.27051
SEQUENCE:3
DTSTAMP:20260420T140457Z
URL:http://business.thequietresorts.com/events/details/fire-amp-ice-festival-into-the-wild-town-of-ocean-view-happenings-27051
END:VEVENT

END:VCALENDAR
