BEGIN:VCALENDAR
VERSION:2.0
PRODID:-//ChamberMaster//Event Calendar 2.0//EN
METHOD:PUBLISH
X-PUBLISHED-TTL:P3D
REFRESH-INTERVAL:P3D
CALSCALE:GREGORIAN
BEGIN:VEVENT
DTSTART;VALUE=DATE:20240126
DTEND;VALUE=DATE:20240129
TRANSP:TRANSPARENT
X-MICROSOFT-CDO-ALLDAYEVENT:TRUE
SUMMARY:Fire & Ice Festival "Into the Wild" - Salted Vines Vineyard & Winery Happenings
DESCRIPTION:Stop by Salted Vines Vineyard & Winery\, located at 32512 Blackwater Rd. in Frankford\, for live music\, a live sculpture demo\, wine tastings\, and more. Kickoff Salted Vines' jungle safari-themed weekend with the walking Ice Tour\, featuring an ice drink luge to taste your favorite "jungle juice".  \n\n\n\nFriday\, January 26th\n\nIce Drink Luge - 12:00 - 9:00 PM\n\nCome enjoy a drink poured from the 900-pound ice luge that will be revealed on Friday!\n\n\n\nFood Trucks - 2:00 - 9:00 PM\n\nEnjoy some delicious food by Changing Mains and Fiona's Food Truck as you sit by a fire\, take a picture with the ice sculptures\, and enjoy the ambiance at the vineyard.\n\n\n\nInfo Tent and Raffle & Giveaway - 4:00 - 9:00 PM \n\nSponsored by Heather's Home Works\, stop by the info tent to pick up jungle-fun giveaways and enter to win a raffle. \n\n\n\nLive Music - 4:00 - 9:00 PM \n\nKick off the festival weekend with some jungle jams at Salted Vines provided by DJ Scott Mayhew\, sponsored by Tansey Warner!\n\n\n\n"Into the Wild" Walking Ice Tour - 4:00 PM - 9:00 PM\n\nStarting at 4:00 PM\, check out the "Into the Wild" sculptures on the Ice Tour! Pick up a festival map at the information tent to make sure you see them all! There is over 60\,000 pounds of ice coming to The Quiet Resorts\, all masterfully crafted by the artists from The Ice God! Watch as the ice sculptures are unveiled and illuminated with lights as the sun sets. A portion of sales will be donated to Santa's Letters.\n\n\n\n Live Ice Carving Demonstration: 5:30PM\n\nSponsored by Taylor Bank\, watch as the talented artists from The Ice God carve a 6-block jungle masterpiece.\n\n\n\nOverflow parking will be available around the back of the building. Volunteers will be onsite Friday evening to assist*\n\n\n\nSaturday\, January 27th\n\nLive Music: 1:00 PM - 4:00 PM\n\nEnjoy a drink as you listen to singer/songwriter Bobby Lee Jones. Click here for Bobby Lee's page.\n\n\n\nSunday\, January 28th\n\nLive Music: 1:00 PM - 4:00 PM\n\nFinish off your festival weekend and enjoy live music by The Bilenki Duo on Sunday. Click here to visit the Bilenki Duo's page.\n\n\n\nTasting Tour\n\nThe Tasting Tour kicks off with participating restaurants in the Quiet Resorts offering their signature Fire & Ice "Into the Wild" themed cocktail. To purchase tickets\, please click here.\n\n\n\nFor more information and activities happening during the Fire & Ice Festival\, click here to view the weekend events! \n\n\n\nVolunteers Needed -  Email events@thequietresorts to sign up!
X-ALT-DESC;FMTTYPE=text/html:<span style="font-family:arial\;"><span style="font-size:14px\;">Stop by Salted Vines Vineyard &amp\; Winery\, located at 32512 Blackwater Rd. in Frankford\, for live music\, a live sculpture demo\, wine tastings\, and more. Kickoff Salted Vines&#39\; jungle safari-themed weekend with the walking Ice Tour\, featuring an ice drink luge to taste your favorite &quot\;jungle juice&quot\;.&nbsp\;&nbsp\;</span></span><br />\n<br />\n<span style="font-family:arial\;"><span style="color:#0000FF\;"><strong><span style="font-size:16px\;">Friday\, January 26th</span></strong><br />\n<span style="font-size:16px\;">Ice Drink Luge - 12:00 - 9:00 PM</span></span><br />\nCome enjoy a drink poured from the 900-pound ice luge that will be revealed on Friday!</span><br />\n<br />\n<span style="color:#0000FF\;"><span style="font-size:16px\;"><span style="font-family: arial\;">Food Trucks - 2:00 - 9:00 PM</span></span></span><br />\n<span style="font-size:14px\;"><span style="font-family:arial\;">Enjoy some delicious food by Changing Mains and Fiona&#39\;s Food Truck as you sit by a fire\, take a picture with the ice sculptures\, and enjoy the ambiance at the vineyard.</span></span><br />\n<br />\n<span style="font-family:arial\;"><span style="font-size:16px\;"><span style="color:#0000FF\;">Info Tent and Raffle &amp\; Giveaway - 4:00 - 9:00 PM&nbsp\;</span></span></span><br />\n<span style="font-family:arial\;"><span style="font-size:14px\;">Sponsored by Heather&#39\;s Home Works\, stop by the info tent to pick up jungle-fun giveaways and enter to win a raffle.&nbsp\;</span></span><br />\n<br />\n<span style="font-family:arial\;"><span style="font-size:14px\;"><span style="font-size:16px\;"><span style="color:#0000FF\;">Live Music - 4:00 - 9:00 PM&nbsp\;</span></span></span></span><br />\n<font color="#333333" face="arial"><span style="font-size: 14px\; background-color: rgb(255\, 255\, 255)\;">Kick off the festival weekend with some jungle jams at Salted Vines provided by DJ Scott Mayhew\, sponsored by Tansey Warner!</span></font><br />\n<br />\n<span style="color:#0000FF\;"><span style="background-color: rgb(255\, 255\, 255)\; font-family: arial\; font-size: 16px\;">&quot\;Into the Wild&quot\; Walking Ice Tour - 4:00 PM - 9:00 PM</span></span><br background-color:="" font-size:="" style="color: rgb(51\, 51\, 51)\; font-family: sans-serif\, Arial\, Verdana\, " trebuchet="" />\n<span font-size:="" helvetica="" style="color: rgb(51\, 51\, 51)\; background-color: rgb(255\, 255\, 255)\; font-family: "><span style="font-size: 14px\;"><span style="font-family: arial\;">Starting at 4:00 PM\, check out the &quot\;Into the Wild&quot\; sculptures on the Ice Tour! Pick up a festival map at the information tent to make sure you see them all! There is over 60\,000 pounds of ice coming to The Quiet Resorts\, all masterfully crafted by the artists from&nbsp\;<a href="https://www.theicegod.com/" style="color: rgb(7\, 130\, 193)\;">The Ice God</a>!&nbsp\;Watch as the ice sculptures are unveiled and illuminated with lights as the sun sets.&nbsp\;</span></span></span><span style="box-sizing: content-box\; inset: auto\; clear: none\; content: normal\; direction: inherit\; empty-cells: show\; font-variant-numeric: inherit\; font-variant-east-asian: inherit\; font-stretch: inherit\; font-size: 14px\; line-height: inherit\; margin: 0px\; max-height: none\; max-width: none\; min-height: initial\; min-width: initial\; opacity: 1\; outline-offset: 0px\; overflow: visible\; padding: 0px\; position: static\; resize: none\; table-layout: auto\; text-overflow: clip\; vertical-align: baseline\; visibility: inherit\; word-break: inherit\; overflow-wrap: inherit\; z-index: auto\; background-image: none\; background-position: initial\; background-size: initial\; background-repeat: initial\; background-attachment: initial\; background-origin: initial\; background-clip: initial\; border-width: initial\; border-style: none\; border-color: initial\; border-collapse: separate\; border-image: none 100% 1 0 / 1 / 0 stretch\; border-radius: 0px\; height: auto\; width: auto\; box-shadow: none\;">A portion of sales will be donated to Santa&#39\;s Letters.</span><br />\n<br />\n<span style="font-family: arial\; font-size: 16px\; background-color: rgb(255\, 255\, 255)\;">&nbsp\;<span style="color:#0000FF\;">Live Ice Carving Demonstration: 5:30PM</span></span><br />\n<span style="font-family:arial\;"><span style="font-size:14px\;">Sponsored by Taylor Bank\, watch as the talented artists from The Ice God carve a 6-block jungle masterpiece.</span></span><br />\n<br />\n<strong style="font-size: 12px\;">Overflow parking will be available around the back of the building. Volunteers will be onsite Friday evening to assist*</strong><br />\n<br />\n<span style="color:#0000FF\;"><strong><span style="font-size:16px\;">Saturday\, January 27th</span></strong></span><br />\n<span style="color:#0000FF\;"><span style="font-size:16px\;">Live Music: 1:00 PM - 4:00 PM</span></span><br />\n<span style="font-size:16px\;"><span style="font-size:14px\;">Enjoy a drink as you listen to singer/songwriter Bobby Lee Jones. Click <a href="https://www.facebook.com/BobbyLeeJonesmusic/">here</a>&nbsp\;for Bobby Lee&#39\;s page.</span></span><br />\n<br />\n<span style="font-size:16px\;"><span style="color:#0000FF\;"><strong>Sunday\, January 28th</strong></span></span><br />\n<span style="font-size:14px\;"><span style="color:#0000FF\;"><span style="font-size:16px\;"><span style="font-family:arial\;">Live Music: 1:00 PM - 4:00 PM</span></span></span></span><br />\nFinish off your festival weekend and enjoy live music by The Bilenki Duo on Sunday. Click <a href="https://m.facebook.com/george.and.pat.bilenki.duo/events/">here</a> to visit the Bilenki Duo&#39\;s page.<br />\n<br />\n<span style="color:#0000FF\;"><span style="background-color: rgb(255\, 255\, 255)\; font-family: arial\; font-size: 16px\;">Tasting Tour</span></span><br background-color:="" font-size:="" style="color: rgb(51\, 51\, 51)\; font-family: sans-serif\, Arial\, Verdana\, " trebuchet="" />\n<span font-size:="" helvetica="" style="color: rgb(51\, 51\, 51)\; background-color: rgb(255\, 255\, 255)\; font-family: "><span style="font-size: 14px\;"><span style="font-family: arial\;">The Tasting Tour kicks off with participating restaurants in the Quiet Resorts offering their signature Fire &amp\; Ice &quot\;Into the Wild&quot\;</span></span></span><span font-size:="" helvetica="" style="color: rgb(51\, 51\, 51)\; background-color: rgb(255\, 255\, 255)\; font-family: "><span style="font-size: 14px\;"><span style="font-family: arial\;">&nbsp\;themed cocktail. To purchase tickets\, please <a href="https://business.bethany-fenwick.org/events/details/fire-ice-festival-into-the-wild-tasting-tour-26928">click here</a>.</span></span></span><br />\n<br />\n<span style="box-sizing: content-box\; inset: auto\; clear: none\; content: normal\; direction: inherit\; empty-cells: show\; font-variant-numeric: inherit\; font-variant-east-asian: inherit\; font-stretch: inherit\; font-size: 14px\; line-height: inherit\; margin: 0px\; max-height: none\; max-width: none\; min-height: initial\; min-width: initial\; opacity: 1\; outline-offset: 0px\; overflow: visible\; padding: 0px\; position: static\; resize: none\; table-layout: auto\; text-overflow: clip\; vertical-align: baseline\; visibility: inherit\; word-break: inherit\; overflow-wrap: inherit\; z-index: auto\; background-image: none\; background-position: initial\; background-size: initial\; background-repeat: initial\; background-attachment: initial\; background-origin: initial\; background-clip: initial\; border-width: initial\; border-style: none\; border-color: initial\; border-collapse: separate\; border-image: none 100% 1 0 / 1 / 0 stretch\; border-radius: 0px\; height: auto\; width: auto\; box-shadow: none\;">For more information and activities happening during the Fire &amp\; Ice Festival\, <a href="https://fireandicede.com/">click&nbsp\;</a></span><a href="https://fireandicede.com/"><span style="font-size:14px\;"><span style="font-family:arial\;">here</span></span></a><span style="box-sizing: content-box\; inset: auto\; clear: none\; content: normal\; direction: inherit\; empty-cells: show\; font-variant-numeric: inherit\; font-variant-east-asian: inherit\; font-stretch: inherit\; font-size: 14px\; line-height: inherit\; margin: 0px\; max-height: none\; max-width: none\; min-height: initial\; min-width: initial\; opacity: 1\; outline-offset: 0px\; overflow: visible\; padding: 0px\; position: static\; resize: none\; table-layout: auto\; text-overflow: clip\; vertical-align: baseline\; visibility: inherit\; word-break: inherit\; overflow-wrap: inherit\; z-index: auto\; background-image: none\; background-position: initial\; background-size: initial\; background-repeat: initial\; background-attachment: initial\; background-origin: initial\; background-clip: initial\; border-width: initial\; border-style: none\; border-color: initial\; border-collapse: separate\; border-image: none 100% 1 0 / 1 / 0 stretch\; border-radius: 0px\; height: auto\; width: auto\; box-shadow: none\;">&nbsp\;to view the weekend events!&nbsp\;</span><br />\n<br />\n<span style="color:#B22222\;"><font face="arial"><span style="font-size: 16px\;">Volunteers Needed -&nbsp\; Email events@thequietresorts to sign up!</span></font></span>
LOCATION:Salted Vines Vineyard & Winery 32512 Blackwater Rd Frankford\, DE 19945
UID:e.2126.26927
SEQUENCE:3
DTSTAMP:20260420T134331Z
URL:http://business.thequietresorts.com/events/details/fire-amp-ice-festival-into-the-wild-salted-vines-vineyard-amp-winery-happenings-26927
END:VEVENT

END:VCALENDAR
