BEGIN:VCALENDAR
VERSION:2.0
PRODID:-//ChamberMaster//Event Calendar 2.0//EN
METHOD:PUBLISH
X-PUBLISHED-TTL:P3D
REFRESH-INTERVAL:P3D
CALSCALE:GREGORIAN
BEGIN:VEVENT
DTSTART;VALUE=DATE:20240126
DTEND;VALUE=DATE:20240128
TRANSP:TRANSPARENT
X-MICROSOFT-CDO-ALLDAYEVENT:TRUE
SUMMARY:Fire & Ice Festival "Into the Wild" - Millville Boardwalk Happenings
DESCRIPTION:Come out to The Millville Boardwalk and be transported back in time to the Mesozoic era!  Life always finds a way and our grounds have been taken over by incredible dinosaurs of all shapes and sizes!  Venture through this Jurassic jungle featuring dino's carved in ice\, a dino-themed mini golf course\, Captain's Quarters Arcade\, and some wild ice cream flavors.  This is the place to be for the kickoff to a full weekend of "DINO-mite" fun for the whole family. Proceeds will benefit the Millville Volunteer Fire Company.\n\n\n\nFriday\, January 26th\n\n\n\nGo-Karts and Captain's Quarters Arcade - 10:00 AM - 10:00 PM\n\nEnjoy all-day fun on Friday and Saturday by taking a few laps on the new Go-Karts and warm up while you game out at Captain's Quarters Arcade!\n\n\n\n"Into the Wild" Ice Tour - 4:00 - 9:00 PM\n\nPick up a festival map at the information tent to make sure you see them all the ice at each location! Starting at 4:00 PM\, check out all the sculptures at Millville Boardwalk! This will be the spot you won't want the kids to miss! Enjoy dinosaur sculptures\, ice cream\, Volcanic s'mores\, a live carving demonstration\, mini golf\, arcade and more all in one spot! \n\n\n\nIncredible Fire Exhibit by Artist\, Adam Foster - 4:00 - 9:00 PM\n\nMillville Boardwalk is the official "hot spot" of Fire & Ice weekend - you won't want to miss the incredible 6 ft. tall propane-powered\, volcano "Magma" and 16 ft. metal fire trumpets\, sponsored Delaware State Tourism Office. It'll be a blast!\n\n\n\nT Rex Lounge- 4:00 pm -  9:00 pm\n\nJoin in on the fun for a night of Family Karaoke in the T Rex lounge! Karaoke and photo opportunities will be from 4:00 pm - 9:00 pm on Friday\, January 26th.\n\n\n\nVolcanic S'mores: 4:00 pm - 8:00 pm  \n\nStay warm by enjoying some extreme s'mores while viewing our Volcanic attraction.  Smore's sales will benefit the Millville Volunteer Fire Company There will also be a fire truck on site for all of the kids to explore!\n\n\n\nLive Ice Carving Demonstration - 4:30 PM\n\nWatch an epic\, ice carving demonstration of 6-blocks of ice on the stage by the arcade\, sponsored by Millville Boardwalk.\n\n\n\nThere is over 60\,000 pounds of ice coming to the The Quiet Resorts\, all masterfully crafted by the artists from The Ice God! Watch as thousands of pounds of ice are transformed into some of your favorite memories from the big screen. For more information\, please click here. \n\n\n\nIce Cream Specials\n\nThe adventure continues with Jurassic twists to Agape Creamery's ice cream flavors including special flavors specially made for Festival Weekend: details coming soon!\n\nClick here to learn more about the Tasting Tour and participating restaurants.\n\nFor all additional festival happenings\, visit www.fireandicede.com\n\n\n\nVolunteers Needed -  Email events@thequietresorts.com for more info!
X-ALT-DESC;FMTTYPE=text/html:<p><span font-size:="" helvetica="" style="background-color: rgb(255\, 255\, 255)\; font-family: "><span style="font-family: arial\;"><span style="font-size:14px\;">&nbsp\;</span></span></span></p>\n\n<p><span style="font-size:10.5pt\;font-family:">Come out to The Millville Boardwalk and be transported back in time to the Mesozoic era!&nbsp\; Life always finds a way and our grounds have been taken over by incredible dinosaurs of all shapes and sizes!&nbsp\; Venture through this Jurassic jungle featuring dino&#39\;s carved in ice\, a dino-themed mini golf course\, Captain&#39\;s Quarters Arcade\, and some wild ice cream flavors.&nbsp\; This is the place to be for the kickoff to a full weekend of &quot\;DINO-mite&quot\; fun for the whole family. Proceeds will benefit the Millville Volunteer Fire Company.</span><br style="box-sizing:border-box" />\n<br style="box-sizing:border-box" />\n<span style="color:#0000FF\;"><span style="font-size:13.5pt\;font-family:">Friday\, January 26th</span></span><br style="box-sizing:border-box" />\n<br />\n<span style="font-size:12.0pt\;font-family:"><span style="color:#0000FF\;">Go-Karts and Captain&#39\;s Quarters Arcade - 10:00 AM - 10:00 PM</span><br />\n<span style="font-family:arial\;"><span style="font-size:14px\;">Enjoy all-day fun on Friday and Saturday by taking a few laps on&nbsp\;the new Go-Karts and warm up while you game out at Captain&#39\;s Quarters Arcade!</span></span><br />\n<br />\n<span style="color:#0000FF\;">&quot\;Into the Wild&quot\; Ice Tour - 4:00 - 9:00 PM</span></span><br style="box-sizing:border-box" />\n<span style="font-size:10.5pt\;\nfont-family:">Pick up a festival map at the information tent to make sure you see them all the ice at each location!&nbsp\;</span><span style="font-size:10.5pt\;\nfont-family:">Starting at 4:00 PM\, check out all the sculptures at Millville Boardwalk!&nbsp\;This&nbsp\;will be the spot you won&#39\;t want the kids to miss! Enjoy dinosaur sculptures\, ice cream\,&nbsp\;Volcanic s&#39\;mores\, a live carving demonstration\, mini golf\, arcade&nbsp\;and more all in one spot!&nbsp\;</span><br style="box-sizing:border-box" />\n<br />\n<span style="font-size:10.5pt\;\nfont-family:"><span style="color:#0000FF\;"><span style="font-family:arial\;"><span style="font-size:16px\;">Incredible Fire Exhibit by Artist\, Adam Foster - 4:00 - 9:00 PM</span></span></span></span><br />\n<span style="font-size: 14px\;">Millville Boardwalk is the official &quot\;hot spot&quot\; of Fire &amp\; Ice weekend - you won&#39\;t want to miss the incredible 6 ft. tall propane-powered\, volcano &quot\;Magma&quot\; and 16 ft. metal fire trumpets\, sponsored Delaware State Tourism Office. It&#39\;ll be a blast!</span><br style="box-sizing:border-box" />\n<br style="box-sizing:border-box" />\n<span style="color:#0000FF\;"><span style="font-size:12.0pt\;font-family:">T Rex Lounge- 4:00 pm&nbsp\;- &nbsp\;9:00 pm</span></span><br style="box-sizing:border-box" />\n<span style="font-size:10.5pt\;font-family:\n">Join in on&nbsp\;the fun for a night of Family&nbsp\;Karaoke in the T Rex lounge! Karaoke and photo opportunities&nbsp\;will be from 4:00 pm - 9:00 pm&nbsp\;on Friday\, January 26th.</span><br style="box-sizing:border-box" />\n<br style="box-sizing:border-box" />\n<span style="font-size:12.0pt\;font-family:"><span style="color:#0000FF\;">Volcanic S&#39\;mores: 4:00 pm&nbsp\;- 8:00 pm&nbsp\;</span>&nbsp\;</span><br style="box-sizing:border-box" />\n<span style="font-size:10.5pt\;\nfont-family:">Stay warm by enjoying some extreme s&#39\;mores while viewing our Volcanic attraction.&nbsp\; Smore&#39\;s sales will benefit the Millville&nbsp\;Volunteer Fire Company There will also be a fire truck on site for all of the kids to explore!</span><br style="box-sizing:border-box" />\n<br />\n<span style="font-size:16px\;"><span background-color:="" font-size:="" style="color: rgb(51\, 51\, 51)\; font-family: sans-serif\, Arial\, Verdana\, " trebuchet=""><span style="font-family: arial\;"><span style="color: rgb(0\, 0\, 255)\;">Live Ice Carving Demonstration - 4:30 PM</span></span></span></span><br />\n<span background-color:="" font-size:="" style="color: rgb(51\, 51\, 51)\; font-family: sans-serif\, Arial\, Verdana\, " trebuchet=""><font face="arial">Watch an epic\, ice&nbsp\;carving demonstration of 6-blocks of ice on the stage by the arcade\, sponsored by Millville Boardwalk.</font><br />\n<br style="box-sizing: border-box\;" />\nThere is over 60\,000 pounds of ice coming to the The Quiet Resorts\, all masterfully crafted by the artists from<span class="gmail-apple-converted-space">&nbsp\;</span><a href="https://www.theicegod.com/" style="color: rgb(7\, 130\, 193)\; box-sizing: border-box\; outline: 0px\;"><span style="color: rgb(41\, 86\, 158)\; text-decoration-line: none\;">The Ice God</span></a>! Watch as&nbsp\;thousands of&nbsp\;pounds of&nbsp\;ice are transformed into some of your favorite memories from the big screen. For more information\, please<span class="gmail-apple-converted-space">&nbsp\;</span><a href="https://fireandicede.com/" style="color: rgb(7\, 130\, 193)\; box-sizing: border-box\; outline: 0px\;"><span style="color: rgb(41\, 86\, 158)\; text-decoration-line: none\;">click here</span></a>.&nbsp\;</span><br />\n<br style="box-sizing:border-box" />\n<span style="color:#0000FF\;"><span style="font-size:12.0pt\;font-family:">Ice Cream Specials</span></span><br style="box-sizing:border-box" />\n<span style="font-size:10.5pt\;font-family:">The adventure&nbsp\;continues with Jurassic twists to&nbsp\;Agape Creamery&#39\;s ice cream flavors including special flavors specially made for Festival Weekend: details coming soon!</span></p>\n\n<p style="box-sizing:border-box\;margin:1rem"><span style="font-size:10.5pt\;\nfont-family:"><a href="https://business.bethany-fenwick.org/events/details/fire-ice-festival-into-the-wild-tasting-tour-26928" style="box-sizing:border-box\;outline:0px"><span style="color:#29569E\;\ntext-decoration:none\;text-underline:none">Click here to learn more about the Tasting Tour and participating restaurants.</span></a><br style="box-sizing:border-box" />\nFor all additional festival happenings\, visit <a href="http://www.fireandicede.com">www.fireandicede.com</a></span><br style="box-sizing:border-box" />\n<br style="box-sizing:border-box" />\n<span style="font-size:10.5pt\;font-family:">Volunteers Needed -&nbsp\;&nbsp\;Email <a href="mailto:events@thequietresorts.com">events@thequietresorts.com</a> for more info!</span></p>\n\n<p>&nbsp\;</p>\n
LOCATION:Millville Boardwalk 35287 Atlantic Ave. Millville\, DE 19967
UID:e.2126.26930
SEQUENCE:3
DTSTAMP:20260420T135107Z
URL:http://business.thequietresorts.com/events/details/fire-amp-ice-festival-into-the-wild-millville-boardwalk-happenings-26930
END:VEVENT

END:VCALENDAR
