BEGIN:VCALENDAR
VERSION:2.0
PRODID:-//ChamberMaster//Event Calendar 2.0//EN
METHOD:PUBLISH
X-PUBLISHED-TTL:P3D
REFRESH-INTERVAL:P3D
CALSCALE:GREGORIAN
BEGIN:VEVENT
DTSTART:20240127T160000Z
DTEND:20240127T200000Z
X-MICROSOFT-CDO-ALLDAYEVENT:FALSE
SUMMARY:Fire & Ice Festival "Into the Wild" - Chili Cookoff
DESCRIPTION:THIS EVENT SOLD OUT!\n\n\n\nCongratulations to this year's Chili Cookoff Winners!\n\n\n\nBest Meat: \n\n1st:  Signatures at Bayside\n\n2nd: Millville VFC\n\n3rd: Papa Grande's \n\n\n\nBest Bean:\n\n1st: Bethany Blues \n\n2nd: Roxana VFC \n\n3rd: Bethany Boathouse \n\n\n\nBest Vegan: \n\n1st: Bethany Boat House\n\n2nd: Big Fish\n\n3rd: Ocean View Brewing Company\n\n\n\nThank you for your support of the MVFC! \n\nVenture out for the 2024 Fire & Ice weekend festival by taking advantage of a little friendly competition at the Chili Cookoff.  Proceeds will benefit the Millville Volunteer Fire Company. \n\n\n\nA limited number of tickets will be offered for two separate time slots to ensure that everyone is able to enjoy the same experience of raffles\, beverages\, and some of the best chili in the area.\n\n\n\nNO ONSITE TICKETS WILL BE AVAILABLE FOR PURCHASE- ORDER YOURS TODAY! \n\n\n\nSelect Your Time Slot:\n\nTime Slot 1: 11:00 AM - 12:45 PM - SOLD OUT!\n\nTime Slot 2: 1:00 PM - 2:45 PM - SOLD OUT!\n\n\n\nTicket Includes: Chilis to taste\, cash bar\, ice sculpture\, music\, ice cream\, and more! Tickets also serve as raffle tickets toward a great prize. All ticket sales will benefit Millville Volunteer Fire Company.\n\n\n\n Ticket Cost:  \n\nAdults: $15\n\nChildren (12 & under): $5 \n\nDonated Processing Fee $2 \n\n\n\nCompetition:\n\nIf you would like to compete in the Fire & Ice - "Into the Wild" Chili Cookoff\, please contact Michele Steffens at millvillevfc@gmail.com for more information.\n\nChili will be judged by 3 categories:\n\n\n	Meat (No beans)\n	Bean and Meat\n	Vegan \n\n\n    *Additional People's Choice Award will be given\n\n \n\nParticipants include:\n\nAJ Moore - MVFC\n\nBayside Cafe\n\nBethany Blues\n\nBethany Boathouse #1\n\nBethany Boathouse #2\n\nBig Fish Grill #1\n\nBig Fish Grill #2\n\nCottage Cafe\n\nDagsboro VFC Station 73\n\nDavid Hagerty\n\nGlenn Hagan\n\nLacey Borrero\n\nNicole Powell\n\nNicola's Pizza\n\nOcean View Brewing\n\nOff the Hook\n\nPapa Grande's\n\nRoxana VFC Station 90\n\nSummer Salts Beach Grill\n\n\n\nFor a full schedule of events follow @fireandicede or visit fireandicede.com\n\nFor more information on restaurants participating in the Tasting Tour and other off-site ice sculptures\, click here.\n\n\n\nFor a printable Chili Cookoff flyer\, click here \n\n\n\nParticipants: If you would like to compete in the 2024 Chili Cookoff - please click here for more details and registration form.
X-ALT-DESC;FMTTYPE=text/html:<div style="font-family: arial\;"><span style="font-size:14px\;"><strong><span style="color:#FF0000\;">THIS EVENT SOLD OUT!</span></strong><br />\n<br />\n<font color="#000000"><b>Congratulations to this year&#39\;s Chili Cookoff Winners!<br />\n<br />\nBest Meat:&nbsp\;<br />\n1st:&nbsp\; Signatures at Bayside<br />\n2nd: Millville VFC<br />\n3rd: Papa Grande&#39\;s&nbsp\;<br />\n<br />\nBest Bean:<br />\n1st: Bethany Blues&nbsp\;<br />\n2nd: Roxana VFC&nbsp\;<br />\n3rd: Bethany Boathouse&nbsp\;<br />\n<br />\nBest Vegan:&nbsp\;<br />\n1st: Bethany Boat House<br />\n2nd: Big Fish<br />\n3rd: Ocean View Brewing Company</b></font><br />\n<br />\nThank you for your support of the MVFC!&nbsp\;<br />\nVenture out for the 2024 Fire &amp\; Ice weekend festival by&nbsp\;taking&nbsp\;advantage of a little friendly competition at&nbsp\;the&nbsp\;Chili Cookoff.&nbsp\; Proceeds will&nbsp\;benefit&nbsp\;the Millville Volunteer Fire Company.&nbsp\;<br />\n<br />\nA limited number of tickets will be offered for two separate time slots to ensure that everyone is able to enjoy the same experience of raffles\, beverages\, and some of the best chili in the area.<br />\n<br />\n<span style="color:#FF0000\;">NO ONSITE TICKETS WILL BE AVAILABLE FOR PURCHASE- ORDER YOURS TODAY!&nbsp\;</span><br />\n<br />\n<span style="font-size:16px\;"><strong>Select Your Time Slot:</strong></span><br />\nTime Slot 1: 11:00 AM - 12:45 PM - <span style="color:#FF0000\;"><strong>SOLD OUT!</strong></span><br />\nTime Slot 2: 1:00 PM - 2:45 PM -<strong><span style="color:#FF0000\;"> SOLD OUT!</span></strong></span><br />\n<br />\n<b style="color: rgb(51\, 51\, 51)\; font-family: arial\; font-size: 14px\; background-color: rgb(255\, 255\, 255)\;"><span style="font-size: 16px\;">Ticket Includes:</span>&nbsp\;</b><span style="color: rgb(51\, 51\, 51)\; font-family: arial\; font-size: 14px\; background-color: rgb(255\, 255\, 255)\;">Chilis to taste\,&nbsp\;cash bar\, ice sculpture\, music\, ice cream\, and more! Tickets also serve as raffle tickets toward a great prize. All ticket sales will benefit Millville Volunteer Fire Company.</span><br />\n<br />\n<span style="color: rgb(51\, 51\, 51)\; font-size: 13px\; font-family: arial\;"><span style="font-size: 14px\;"><span style="font-size: 16px\;"><strong><em>&#8203\;</em>Ticket Cost:&nbsp\;&nbsp\;</strong></span></span></span><br />\n<span style="font-family: arial\;"><span style="font-size: 14px\;">Adults: $15</span></span><br />\n<span style="font-family: arial\;"><span style="font-size: 14px\;">Children (12 &amp\; under): $5&nbsp\;</span></span><br />\n<span style="font-family: arial\;"><span style="font-size: 14px\;">Donated Processing Fee $2&nbsp\;</span></span><br />\n<br />\n<span style="font-size:14px\;"><strong><span style="font-size:16px\;">Competition:</span></strong></span><br />\n<span style="color: rgb(51\, 51\, 51)\; font-family: arial\; font-size: 14px\; background-color: rgb(255\, 255\, 255)\;">If you would like to compete in the Fire &amp\; Ice - &quot\;Into the Wild&quot\; Chili Cookoff\, please contact Michele Steffens at&nbsp\;</span><a href="mailto:millvillevfc@gmail.com" style="color: rgb(7\, 130\, 193)\; font-family: arial\; font-size: 14px\; background-color: rgb(255\, 255\, 255)\;">millvillevfc@gmail.com</a><span style="color: rgb(51\, 51\, 51)\; font-family: arial\; font-size: 14px\; background-color: rgb(255\, 255\, 255)\;">&nbsp\;for more information.</span><br />\n<span style="font-size:14px\;">Chili will be judged by 3 categories:</span></div>\n\n<ul>\n	<li style="font-family: arial\;">Meat (No beans)</li>\n	<li style="font-family: arial\;"><span style="font-size:14px\;">Bean and Meat</span></li>\n	<li style="font-family: arial\;"><span style="font-size:14px\;">Vegan&nbsp\;</span></li>\n</ul>\n\n<div style="font-family: arial\;"><span style="font-size:14px\;">&nbsp\;&nbsp\;&nbsp\;&nbsp\;<em>*Additional&nbsp\;People&#39\;s Choice Award will be given</em></span><br />\n&nbsp\;</div>\n\n<p><span style="font-family: arial\; font-size: 14px\;"><strong><span style="font-size: 16px\;">Participants include:</span></strong></span><br style="font-family: arial\;" />\n<span style="font-family: arial\; font-size: 14px\;">AJ Moore - MVFC</span><br />\n<span style="font-size:14px\;">Bayside Cafe<br />\nBethany Blues<br />\nBethany Boathouse #1<br />\nBethany Boathouse #2<br />\nBig Fish Grill #1<br />\nBig Fish Grill #2<br />\nCottage Cafe<br />\nDagsboro VFC Station 73<br />\nDavid Hagerty<br />\nGlenn Hagan<br />\nLacey Borrero<br />\nNicole Powell<br />\nNicola&#39\;s Pizza<br />\nOcean View Brewing<br />\nOff the Hook<br />\nPapa Grande&#39\;s<br />\nRoxana VFC Station 90<br />\nSummer Salts Beach Grill<br />\n<br />\nFor a full schedule of events follow @fireandicede or visit fireandicede.com<br />\nFor more information on restaurants participating in the Tasting Tour and other off-site ice sculptures\, <a href="https://business.bethany-fenwick.org/events/details/fire-ice-festival-into-the-wild-tasting-tour-26928">click here</a>.</span><br />\n<br />\n<span style="font-size:14px\;"><span style="font-family:arial\;">For a printable Chili Cookoff flyer\,&nbsp\;<a href="https://chambermaster.blob.core.windows.net/userfiles/UserFiles/chambers/2126/File/Fire_Ice/2024/Chili-Cookoff-2024.pdf">click here&nbsp\;</a><br />\n<br />\n<strong>Participants: If you would like to compete in the 2024 Chili Cookoff - please <a href="https://chambermaster.blob.core.windows.net/userfiles/UserFiles/chambers/2126/File/Fire_Ice/2024/2024-MVFC-CHILI-COOK-OFF-REGISTRATION-FORM.pdf">click here</a> for more details and registration form.</strong></span></span></p>\n
LOCATION:Millville Volunteer Fire Company 35554 Atlantic Ave. Millville\, DE 19967
UID:e.2126.26925
SEQUENCE:3
DTSTAMP:20260420T134331Z
URL:http://business.thequietresorts.com/events/details/fire-amp-ice-festival-into-the-wild-chili-cookoff-26925
END:VEVENT

END:VCALENDAR
