BEGIN:VCALENDAR
VERSION:2.0
PRODID:-//ChamberMaster//Event Calendar 2.0//EN
METHOD:PUBLISH
X-PUBLISHED-TTL:P3D
REFRESH-INTERVAL:P3D
CALSCALE:GREGORIAN
BEGIN:VEVENT
DTSTART;VALUE=DATE:20201018
DTEND;VALUE=DATE:20201019
TRANSP:TRANSPARENT
X-MICROSOFT-CDO-ALLDAYEVENT:TRUE
SUMMARY:Fete Champetre at the Beach: Portraits & Picnic Baskets
DESCRIPTION:Portraits & Picnic Baskets at Cape Henlopen State Park in Lewes\, DE and the Delaware Seashore State Park in Bethany Beach\, DE.\n\n\n\nReceive 5 digital family photos and enjoy a gourmet\, multi-course picnic basket to go. This event benefits Nemours duPont Pediatrics & SeniorCare\, Sussex Campus
X-ALT-DESC;FMTTYPE=text/html:<span style="font-family: arial\;"><span style="font-size: 14px\;">Portraits &amp\; Picnic Baskets at Cape Henlopen State Park in Lewes\, DE and the Delaware Seashore State Park in Bethany Beach\, DE.<br />\n<br />\nReceive 5 digital family photos and enjoy a gourmet\, multi-course picnic basket to go. This event benefits Nemours duPont Pediatrics &amp\; SeniorCare\, Sussex Campus</span></span>
LOCATION:Cape Henlopen State Park 15099 Cape Henlopen Dr. Lewes\, DE 19958 Delaware Seashore State Park 130 Inlet Road Rehoboth Beach\, DE 19971
UID:e.2126.21753
SEQUENCE:3
DTSTAMP:20260425T114649Z
URL:http://business.thequietresorts.com/events/details/fete-champetre-at-the-beach-portraits-picnic-baskets-21753
END:VEVENT

END:VCALENDAR
