BEGIN:VCALENDAR
VERSION:2.0
PRODID:-//ChamberMaster//Event Calendar 2.0//EN
METHOD:PUBLISH
X-PUBLISHED-TTL:P3D
REFRESH-INTERVAL:P3D
CALSCALE:GREGORIAN
BEGIN:VEVENT
DTSTART:20210717T130000Z
DTEND:20210717T143000Z
X-MICROSOFT-CDO-ALLDAYEVENT:FALSE
SUMMARY:Fenwick Island "Meet The Candidates"
DESCRIPTION:In preparation for the upcoming Fenwick Island town council election\, the Bethany-Fenwick Area Chamber of Commerce would like to announce and extend an invitation to its hosting of a "Meet the Candidates" event on the morning of Saturday\, July 17th at 9:00 am.  The town council election is on August 7th of this year\, and there are eight total candidates competing for four open seats.\n\n \n\nThe event will be held outdoors in the parking lot of the Chamber of Commerce to avoid any complications with the ongoing pandemic and safety. A microphone and speaker system will be provided so that candidates can be heard.   Pre-submitted questions will be gathered from the public through July 12\, and we ask those questions to be emailed to membership@thequietresorts.com.\n\n\n\nIn order to submit a question\, you must include the following:\n\nFirst & Last Name\n\nFenwick Island Property Address\n\nPhone Number\n\n\n\nThis forum  will be moderated by an independent 3rd party \n\n \n\nEach candidate will be given a short introduction period followed by questions that the candidates will be asked to address for a predetermined time. Following the Q&A\, there will be a brief meet and greet section of the event.\n\n\n\nThere are four incumbents and four challengers running\, the incumbents being Mayor Eugene Langan\, Vice-Mayor Richard Mais\, and council members William Weistling Jr. and Mitchell Houser Sr. The challengers include Janice Bortner\, Paul Breger\, Natalie Magdeburger and Jacqueline Napolitano. \n\n\n\n \n\nThere will be additional information to follow regarding a rain date\, and event rules put in place to provide structure and avoid disrespectful behavior or speech throughout.
X-ALT-DESC;FMTTYPE=text/html:<span style="font-size:14px\;"><span style="font-family:arial\;">In preparation for the upcoming Fenwick Island town council election\, the Bethany-Fenwick Area Chamber of Commerce would like to announce and extend an invitation to its hosting of a <strong><em>&ldquo\;Meet the Candidates&rdquo\;</em></strong> event on the morning of <u>Saturday\, July 17th at 9:00 am</u>.&nbsp\; The town council election is on August 7th of this year\, and there are eight total candidates competing for four open seats.<br />\n&nbsp\;<br />\nThe event will be held outdoors in the parking lot of the Chamber of Commerce to avoid any complications with the ongoing pandemic and safety. A microphone and speaker system will be provided so that candidates can be heard. &nbsp\;&nbsp\;Pre-submitted questions will be gathered from the public through July 12\, and we ask those questions to be emailed to <a href="mailto:membership@thequietresorts.com"><span style="background:white\;"><span style="color:#1155CC\;">membership@thequietresorts.com</span></span></a>.<br />\n<br />\nIn order to submit a question\, you must include the following:<br />\nFirst &amp\; Last Name<br />\nFenwick Island Property Address<br />\nPhone Number<br />\n<br />\nThis forum &nbsp\;will be moderated by an independent 3rd party&nbsp\;<br />\n&nbsp\;<br />\nEach candidate will be given a short introduction period followed by questions that the candidates will be asked to address for a predetermined time. Following the Q&amp\;A\, there will be a brief meet and greet section of the event.<br />\n<br />\n<span style="color:black\;">There are four incumbents and four challengers running\, the incumbents being Mayor Eugene Langan\, Vice-Mayor Richard Mais\, and council members William Weistling Jr. and Mitchell Houser Sr. The challengers include Janice Bortner\, Paul Breger\, Natalie Magdeburger and Jacqueline Napolitano. </span><br />\n<br />\n&nbsp\;<br />\nThere will be additional information to follow regarding a rain date\, and event rules put in place to provide structure and avoid disrespectful behavior or speech throughout.&nbsp\;&nbsp\;</span></span>
LOCATION:Bethany Fenwick Area Chamber of Commerce Rear Parking Lot 36913 Coastal Highway Fenwick Island\, DE 19944
UID:e.2126.22581
SEQUENCE:3
DTSTAMP:20260424T173629Z
URL:http://business.thequietresorts.com/events/details/fenwick-island-meet-the-candidates-22581
END:VEVENT

END:VCALENDAR
