BEGIN:VCALENDAR
VERSION:2.0
PRODID:-//ChamberMaster//Event Calendar 2.0//EN
METHOD:PUBLISH
X-PUBLISHED-TTL:P3D
REFRESH-INTERVAL:P3D
CALSCALE:GREGORIAN
BEGIN:VEVENT
DTSTART:20231208T223000Z
DTEND:20231208T233000Z
X-MICROSOFT-CDO-ALLDAYEVENT:FALSE
SUMMARY:Fenwick Island Christmas Tree Lighting Ceremony
DESCRIPTION:All are welcome to the annual Town of Fenwick Island Tree Lighting Ceremony to be held on Friday\, December 8th beginning at 5:30 p.m. at the gazebo in the Cannon Street Park (in front of the Police Station). There will be hot chocolate and cookies to help keep us warm!
X-ALT-DESC;FMTTYPE=text/html:<span style="font-size:14px\;"><span style="font-family:arial\;"><span style="color: rgb(29\, 33\, 41)\;">All are welcome to the annual Town of Fenwick Island Tree Lighting Ceremony to be held on Friday\, December 8th beginning at 5:30 p.m. at the gazebo in the Cannon Street Park (in front of the Police Station). There will be hot chocolate and cookies to help keep us warm!</span></span></span>
LOCATION:Cannon Street Park (in front of the Police Station) Fenwick Island\, DE 19944
UID:e.2126.27147
SEQUENCE:3
DTSTAMP:20260420T151955Z
URL:http://business.thequietresorts.com/events/details/fenwick-island-christmas-tree-lighting-ceremony-27147
END:VEVENT

END:VCALENDAR
