BEGIN:VCALENDAR
VERSION:2.0
PRODID:-//ChamberMaster//Event Calendar 2.0//EN
METHOD:PUBLISH
X-PUBLISHED-TTL:P3D
REFRESH-INTERVAL:P3D
CALSCALE:GREGORIAN
BEGIN:VEVENT
DTSTART:20230321T123000Z
DTEND:20230321T133000Z
X-MICROSOFT-CDO-ALLDAYEVENT:FALSE
SUMMARY:Fenwick Island Business Forum
DESCRIPTION:The Bethany-Fenwick Area Chamber invites Fenwick Island businesses to attend a morning business meeting hosted by Perks Cafe on Tuesday\, March 21st.  If you cannot attend\, you are welcome to send a business representive in your place\, as we will discuss spring initiatives and begin to look forward to fall programming.
X-ALT-DESC;FMTTYPE=text/html:The Bethany-Fenwick Area Chamber invites Fenwick Island businesses to attend a morning business meeting hosted by Perks Cafe on Tuesday\, March 21st.&nbsp\; If you cannot attend\, you are welcome to send a business representive in your place\, as we will discuss spring initiatives and begin to look forward to fall programming.&nbsp\;
LOCATION:Pottery Place Perks Cafe 1500 Coastal Highway Fenwick Island\, DE\, 19944
UID:e.2126.25222
SEQUENCE:3
DTSTAMP:20260421T060110Z
URL:http://business.thequietresorts.com/events/details/fenwick-island-business-forum-25222
END:VEVENT

END:VCALENDAR
