BEGIN:VCALENDAR
VERSION:2.0
PRODID:-//ChamberMaster//Event Calendar 2.0//EN
METHOD:PUBLISH
X-PUBLISHED-TTL:P3D
REFRESH-INTERVAL:P3D
CALSCALE:GREGORIAN
BEGIN:VEVENT
DTSTART:20220101T150000Z
DTEND:20220101T170000Z
X-MICROSOFT-CDO-ALLDAYEVENT:FALSE
SUMMARY:Fenwick Freeze
DESCRIPTION:Get ready to start the new year with the Fenwick Freeze. Bring your towel and hot chocolate and plunge into the ocean with your friends and family. The plunge will be held on Bayard Street at 10:30 am\, check in for the plunge will begin at 10:00 am. T-shirts will be available for purchase and all proceeds will benefit the Fenwick Island Beach Patrol. Additional information will be posted on the town's website.
X-ALT-DESC;FMTTYPE=text/html:<font face="arial"><span style="font-size: 14px\;">Get ready to start the new year with the Fenwick Freeze. Bring your towel and hot chocolate and plunge into the ocean with your friends and family. The plunge will be held on Bayard Street at 10:30 am\, check in for the plunge will begin at 10:00 am. T-shirts will be available for purchase and all proceeds will benefit the Fenwick Island Beach Patrol. Additional information will be posted on the town&#39\;s <a href="https://fenwickisland.delaware.gov/" target="_blank">website</a>.</span></font>
LOCATION:1 Bayard St Fenwick Island\, DE 19944
UID:e.2126.22973
SEQUENCE:3
DTSTAMP:20260424T072015Z
URL:http://business.thequietresorts.com/events/details/fenwick-freeze-22973
END:VEVENT

END:VCALENDAR
