BEGIN:VCALENDAR
VERSION:2.0
PRODID:-//ChamberMaster//Event Calendar 2.0//EN
METHOD:PUBLISH
X-PUBLISHED-TTL:P3D
REFRESH-INTERVAL:P3D
CALSCALE:GREGORIAN
BEGIN:VEVENT
DTSTART:20230817T000000Z
DTEND:20230817T020000Z
X-MICROSOFT-CDO-ALLDAYEVENT:FALSE
SUMMARY:Fenwick Flicks: Moana
DESCRIPTION:Come out to E. Bayard St. in Fenwick Island for Fenwick Flicks: Moana\, on Wednesday\, August 16th!  The Fenwick Island Beach Patrol will be running kids games at 8:00 PM and the movie will start at dusk (approximately 8:30 PM).
X-ALT-DESC;FMTTYPE=text/html:Come out to E. Bayard St. in Fenwick Island for Fenwick Flicks: Moana\, on Wednesday\, August 16th!&nbsp\; The Fenwick Island Beach Patrol will be running kids games at 8:00 PM and the movie will start at dusk (approximately 8:30 PM).<br />\n<br />\n&nbsp\;
LOCATION:Bayard Street Beach\, Fenwick Island
UID:e.2126.26488
SEQUENCE:3
DTSTAMP:20260420T213315Z
URL:http://business.thequietresorts.com/events/details/fenwick-flicks-moana-26488
END:VEVENT

END:VCALENDAR
