BEGIN:VCALENDAR
VERSION:2.0
PRODID:-//ChamberMaster//Event Calendar 2.0//EN
METHOD:PUBLISH
X-PUBLISHED-TTL:P3D
REFRESH-INTERVAL:P3D
CALSCALE:GREGORIAN
BEGIN:VEVENT
DTSTART:20240622T003000Z
DTEND:20240622T030000Z
X-MICROSOFT-CDO-ALLDAYEVENT:FALSE
SUMMARY:Fenwick Flicks Featuring "Luca"
DESCRIPTION:Movies on the Beach in Fenwick Island featuring Luca.\n\n\n\nBring your family! Enjoy the fun!
X-ALT-DESC;FMTTYPE=text/html:<span style="font-size:14px\;"><span style="font-family:arial\;"><strong>Movies on the Beach in Fenwick Island featuring Luca.<br />\n<br />\nBring your family! Enjoy the fun! </strong></span></span>
LOCATION:Bayard Street Fenwick Island\, DE 19944
UID:e.2126.29286
SEQUENCE:3
DTSTAMP:20260420T104542Z
URL:http://business.thequietresorts.com/events/details/fenwick-flicks-featuring-luca-29286
END:VEVENT

END:VCALENDAR
