BEGIN:VCALENDAR
VERSION:2.0
PRODID:-//ChamberMaster//Event Calendar 2.0//EN
METHOD:PUBLISH
X-PUBLISHED-TTL:P3D
REFRESH-INTERVAL:P3D
CALSCALE:GREGORIAN
BEGIN:VEVENT
DTSTART;VALUE=DATE:20200306
DTEND;VALUE=DATE:20200307
TRANSP:TRANSPARENT
X-MICROSOFT-CDO-ALLDAYEVENT:TRUE
SUMMARY:Fenwick First Fridays
DESCRIPTION:Join us monthly for Fenwick First Fridays! Hosted monthly on the first Friday of each month\, participating retailers and restaurants will offer specials and promos! \n\n\n\nStay tuned each month for new specials.
X-ALT-DESC;FMTTYPE=text/html:<span style="font-size: 14px\;"><span style="font-family: arial\;">Join us monthly for Fenwick First Fridays! Hosted monthly on the first Friday of each month\, participating retailers and restaurants will offer specials and promos!&nbsp\;<br />\n<br />\nStay tuned each month for new specials.&nbsp\;</span></span>
LOCATION:Participating retailers and restaurants in Fenwick Island
UID:e.2126.9232
SEQUENCE:3
DTSTAMP:20260425T225231Z
URL:http://business.thequietresorts.com/events/details/fenwick-first-fridays-03-06-2020-9232
END:VEVENT

END:VCALENDAR
