BEGIN:VCALENDAR
VERSION:2.0
PRODID:-//ChamberMaster//Event Calendar 2.0//EN
METHOD:PUBLISH
X-PUBLISHED-TTL:P3D
REFRESH-INTERVAL:P3D
CALSCALE:GREGORIAN
BEGIN:VEVENT
DTSTART;VALUE=DATE:20200207
DTEND;VALUE=DATE:20200208
TRANSP:TRANSPARENT
X-MICROSOFT-CDO-ALLDAYEVENT:TRUE
SUMMARY:Fenwick First Fridays
DESCRIPTION:Join us monthly for Fenwick First Fridays! Hosted monthly on the first Friday of each month\, participating retailers and restaurants will offer specials and promos!\n\n\n\nFor a printable flyer\, please click here.\n\n\n\nStay tuned each month for new specials.
X-ALT-DESC;FMTTYPE=text/html:<span style="font-size: 14px\;"><span style="font-family: arial\;">Join us monthly for Fenwick First Fridays! Hosted monthly on the first Friday of each month\, participating retailers and restaurants will offer specials and promos!<br />\n<br />\nFor a printable flyer\, please <strong><a href="https://chambermaster.blob.core.windows.net/userfiles/UserFiles/chambers/2126/File/Community_Events/Fenwick_First_Friday_s/Feb_2020/FenwickFirstFridays2020-02-07.pdf" target="_blank">click here</a></strong>.<br />\n<br />\nStay tuned each month for new specials.&nbsp\;</span></span>
LOCATION:Participating retailers and restaurants in Fenwick Island
UID:e.2126.9231
SEQUENCE:3
DTSTAMP:20260426T020807Z
URL:http://business.thequietresorts.com/events/details/fenwick-first-fridays-02-07-2020-9231
END:VEVENT

END:VCALENDAR
