BEGIN:VCALENDAR
VERSION:2.0
PRODID:-//ChamberMaster//Event Calendar 2.0//EN
METHOD:PUBLISH
X-PUBLISHED-TTL:P3D
REFRESH-INTERVAL:P3D
CALSCALE:GREGORIAN
BEGIN:VEVENT
DTSTART:20230823T120000Z
DTEND:20230823T203000Z
X-MICROSOFT-CDO-ALLDAYEVENT:FALSE
SUMMARY:FEMA Region 3 Private Sector Readiness Day
DESCRIPTION:How does your organization make decisions during a crisis?  Do you have trusted sources of information\, dashboards\, tools\, etc. that you use to inform your decision making?  \n\n\n\nJoin FEMA on August 23rd from 8:00am - 4:30pm as they talk federal\, state\, and private sector parters who are leading the pack when it comes to informed emergency management.  They will talk innovations in crisis response communications\, types of data that is out there\, and how to put that information to work for your business.\n\n\n\nThis event will be an all-day virtual event that welcomes a variety of partners from both the public and private sectors to talk data driven initiatives\, available tools and dashboards\, and how data can inform decision making during a disaster.  The day will feature presentations from the Census Bureau and Red Cross as well as panel discussions from Region 3 State and Local partners and RBEOC members.
X-ALT-DESC;FMTTYPE=text/html:How does your organization make decisions during a crisis?&nbsp\; Do you have trusted sources of information\, dashboards\, tools\, etc. that you use to inform your decision making?&nbsp\;&nbsp\;<br />\n<br />\nJoin FEMA on August 23rd from 8:00am - 4:30pm as they talk federal\, state\, and private sector parters who are leading the pack when it comes to informed emergency management.&nbsp\; They will talk innovations in crisis response communications\, types of data that is out there\, and how to put that information to work for your business.<br />\n<br />\nThis event will be an all-day virtual event that welcomes a variety of partners from both the public and private sectors to talk data driven initiatives\, available tools and dashboards\, and how data can inform decision making during a disaster.&nbsp\; The day will feature presentations from the Census Bureau and Red Cross as well as panel discussions from Region 3 State and Local partners and RBEOC members.
LOCATION:Virtual Event Click here to register!
UID:e.2126.26502
SEQUENCE:3
DTSTAMP:20260420T230437Z
URL:http://business.thequietresorts.com/events/details/fema-region-3-private-sector-readiness-day-26502
END:VEVENT

END:VCALENDAR
