BEGIN:VCALENDAR
VERSION:2.0
PRODID:-//ChamberMaster//Event Calendar 2.0//EN
METHOD:PUBLISH
X-PUBLISHED-TTL:P3D
REFRESH-INTERVAL:P3D
CALSCALE:GREGORIAN
BEGIN:VEVENT
DTSTART:20230725T130000Z
DTEND:20230725T180000Z
X-MICROSOFT-CDO-ALLDAYEVENT:FALSE
SUMMARY:Fells Point Surf/Tangerine Goods/Su Casa Furniture Christmas in July Sale
DESCRIPTION:Feeling Festive? Get into the spirit because it's Christmas in July\, baby! Santa's got nothing on us. Come join the party at our WAREHOUSE in OCEAN VIEW\, DE on Tuesday\, July 25th\, and check out our HUGE sale! We're teaming up with Su Casa Furniture and Tangerine Goods to make sure you get the best deals around. We're talking about everything from men's and women's clothing for spring\, summer\, and fall\, to accessories\, gifts\, furniture\, and more! We haven't had a sale like this in a few years so there will be plenty of merchandise to scoop. Savings up to 75% off. Trust us\, you won't want to miss this one. \n\nHere are the details:\n\nCHRISTMAS IN JULY SALE \nTuesday\, July 25\, 2023\n\n9AM - 2PM\n\n86 Atlantic Ave Ocean View\, DE (Su Casa Furniture Ocean View)
X-ALT-DESC;FMTTYPE=text/html:<p>Feeling Festive? Get into the spirit because it&#39\;s Christmas in July\, baby! Santa&#39\;s got nothing on us. Come join the party at our&nbsp\;WAREHOUSE in OCEAN VIEW\, DE on Tuesday\, July 25th\, and check out our HUGE sale! We&#39\;re teaming up with Su Casa Furniture and Tangerine Goods to make sure you get the best deals around. We&#39\;re talking about everything from men&#39\;s and women&#39\;s clothing for spring\, summer\, and fall\, to accessories\, gifts\, furniture\, and more! We haven&#39\;t had a sale like this in a few years so there will be plenty of merchandise to scoop. Savings up to 75% off. Trust us\, you won&#39\;t want to miss this one.&nbsp\;</p>\n\n<p><span style="font-family:slate\,sans-serif">Here are the details:</span></p>\n\n<h3><strong>CHRISTMAS IN JULY SALE&nbsp\;</strong></h3>\n<span style="color:rgb(9\, 55\, 68)\; font-family:raleway\,sans-serif\; font-size:15px">Tuesday\, July 25\, 2023</span><br />\n<span style="color:rgb(9\, 55\, 68)\; font-family:raleway\,sans-serif\; font-size:15px">9AM - 2PM</span><br />\n<span style="color:rgb(9\, 55\, 68)\; font-family:raleway\,sans-serif\; font-size:15px">86 Atlantic Ave Ocean View\, DE (Su Casa Furniture Ocean View)</span>\n\n<div>&nbsp\;</div>\n
LOCATION:Su Casa Ocean View 86 Atlantic Ave Ocean View\, DE
UID:e.2126.26411
SEQUENCE:3
DTSTAMP:20260420T230917Z
URL:http://business.thequietresorts.com/events/details/fells-point-surf-tangerine-goods-su-casa-furniture-christmas-in-july-sale-26411
END:VEVENT

END:VCALENDAR
