BEGIN:VCALENDAR
VERSION:2.0
PRODID:-//ChamberMaster//Event Calendar 2.0//EN
METHOD:PUBLISH
X-PUBLISHED-TTL:P3D
REFRESH-INTERVAL:P3D
CALSCALE:GREGORIAN
BEGIN:VEVENT
DTSTART:20240228T213000Z
DTEND:20240228T233000Z
X-MICROSOFT-CDO-ALLDAYEVENT:FALSE
SUMMARY:February 2024 Business After Hours at The Salted Rim
DESCRIPTION:Join the Bethany-Fenwick Area Chamber of Commerce on Wednesday\, February 28th\, at The Salted Rim as we thank our 2024 Fire & Ice "Into the Wild" sponsors\, volunteers\, and beneficiaries! The Chamber Business After Hours is a fantastic way to promote your business through networking with fellow Chamber members. Don't forget to bring your business cards with you and for a little extra exposure bring a door prize too.\n\n\n\nAs a courtesy to our host\, RSVP is highly encouraged.\n\n\n\n\n\nInterested in hosting a networking event\, or learning how you can become a member spotlight at future Business After Hours? \n\nContact membership@thequietresorts.com or 302-539-2100.
X-ALT-DESC;FMTTYPE=text/html:<span style="color:#333333\;"><span style="font-family: arial\, sans-serif\; font-size: 10.5pt\;">Join the Bethany-Fenwick Area Chamber of Commerce on Wednesday\, February 28th\, at&nbsp\;The Salted Rim&nbsp\;as we thank our 2024 Fire &amp\; Ice &quot\;Into the Wild&quot\; sponsors\, volunteers\, and beneficiaries! The Chamber Business After Hours is a fantastic way to promote your business through networking with fellow Chamber members. Don&#39\;t forget to bring your business cards with you and for a little extra exposure bring a door prize too.<br />\n<br />\nAs a courtesy to our host\, RSVP is highly encouraged.</span></span><br />\n<br style="font-variant-ligatures:normal\;font-variant-caps:normal\;orphans:2\;text-align:start\;widows:2\;-webkit-text-stroke-width:0px\;text-decoration-thickness:initial\;text-decoration-style:initial\;word-spacing:0px\;" />\n<br style="font-variant-ligatures:normal\;font-variant-caps:normal\;orphans:2\;text-align:start\;widows:2\;-webkit-text-stroke-width:0px\;text-decoration-thickness:initial\;text-decoration-style:initial\;word-spacing:0px\;" />\n<strong><span style="color:#333333\;"><span style="font-family:arial\,sans-serif\;"><span style="font-size:10.5pt\;"><span style="font-variant-ligatures:normal\;font-variant-caps:normal\;orphans:2\;text-align:start\;widows:2\;-webkit-text-stroke-width:0px\;text-decoration-thickness:initial\;text-decoration-style:initial\;word-spacing:0px\;">Interested in hosting a networking event\, or learning how you can become a member spotlight at future Business After Hours?&nbsp\;</span></span></span></span></strong><br />\n<span style="color:#333333\;"><span style="font-family:arial\,sans-serif\;"><span style="font-size:10.5pt\;">Contact membership@thequietresorts.com or 302-539-2100.</span></span></span><br />\n&nbsp\;
LOCATION:The Salted Rim Margarita Bar & Grille 35553 Atlantic Ave Millville\, DE 19967
UID:e.2126.27810
SEQUENCE:3
DTSTAMP:20260420T094123Z
URL:http://business.thequietresorts.com/events/details/february-2024-business-after-hours-at-the-salted-rim-27810
END:VEVENT

END:VCALENDAR
