BEGIN:VCALENDAR
VERSION:2.0
PRODID:-//ChamberMaster//Event Calendar 2.0//EN
METHOD:PUBLISH
X-PUBLISHED-TTL:P3D
REFRESH-INTERVAL:P3D
CALSCALE:GREGORIAN
BEGIN:VEVENT
DTSTART:20240616T140000Z
DTEND:20240616T180000Z
X-MICROSOFT-CDO-ALLDAYEVENT:FALSE
SUMMARY:Father's Day Jazz Brunch Buffet
DESCRIPTION:Celebrate Father's Day at the Dickens Parlour Theatre with our Jazz Brunch Buffet. Feast on a delicious spread of all your Brunch favorites while being serenaded with the sounds of a live Jazz Band.
X-ALT-DESC;FMTTYPE=text/html:Celebrate Father&#39\;s Day at the Dickens Parlour Theatre with our Jazz Brunch Buffet. Feast on a delicious spread of all your Brunch favorites while being serenaded with the sounds of a live Jazz Band.&nbsp\;
LOCATION:Dickens Parlour Theatre 31810 Good Earth Lane Ocean View\, DE 19970
UID:e.2126.30138
SEQUENCE:3
DTSTAMP:20260420T104032Z
URL:http://business.thequietresorts.com/events/details/father-s-day-jazz-brunch-buffet-30138
END:VEVENT

END:VCALENDAR
