BEGIN:VCALENDAR
VERSION:2.0
PRODID:-//ChamberMaster//Event Calendar 2.0//EN
METHOD:PUBLISH
X-PUBLISHED-TTL:P3D
REFRESH-INTERVAL:P3D
CALSCALE:GREGORIAN
BEGIN:VEVENT
DTSTART;VALUE=DATE:20220406
DTEND;VALUE=DATE:20220426
TRANSP:TRANSPARENT
X-MICROSOFT-CDO-ALLDAYEVENT:TRUE
SUMMARY:Fashion Show
DESCRIPTION:Benefit-Bethany Beach Volunteer Fire Company Auxiliary presents: Fashion Show and Luncheon\, Fashions from Chico's & White House Black Market.
X-ALT-DESC;FMTTYPE=text/html:Benefit-Bethany Beach Volunteer Fire Company Auxiliary presents: Fashion Show and Luncheon\, Fashions from Chico&#39\;s &amp\; White House Black Market.
LOCATION:Bear Trap
UID:e.2126.23620
SEQUENCE:3
DTSTAMP:20260422T020003Z
URL:http://business.thequietresorts.com/events/details/fashion-show-23620
END:VEVENT

END:VCALENDAR
