BEGIN:VCALENDAR
VERSION:2.0
PRODID:-//ChamberMaster//Event Calendar 2.0//EN
METHOD:PUBLISH
X-PUBLISHED-TTL:P3D
REFRESH-INTERVAL:P3D
CALSCALE:GREGORIAN
BEGIN:VEVENT
DTSTART:20240605T120000Z
DTEND:20240605T130000Z
X-MICROSOFT-CDO-ALLDAYEVENT:FALSE
SUMMARY:Farmers' Market at Sea Colony 2024 Season Opening Ribbon Cutting
DESCRIPTION:The Farmers' Market at Sea Colony is celebrating their first market of the 2024 Season on Wednesday\, June 5th\, with a ribbon cutting ceremony!  The market is from 8:00AM - 12:00PM in the Sea Colony Marketplace parking lot\, and the ribbon will be cut promptly at market start at 8:00AM.  \n\n\n\nThe Famers' Market at Sea Colony is a nonprofit\, community-run farmers' market that follows the "producers-only" principle\, meaning that all vendors only sell products that they grow and/or produce within 125 miles of Bethany Beach!  The Farmers Market at Sea Colony is every Wednesday from June 5th through August 28th\, from 8:00AM - 12:00PM.
X-ALT-DESC;FMTTYPE=text/html:The Farmers&#39\; Market at Sea Colony is celebrating their first market of the 2024 Season on Wednesday\, June 5th\, with a ribbon cutting ceremony!&nbsp\; The market is from 8:00AM - 12:00PM in the Sea Colony Marketplace parking lot\, and the ribbon will be cut promptly at market start at 8:00AM.&nbsp\;&nbsp\;<br />\n<br />\nThe Famers&#39\; Market at Sea Colony is a nonprofit\, community-run farmers&#39\; market that follows the &quot\;producers-only&quot\; principle\, meaning that all vendors only sell products that they grow and/or produce within 125 miles of Bethany Beach!&nbsp\; The Farmers Market at Sea Colony is every Wednesday from June 5th through August 28th\, from 8:00AM - 12:00PM.&nbsp\;&nbsp\;
LOCATION:Rt. 1 at Sea Colony 33546 Market Pl. Bethany Beach\, DE 19930
UID:e.2126.30094
SEQUENCE:3
DTSTAMP:20260420T093244Z
URL:http://business.thequietresorts.com/events/details/farmers-market-at-sea-colony-2024-season-opening-ribbon-cutting-30094
END:VEVENT

END:VCALENDAR
